BEGIN:VCALENDAR
VERSION:2.0
PRODID:-//青森大冒険-イベントカレンダー情報とブログ- - ECPv6.15.20//NONSGML v1.0//EN
CALSCALE:GREGORIAN
METHOD:PUBLISH
X-ORIGINAL-URL:https://aomori-daibouken.com
X-WR-CALDESC:青森大冒険-イベントカレンダー情報とブログ- のイベント
REFRESH-INTERVAL;VALUE=DURATION:PT1H
X-Robots-Tag:noindex
X-PUBLISHED-TTL:PT1H
BEGIN:VTIMEZONE
TZID:Asia/Tokyo
BEGIN:STANDARD
TZOFFSETFROM:+0900
TZOFFSETTO:+0900
TZNAME:JST
DTSTART:20240101T000000
END:STANDARD
END:VTIMEZONE
BEGIN:VEVENT
DTSTART;TZID=Asia/Tokyo:20250105T100000
DTEND;TZID=Asia/Tokyo:20250105T120000
DTSTAMP:20260426T123436
CREATED:20241229T042824Z
LAST-MODIFIED:20250130T232007Z
UID:15970-1736071200-1736078400@aomori-daibouken.com
SUMMARY:青森市浪岡 あぴねす 新春もちつき会
DESCRIPTION:１月５日（日）１０：００～１２：００　参加無料！ \n\n\n\nつきたて熱々のお餅をお汁粉、きな粉餅にして提供します。 \n\n\n\nお餅が無くなり次第終了となります。ぜひお越しください。
URL:https://aomori-daibouken.com/event/15970
LOCATION:青森市浪岡交流センター あぴねす\, 〒038-1311 青森県青森市浪岡大字浪岡細田６１−２０
CATEGORIES:1月青森イベント,浪岡イベント,青森市イベント子供,青森市クーポン・お得情報
END:VEVENT
BEGIN:VEVENT
DTSTART;TZID=Asia/Tokyo:20250105T000000
DTEND;TZID=Asia/Tokyo:20250105T235959
DTSTAMP:20260426T123436
CREATED:20241227T003455Z
LAST-MODIFIED:20250106T005220Z
UID:15773-1736035200-1736121599@aomori-daibouken.com
SUMMARY:つがる市 イオンモールつがる柏 それいけ！アンパンマン ショー
DESCRIPTION:□■観覧無料■□『クリームパンダとおかしな修行！？』みんな見に来てね　 \n\n\n\n※イベントは予告無く、内容の変更・イベント中止となる場合がございます。予めご了承ください。 \n\n\n\n日程2025/01/05 (日)時間①11：00～②14：00～場所１階 シャコちゃんコート\n\n\n\n \nhttps://tsugarukashiwa-aeonmall.com/news/event/2119
URL:https://aomori-daibouken.com/event/15773
LOCATION:イオンモールつがる柏\, 〒038-3107 青森県つがる市柏稲盛幾世４１
CATEGORIES:1月青森イベント,★青森県メインイベント,つがる市イベント,五所川原市イベント,青森県 イベント 子ども
ATTACH;FMTTYPE=image/jpeg:https://aomori-daibouken.com/wp-content/uploads/2024/12/thumbW480_photo1-2.jpg
END:VEVENT
BEGIN:VEVENT
DTSTART;TZID=Asia/Tokyo:20250104T140000
DTEND;TZID=Asia/Tokyo:20250104T143000
DTSTAMP:20260426T123436
CREATED:20241224T020109Z
LAST-MODIFIED:20250130T232007Z
UID:15434-1735999200-1736001000@aomori-daibouken.com
SUMMARY:青森市浅虫水族館「ここるの日」1月毎週土曜日
DESCRIPTION:トンネル水槽スクリーン前に当館マスコットキャラクター「ここる」が登場します。「ここる」と触れ合ったり、写真や動画の記念撮影ができます（お客様のカメラをお預かりして撮影することも可能です。動画も希望する際はその旨お知らせください。）。ぜひ「ここる」に会いに来てください！ \n\n\n\n【開催日】令和7年1月の毎週土曜日（4、11、18、25）14:00～14:30【場　所】トンネル水槽前 \nhttps://asamushi-aqua.com/news/notice/6045
URL:https://aomori-daibouken.com/event/15434
LOCATION:青森県営浅虫水族館\, 〒039-3501 青森県青森市浅虫馬場山１−２５
CATEGORIES:1月青森イベント,★青森県メインイベント,浅虫,青森市イベント子供,青森県 イベント 子ども
ATTACH;FMTTYPE=image/jpeg:https://aomori-daibouken.com/wp-content/uploads/2024/12/ここるの日バナーb-1.jpg
END:VEVENT
BEGIN:VEVENT
DTSTART;TZID=Asia/Tokyo:20250104T000000
DTEND;TZID=Asia/Tokyo:20250131T235959
DTSTAMP:20260426T123436
CREATED:20250104T054155Z
LAST-MODIFIED:20250105T130042Z
UID:16282-1735948800-1738367999@aomori-daibouken.com
SUMMARY:青森 イオン 5%OFFクーポン
DESCRIPTION:概要 \n\n\n\niAEONアプリのダウンロード、会員登録と対象店舗のお気に入り登録でiAEONアプリ上でクーポンを配信いたします。 \n\n\n\n対象店舗\n\n\n\n東北地区のイオン／イオンスタイル／イオンエクスプレス／マックスバリュ／マックスバリュエクスプレス※ザ・ビッグ、イオンモール・専門店は対象外となります。 \n\n\n\n期間\n\n\n\n2025年1月4日（土）～31日（金）　※クーポンはiAEONアプリ上で配信されます。　※既に会員登録済みの方も対象となります。　 \n\n\n\nクーポンの内容\n\n\n\n食料品・衣料品・暮らしの品のお買物でご利用いただける5％OFFクーポンクーポンは期間中、お好きな日1日限りご利用いただけます。 \n\n\n\n■お支払い方法イオンカードのクレジット払い・AEONPay・電子マネーWAONでのお支払い限り利用可能 \n\n\n\n■対象店舗東北地区のイオン／イオンスタイル／イオンエクスプレス／マックスバリュ／マックスバリュエクスプレス※ザ・ビッグ、イオンモール・専門店は対象外となります。 \n\n\n\n■割引対象外商品ビール・発泡酒・第3のビール/酒ギフトなどの酒類/お酒売場の飲料、おつまみ等/たばこ/切手/印紙/商品券/ イオンギフトカード/ギフト券/WAON発行手数料/うれしーど/書籍、雑誌/ゲーム機本体/一部ブランド商品/調剤薬品/ カウンセリング化粧品/キャンドゥ商品/マイバッグ・マイバスケット/早期予約商品/リフォームコーナー/ 携帯電話サービス料金/工事費・配達代金等サービス料金/一部銘店品/その他、特定の商品は除きます。 \n\n\n\n※他の割引企画との併用はできません。※イオン東北ネットスーパー、イオン東北オンラインなどオンラインショップは利用対象外となります。 \n\n\n\nクーポンの利用方法\n\n\n\n【STEP1】お気に入り店舗のホーム画面にクーポンが付与されます。　　　　　東北地区のイオン・イオンスタイル・イオンエクスプレス・マックスバリュ・マックスバリュエクスプレス店舗の中から設定ください。　　　　　【STEP2】対象のクーポンを『選択中』にします。【STEP3】レジにて会員コードをご提示・またはスキャン(セルフレジの場合)してください。 \n\n\n\n\n\n\n\nご利用上の注意\n\n\n\n・クーポンの配布は1アカウントあたり1回のみとなります。・複数の店舗をお気に入り店舗登録してもクーポンの配布は1回のみとなります。・クーポンのスクリーンショットではクーポンの適用が出来ません。必ずアプリ内でクーポン登録後会員コードをご提示ください。・期間前にiAEONダウンロード・会員登録・お気に入り登録したお客さまも対象となります。・イオンモールは対象外となります。・iAEONのご利用が可能なスマートフォンをお持ちのお客さまが対象となります。　（iPhoneをお持ちの方：iOS13.0以上、Android端末をお持ちの方：Android7.0以上、タブレットは推奨環境外です。一部の端末に関しては対応OSバージョン以上でもインストールできない場合や動作しない場合がございます。）・iAEONアプリご利用のためSMSを受信可能な携帯電話番号が必要です。・本キャンペーン内容は予告なく変更・中止・延長となる場合がございます。 \nhttps://aeontohoku.co.jp/pages/202501otoshidama_app
URL:https://aomori-daibouken.com/event/16282
LOCATION:イオン\, イオン
CATEGORIES:五所川原初売りチラシ2025,八戸初売りチラシ2025,八戸市クーポン,弘前初売りチラシ2025,弘前市クーポン,青森お得情報,青森チラシ,青森市クーポン・お得情報,青森市スーパーチラシ,青森市初売りチラシ2025,青森県初売り・福袋チラシ2025
ATTACH;FMTTYPE=image/jpeg:https://aomori-daibouken.com/wp-content/uploads/2025/01/2025iAEONotoshidama.jpg
END:VEVENT
BEGIN:VEVENT
DTSTART;TZID=Asia/Tokyo:20250104T000000
DTEND;TZID=Asia/Tokyo:20250130T235959
DTSTAMP:20260426T123436
CREATED:20250105T022604Z
LAST-MODIFIED:20250119T011535Z
UID:16331-1735948800-1738281599@aomori-daibouken.com
SUMMARY:青森キッチンカー palm cafe パームカフェ 2025年1月営業カレンダー
DESCRIPTION:この投稿をInstagramで見る            palm cafeパームカフェ(@palmcafe2022)がシェアした投稿
URL:https://aomori-daibouken.com/event/16331
LOCATION:青森県内\, 青森県
END:VEVENT
BEGIN:VEVENT
DTSTART;TZID=Asia/Tokyo:20250104T000000
DTEND;TZID=Asia/Tokyo:20250126T235959
DTSTAMP:20260426T123436
CREATED:20250105T021657Z
LAST-MODIFIED:20250119T011801Z
UID:16312-1735948800-1737935999@aomori-daibouken.com
SUMMARY:青森キッチンカー CORORON 2025年1月営業カレンダー
DESCRIPTION:この投稿をInstagramで見る            CORORON(@sweets_cafe_cororon)がシェアした投稿
URL:https://aomori-daibouken.com/event/16312
LOCATION:青森県内\, 青森県
END:VEVENT
BEGIN:VEVENT
DTSTART;TZID=Asia/Tokyo:20250104T000000
DTEND;TZID=Asia/Tokyo:20250113T235959
DTSTAMP:20260426T123436
CREATED:20241225T003415Z
LAST-MODIFIED:20241225T003416Z
UID:15482-1735948800-1736812799@aomori-daibouken.com
SUMMARY:株式会社スズキ自販青森 初売り2025
DESCRIPTION:開催期間限定ワンプライス車 \n\n\n\n\n\n\n\nスタッドレスタイヤ付きの \n\n\n\nお得なワンプライス車 \n\n\n\n是非この機会に \n\n\n\nご検討ください!!! \n\n\n\n【新車ご成約特典】 \n\n\n\n\n\n\n\n【ご成約プレゼント】 \n\n\n\n\n\n\n\nさらに!!! \n\n\n\n新車をご成約の方から \n\n\n\n抽選で50名様に \n\n\n\n豪華商品をプレゼント!! \n\n\n\n\n\n\n\n\n\n\n\nA～Jは各１名様 \n\n\n\nK　ハンガリー　高級紅白ワインセット　5名様 \n\n\n\nL　スズキオリジナル　湯のみ　10枚様 \n\n\n\nM　スズキオリジナル　キャリイトートバッグ　25名様 \n\n\n\n【ご商談プレゼント】 \n\n\n\n\n\n\n\n【ご来場プレゼント】 \n\n\n\n\n\n\n\n※ 来場プレゼントは数に限りがございます \n\n\n\n※ 品切れの際はご容赦ください \n\n\n\nスズキ自販青森各拠店のブログも \n\n\n\nチェック \n\n\n\n【スズキアリーナ　　　　青森西】 \n\n\n\n【スズキアリーナ　　　青森三内】 \n\n\n\n【スズキアリーナ　青森観光通り】 \n\n\n\n【スズキアリーナ　　　弘前神田】 \n\n\n\n【スズキアリーナ　　五所川原東】 \n\n\n\n【スズキアリーナ　　　　　類家】 \n\n\n\n【スズキアリーナ　　　　長苗代】 \n\n\n\n【スズキアリーナ　　十和田中央】 \n\n\n\n【スズキアリーナ　　　　　下北】 \n\n\n\n皆さまのご来店を \n\n\n\n社員一同心より \n\n\n\nお待ちしております \nhttps://www.suzuki.co.jp/dealer/suzuki-j-aomori/news/detail/?id=38222
URL:https://aomori-daibouken.com/event/15482
LOCATION:株式会社スズキ自販青森\, 株式会社スズキ自販青森
CATEGORIES:五所川原初売りチラシ2025,八戸初売りチラシ2025,弘前初売りチラシ2025,青森市初売りチラシ2025
ATTACH;FMTTYPE=image/jpeg:https://aomori-daibouken.com/wp-content/uploads/2024/12/【HPトップ用】_初売り_1217_90ae153c-bcdf-11ef-aff4-fa163e794ba5.jpg
END:VEVENT
BEGIN:VEVENT
DTSTART;TZID=Asia/Tokyo:20250104T000000
DTEND;TZID=Asia/Tokyo:20250112T235959
DTSTAMP:20260426T123436
CREATED:20241223T132433Z
LAST-MODIFIED:20250108T022033Z
UID:15399-1735948800-1736726399@aomori-daibouken.com
SUMMARY:青森三菱自動車 初売り2025 青森市・弘前・八戸・十和田・むつ・五所川原
DESCRIPTION:いつもありがとうございます新春初売りフェアを2025年1月4日(土)から開催します!! \n\n\n\n\n\n\n\n展示会開催期間2025年1月4日(土)～12日(日)情報は以下の通り \n\n\n\n①新車ご成約特典 装備４点セットを特別価格にて販売!!②新車ご成約特典 アウトランダー・トライトン オプション10万円分プレゼント!!\n\n\n\n③新車ご成約特典 ビール1ケースまたは はれわたり5kg×2 プレゼント!!\n\n\n\n④新車をご成約された方の中から抽選で豪華景品が当たる!!\n\n\n\n⑤冬の装備がセットのお買い得車!  特選福袋車をご用意!\n\n\n\n\n\n\n\n⑥ご来場で福箱をプレゼント!!\n\n\n\n⑦今だけ!黒デリ丸・白デリ丸のぬいぐるみが貰える!\n\n\n\n大事なことなので２回お伝えします！\n\n\n\n青森三菱新春初売りフェアは2025年1月4日(土)～12日(日)開催ぜひ、ご家族ご友人とご一緒にお越しください！お待ちしております☺ \nhttps://www.aomori-mitsubishi-motor-sales.com/info/202405%E3%82%A2%E3%82%A6%E3%83%88%E3%83%89%E3%82%A2%E3%83%95%E3%82%A7%E3%82%A2/
URL:https://aomori-daibouken.com/event/15399
LOCATION:青森三菱自動車\, 青森三菱自動車
CATEGORIES:八戸初売りチラシ2025,弘前初売りチラシ2025,青森市初売りチラシ2025,青森県初売り・福袋チラシ2025
ATTACH;FMTTYPE=image/jpeg:https://aomori-daibouken.com/wp-content/uploads/2024/12/2c6960e2384f11d1050e55aee3b42668-768x543-1.jpg
END:VEVENT
BEGIN:VEVENT
DTSTART;TZID=Asia/Tokyo:20250104T000000
DTEND;TZID=Asia/Tokyo:20250107T235959
DTSTAMP:20260426T123436
CREATED:20241228T040131Z
LAST-MODIFIED:20241228T040132Z
UID:15879-1735948800-1736294399@aomori-daibouken.com
SUMMARY:青森市 ワークショップレイバー青森店 初売り2025
DESCRIPTION:この投稿をInstagramで見る            レイバー青森店(@laber_aomori)がシェアした投稿
URL:https://aomori-daibouken.com/event/15879
CATEGORIES:青森市クーポン・お得情報,青森市初売りチラシ2025
ATTACH;FMTTYPE=image/jpeg:https://aomori-daibouken.com/wp-content/uploads/2024/12/スクリーンショット-2024-12-28-125909.jpg
END:VEVENT
BEGIN:VEVENT
DTSTART;TZID=Asia/Tokyo:20250104T000000
DTEND;TZID=Asia/Tokyo:20250105T235959
DTSTAMP:20260426T123436
CREATED:20241227T005133Z
LAST-MODIFIED:20241227T005134Z
UID:15779-1735948800-1736121599@aomori-daibouken.com
SUMMARY:六ケ所原燃PRセンター 豪華お年玉プレゼント
DESCRIPTION:2025年1月4日（土）、5日（日）の2日間、毎年恒例のイベント『新春🎍豪華お年玉プレゼント！』を開催します😊最新のゲームソフトや家電の他に、青森県産の食材を使ったお菓子など様々な景品をご用意しています！新年の運試しに、是非PRセンターにお越しください！ \n\n\n\n\n\n\n\n \nhttps://6prc.jp/event/
URL:https://aomori-daibouken.com/event/15779
LOCATION:六ケ所原燃PRセンター\, 〒039-3212 青森県上北郡六ヶ所村尾駮上尾駮２−４２
CATEGORIES:六ヶ所イベント,青森お得情報,青森県 イベント 子ども,青森県初売り・福袋チラシ2025
ATTACH;FMTTYPE=image/jpeg:https://aomori-daibouken.com/wp-content/uploads/2024/12/241120_162309486-3_tmb.jpg
END:VEVENT
BEGIN:VEVENT
DTSTART;TZID=Asia/Tokyo:20250104T000000
DTEND;TZID=Asia/Tokyo:20250104T235959
DTSTAMP:20260426T123436
CREATED:20250105T045314Z
LAST-MODIFIED:20250108T013054Z
UID:16375-1735948800-1736035199@aomori-daibouken.com
SUMMARY:道の駅 はしかみ Smile Flower オープン
DESCRIPTION:この投稿をInstagramで見る            🍞【一本堂・白山台店】🍎(@ippondo_hakusandai)がシェアした投稿
URL:https://aomori-daibouken.com/event/16375
LOCATION:道の駅 はしかみ\, 〒039-1201 青森県三戸郡階上町道仏耳ケ吠３−３
CATEGORIES:1月青森イベント,青森県道の駅イベント,青森県開店
ATTACH;FMTTYPE=image/jpeg:https://aomori-daibouken.com/wp-content/uploads/2025/01/472215262_827056352834377_335114541184084727_n.jpg
END:VEVENT
BEGIN:VEVENT
DTSTART;TZID=Asia/Tokyo:20250104T000000
DTEND;TZID=Asia/Tokyo:20250104T235959
DTSTAMP:20260426T123436
CREATED:20250104T024507Z
LAST-MODIFIED:20250108T013055Z
UID:16264-1735948800-1736035199@aomori-daibouken.com
SUMMARY:青森市浪岡 道草庵あぴねす店 オープン
DESCRIPTION:日時:2025年1月4日(土)　11:00～場所:青森市浪岡交流センター「あぴねす」 \n\n\n\n浪岡駅に併設されている青森市浪岡交流センター「あぴねす」に、道の駅なみおかアップルヒルの「道草庵あぴねす店」がオープンいたします。またオープン記念として、1/4(土)・5(日)の2日間で、そば・うどん・カレーをご注文の方限定200名様へ、当日からご利用できるコーヒーorジュースの引換券をプレゼントいたします。(なくなり次第終了) \n\n\n\n皆さまのお越しをお待ちしております。 \nhttps://www.applehill.co.jp/
URL:https://aomori-daibouken.com/event/16264
LOCATION:青森市浪岡交流センター あぴねす\, 〒038-1311 青森県青森市浪岡大字浪岡細田６１−２０
CATEGORIES:1月青森イベント,浪岡イベント,青森市開店
ATTACH;FMTTYPE=image/jpeg:https://aomori-daibouken.com/wp-content/uploads/2025/01/01031459_67777cd3cb1db.jpg
END:VEVENT
BEGIN:VEVENT
DTSTART;TZID=Asia/Tokyo:20250104T000000
DTEND;TZID=Asia/Tokyo:20250104T235959
DTSTAMP:20260426T123436
CREATED:20241226T065747Z
LAST-MODIFIED:20250106T005222Z
UID:15713-1735948800-1736035199@aomori-daibouken.com
SUMMARY:つがる市 イオンモールつがる柏 わんだふるぷりきゅあ！ショー
DESCRIPTION:https://tsugarukashiwa-aeonmall.com/news/event/2120
URL:https://aomori-daibouken.com/event/15713
LOCATION:イオンモールつがる柏\, 〒038-3107 青森県つがる市柏稲盛幾世４１
CATEGORIES:1月青森イベント,★青森県メインイベント,つがる市イベント,青森県 イベント 子ども
ATTACH;FMTTYPE=image/jpeg:https://aomori-daibouken.com/wp-content/uploads/2024/12/thumbW480_photo1.jpg
END:VEVENT
BEGIN:VEVENT
DTSTART;TZID=Asia/Tokyo:20250103T000000
DTEND;TZID=Asia/Tokyo:20250131T235959
DTSTAMP:20260426T123436
CREATED:20250105T022818Z
LAST-MODIFIED:20250119T011704Z
UID:16337-1735862400-1738367999@aomori-daibouken.com
SUMMARY:青森キッチンカー HAPPY SWING Cafe クレープ 2025年1月営業カレンダー
DESCRIPTION:この投稿をInstagramで見る            HAPPY SWING Cafe 〜青森市クレープ移動販売(@happyswing567)がシェアした投稿
URL:https://aomori-daibouken.com/event/16337
LOCATION:青森県内\, 青森県
END:VEVENT
BEGIN:VEVENT
DTSTART;TZID=Asia/Tokyo:20250103T000000
DTEND;TZID=Asia/Tokyo:20250126T235959
DTSTAMP:20260426T123436
CREATED:20250111T010752Z
LAST-MODIFIED:20250119T011643Z
UID:16831-1735862400-1737935999@aomori-daibouken.com
SUMMARY:青森キッチンカー ハウオリカフェ 2025年1月営業カレンダー
DESCRIPTION:この投稿をInstagramで見る            Hau'oli CAFE ハウオリ・カフェ(@hauolicafe0404)がシェアした投稿
URL:https://aomori-daibouken.com/event/16831
LOCATION:青森県内\, 青森県
END:VEVENT
BEGIN:VEVENT
DTSTART;TZID=Asia/Tokyo:20250103T000000
DTEND;TZID=Asia/Tokyo:20250126T235959
DTSTAMP:20260426T123436
CREATED:20250105T022312Z
LAST-MODIFIED:20250119T011732Z
UID:16325-1735862400-1737935999@aomori-daibouken.com
SUMMARY:青森キッチンカー 移動食堂 味里 2025年1月営業カレンダー
DESCRIPTION:この投稿をInstagramで見る            移動食堂 味里(@idoushokudou.misato)がシェアした投稿
URL:https://aomori-daibouken.com/event/16325
LOCATION:青森県内\, 青森県
END:VEVENT
BEGIN:VEVENT
DTSTART;TZID=Asia/Tokyo:20250103T000000
DTEND;TZID=Asia/Tokyo:20250113T235959
DTSTAMP:20260426T123436
CREATED:20250117T004627Z
LAST-MODIFIED:20250208T031705Z
UID:17135-1735862400-1736812799@aomori-daibouken.com
SUMMARY:青森市 八戸市 コストコ再販店 くまさんマーケット 初売り
DESCRIPTION:この投稿をInstagramで見る            Mr.くまさんマーケット|八戸コストコ再販店(@kumasan_market)がシェアした投稿
URL:https://aomori-daibouken.com/event/17135
LOCATION:くまさんマーケット\, くまさんマーケット
CATEGORIES:八戸市クーポン,八戸市コストコ,青森コストコ,青森市クーポン・お得情報,青森市コストコ
ATTACH;FMTTYPE=image/jpeg:https://aomori-daibouken.com/wp-content/uploads/2025/01/472266346_1289117198953076_8644517764287913625_n.jpg
END:VEVENT
BEGIN:VEVENT
DTSTART;TZID=Asia/Tokyo:20250103T000000
DTEND;TZID=Asia/Tokyo:20250105T235959
DTSTAMP:20260426T123436
CREATED:20250103T003508Z
LAST-MODIFIED:20250105T130014Z
UID:16170-1735862400-1736121599@aomori-daibouken.com
SUMMARY:青森市 ラセラ初売り福袋チラシ2025
DESCRIPTION:https://chirashi.line.me/flyers/657ffc3a3b54907006ddb28d/676d19b3921a3b0cc99a72c6?chargeType=aspchirashi.line.me
URL:https://aomori-daibouken.com/event/16170
LOCATION:ラ・セラ 東バイパスショッピングセンター\, 〒030-0912 青森県青森市八重田４丁目２−１
CATEGORIES:青森お得情報,青森チラシ,青森市クーポン・お得情報,青森市スーパーチラシ,青森市初売りチラシ2025
END:VEVENT
BEGIN:VEVENT
DTSTART;TZID=Asia/Tokyo:20250103T000000
DTEND;TZID=Asia/Tokyo:20250103T235959
DTSTAMP:20260426T123436
CREATED:20250210T230857Z
LAST-MODIFIED:20250210T230859Z
UID:19127-1735862400-1735948799@aomori-daibouken.com
SUMMARY:八戸市 まじかるワンだふる! オープン
DESCRIPTION:良すぎる🥰#まじかるわんだふる #まじかるぱんだ#コンカフェ#アニメ#ボカロ#犬#いぬ pic.twitter.com/kRNku4Wn0b — ⿻わらび₺ƾ⿻ (@Na29so8bjt4171) January 3\, 2025
URL:https://aomori-daibouken.com/event/19127
LOCATION:まじかる☆ワンだふる！\, 青森県八戸市長横町2 ポストコアビル3階
CATEGORIES:八戸市イベント 今日 明日 今週末 2025,八戸市開店
END:VEVENT
BEGIN:VEVENT
DTSTART;TZID=Asia/Tokyo:20250103T000000
DTEND;TZID=Asia/Tokyo:20250103T235959
DTSTAMP:20260426T123436
CREATED:20250117T005008Z
LAST-MODIFIED:20250117T005009Z
UID:17140-1735862400-1735948799@aomori-daibouken.com
SUMMARY:十和田市 コストコ再販店 ITTOKO 初売り福袋
DESCRIPTION:この投稿をInstagramで見る            ITTOKO(@ittoko_towadasi.open)がシェアした投稿
URL:https://aomori-daibouken.com/event/17140
LOCATION:ITTOKO\, 〒034-0001 青森県十和田市三本木千歳森１５５−５
CATEGORIES:青森コストコ,青森県初売り・福袋チラシ2025
ATTACH;FMTTYPE=image/jpeg:https://aomori-daibouken.com/wp-content/uploads/2025/01/472231720_950873539818989_5889304256035750751_n.jpg
END:VEVENT
BEGIN:VEVENT
DTSTART;TZID=Asia/Tokyo:20250103T000000
DTEND;TZID=Asia/Tokyo:20250103T235959
DTSTAMP:20260426T123436
CREATED:20241226T235530Z
LAST-MODIFIED:20250106T005222Z
UID:15749-1735862400-1735948799@aomori-daibouken.com
SUMMARY:弘前市ヒロロ ジョナゴールド＆アルプスおとめミニライブ
DESCRIPTION:観覧無料！ \n\n\n\n開催日時：2025年1月3日(金)　　　　　1回目 11：00～　　　　　2回目 13：00～　　　　　※2回目終了後のみ特典会を行います。開催場所：3階　イベントスペース \n\n\n\n＜お子様・妊婦さんエリア＞小学生以下のお子様と保護者、妊娠中の方などのみご入場いただける前方エリアを設けます。イスはありませんが、自由にお座りいただけます。 \n\n\n\n＜優先入場エリア＞※前方自由イス席1月3日(木)10:00～2階TSUTAYABOOKSTOREにて”RINGOMUSIIC”関連商品をお買上のお客様に入場整理券を1枚お渡しします。購入金額に関わらず、1会計1枚のお渡しとなります。 \nhttp://www.hiroro.co.jp/event_details.html?id=621
URL:https://aomori-daibouken.com/event/15749
LOCATION:ヒロロ(HIRORO)\, 〒036-8003 青森県弘前市駅前町９−２０
CATEGORIES:1月青森イベント,★青森県メインイベント,弘前市イベント 今日 明日 土手町 2025
ATTACH;FMTTYPE=image/jpeg:https://aomori-daibouken.com/wp-content/uploads/2024/12/event_img_1_00000621.jpg
END:VEVENT
BEGIN:VEVENT
DTSTART;TZID=Asia/Tokyo:20250102T000000
DTEND;TZID=Asia/Tokyo:20250228T235959
DTSTAMP:20260426T123436
CREATED:20250109T130758Z
LAST-MODIFIED:20250210T061053Z
UID:16770-1735776000-1740787199@aomori-daibouken.com
SUMMARY:弘前市 アップルロードクラフト展出展者募集2025 青森ワークショップ・マルシェ・グルメイベント
DESCRIPTION:第2943号2025年1月2日 \n\n\n\n2025年度　アップルロードクラフト展出展者募集開始致します。 \n\n\n\n各　位　殿弘あ第25―0101号印省略令和7年1月吉日 \n\n\n\n第8回　アップルロードクラフト展出展者募集のお知らせ \n\n\n\n拝啓　昨年のクラフト展では、お客様と参加頂いた皆様のご協力のもと無事開催出来ました事をあらためて、お礼申し上げます。今年も、スタッフ一同気を抜く事なく準備を進めてまいりますので宜しくお願い致します。敬具 \n\n\n\nアップルロードクラフト展概要 \n\n\n\n□日時　令和　7年6月14日(土曜日)　午前10時～午後5時6月15日(日曜日)　午前9時～午後4時　(両日雨天決行)□場所　青森県弘前市小沢広野226-24番地　英国貴族の館　アップルロードクラフト展　特設会場 \n\n\n\n□主催　アップルロードクラフト展実行委員会　　　　　 \n\n\n\n(0172)87-8888代表 \n\n\n\n□予定後援　・陸奥新報　・東奧日報　　・アップルウエーブ　・ATV青森テレビ　・ABA青森朝日放送・RAB青森放送　・弘前市教育委員会　・弘前市小沢三地区町会 \n\n\n\n□募集参加者人数　・クラフト作家　90店舗　・ワークショップ10店舗　・飲食部門20店舗・ファーマーズマーケット(地域農家限定)　5店舗　合計125店舗 \n\n\n\n□参加料金+事務負担金　・作家　・ワークショップ・ファーマーズマーケット　・1区画8.000円+1.000円　・飲食部門12.000円+1.000円□区画　3ｍ×3ｍ　(ブース地形　芝生)　※事務負担金は選考結果発表後参加費と一緒に入金してください。※1日のみの参加はできません!!□(申し込み締め切り日)・2025年2月28日金曜日必着　　　※お送り頂いた写真は返却いたしません。・応募は応募用紙を利用するか(全国クラフトウェア)HP http://tsukoubow.gozaru.jp/craftlist.html　より情報を確認し印刷してご利用ください。又はアップルロードクラフト展のフェースブックから情報を確認してください。 \n\n\n\n□最終選考結果は3月5日(水)までにSMSショートメール又は電話にてお知らせ致します。※入金確認後、会場のレイアウト、駐車場のご案内、クラフト展フライヤーを郵送致します。 \n\n\n\n□ご入金方法(締め切り日)・ご入金は、お近くの銀行ATMか全国のコンビニのATMにて3月17日(月)までに指定口座へお手続きをしてください。 \n\n\n\n■お問合せお申込みはアップルロード・クラフト展　実行委員会までお電話にてお問合せください。・電話　0172-87-8888　（代表）・事務局携帯　090-3134-6566・ＦＡＸ0172-55-7076・　E-MAIL wspcojp@tky2.3web.ne.jpでの申し込み(携帯にて可)　事務局担当　渡邉　 \n\n\n\n(参加/出展注意事項)※会場内でのアルコール類の販売は禁止します　■その他※テントは風で飛ばされないよう十分な重りをつけてください。　 \n\n\n\n■当日各ブースを回り本人の確認を致します。物品会場搬入時間は6：00～ですが、開催1時間前には会場よりお車を出して指定の駐車場にお止めください。(前日搬入は事前の電話での許可が必要です。） \n\n\n\n■当日弘前消防署の担当者が飲食に関しては消火器が備え付けているか巡回しますので消火器は必ず用意してください。 \n\n\n\n \nhttps://www.facebook.com/appleroad.craft
URL:https://aomori-daibouken.com/event/16770
LOCATION:英国貴族の館アグリインホリデー\, 〒036-8243 青森県弘前市小沢広野２２６−２４
CATEGORIES:青森県クラフトハンドメイドイベント2025 募集
END:VEVENT
BEGIN:VEVENT
DTSTART;TZID=Asia/Tokyo:20250102T000000
DTEND;TZID=Asia/Tokyo:20250131T235959
DTSTAMP:20260426T123436
CREATED:20250105T121614Z
LAST-MODIFIED:20250119T011825Z
UID:16413-1735776000-1738367999@aomori-daibouken.com
SUMMARY:青森キッチンカー ココイチ青森大野店 2025年1月営業カレンダー
DESCRIPTION:2025年1月のキッチンカーのスケジュール変更あり。よろしくお願い致します。 pic.twitter.com/zEvH093XPJ — ココイチ青森大野店キッチンカー (@aomorioonoKC) January 11\, 2025
URL:https://aomori-daibouken.com/event/16413
LOCATION:青森県内\, 青森県
END:VEVENT
BEGIN:VEVENT
DTSTART;TZID=Asia/Tokyo:20250102T000000
DTEND;TZID=Asia/Tokyo:20250131T235959
DTSTAMP:20260426T123436
CREATED:20250102T051534Z
LAST-MODIFIED:20250110T235257Z
UID:16162-1735776000-1738367999@aomori-daibouken.com
SUMMARY:業務スーパー チラシ 青森市 弘前 八戸 十和田 むつ 初売り福袋2025
DESCRIPTION:新年あけましておめでとうございます。本年もよろしくお願い致します。2025年最初の大売り出し　全て数量限定の大奉仕！! \n\n\n\n無くなり次第終了となりますので、ぜひぜひご来店ください！セール期間：2025年1月2日（木）～ 2025年1月5日（日）　青森地区のみとなります。※1月2日、3日は10時開店、4日より通常営業となります。 \nhttps://www.sanwado-group.com/2098/
URL:https://aomori-daibouken.com/event/16162
LOCATION:業務スーパー新田店\, 〒038-0001 青森県青森市新田
CATEGORIES:青森チラシ,青森市クーポン・お得情報,青森市スーパーチラシ,青森市初売りチラシ2025
ATTACH;FMTTYPE=image/jpeg:https://aomori-daibouken.com/wp-content/uploads/2025/01/sb_2025_hatsuuri-scaled-1.jpg
END:VEVENT
BEGIN:VEVENT
DTSTART;TZID=Asia/Tokyo:20250102T000000
DTEND;TZID=Asia/Tokyo:20250126T235959
DTSTAMP:20260426T123436
CREATED:20250105T022036Z
LAST-MODIFIED:20250119T011845Z
UID:16319-1735776000-1737935999@aomori-daibouken.com
SUMMARY:青森キッチンカー Fruits Kitchen RONRON 2025年1月営業カレンダー
DESCRIPTION:この投稿をInstagramで見る            Fruits Kitchen RONRON(@fruits_kitchen_ronron)がシェアした投稿
URL:https://aomori-daibouken.com/event/16319
LOCATION:青森県内\, 青森県
END:VEVENT
BEGIN:VEVENT
DTSTART;TZID=Asia/Tokyo:20250102T000000
DTEND;TZID=Asia/Tokyo:20250113T235959
DTSTAMP:20260426T123436
CREATED:20241229T053132Z
LAST-MODIFIED:20250108T022034Z
UID:15984-1735776000-1736812799@aomori-daibouken.com
SUMMARY:ガリバー45号八戸店・青森観光通り店合同初売り2025
DESCRIPTION:
URL:https://aomori-daibouken.com/event/15984
LOCATION:ガリバー\, ガリバー
CATEGORIES:八戸初売りチラシ2025,青森チラシ,青森市初売りチラシ2025
ATTACH;FMTTYPE=image/jpeg:https://aomori-daibouken.com/wp-content/uploads/2024/12/client_upload_130542_173526301887830059706169.jpg
END:VEVENT
BEGIN:VEVENT
DTSTART;TZID=Asia/Tokyo:20250102T000000
DTEND;TZID=Asia/Tokyo:20250113T235959
DTSTAMP:20260426T123436
CREATED:20241226T023513Z
LAST-MODIFIED:20241226T023608Z
UID:15630-1735776000-1736812799@aomori-daibouken.com
SUMMARY:六ヶ所村 スパハウスろっかぽっか 新春お年玉企画イベント
DESCRIPTION:https://roccapocca.com/event/?sc=241218_100819011\n\n\n\n\n\n429 Too Many Requestsaomori-daibouken.com
URL:https://aomori-daibouken.com/event/15630
LOCATION:スパハウス ろっかぽっか\, 〒039-3213 青森県上北郡六ヶ所村鷹架内子内３３７
CATEGORIES:六ヶ所イベント,青森県初売り・福袋チラシ2025
ATTACH;FMTTYPE=image/jpeg:https://aomori-daibouken.com/wp-content/uploads/2024/12/241218_100819011-0_1.jpg
END:VEVENT
BEGIN:VEVENT
DTSTART;TZID=Asia/Tokyo:20250102T000000
DTEND;TZID=Asia/Tokyo:20250113T235959
DTSTAMP:20260426T123436
CREATED:20241220T073039Z
LAST-MODIFIED:20250114T014429Z
UID:15134-1735776000-1736812799@aomori-daibouken.com
SUMMARY:青森市 2025 ねぶたの家 ワ・ラッセ お正月イベント
DESCRIPTION:１月２日（木）から１３日（月・祝）まで様々なイベントを開催いたします。ぜひご来館下さい。　※１２月３１日（日）１月１日（月）は休館日です。 \nhttps://www.nebuta.jp/warasse/event/2024/12/2022.html
URL:https://aomori-daibouken.com/event/15134
LOCATION:ねぶたの家ワ・ラッセ西の広場\, 〒030-0803 青森県青森市安方１丁目
CATEGORIES:ねぶた祭り2025,青森市イベント 今日 明日 今週末 2025
ATTACH;FMTTYPE=image/jpeg:https://aomori-daibouken.com/wp-content/uploads/2024/12/20241220090401.jpg
END:VEVENT
BEGIN:VEVENT
DTSTART;TZID=Asia/Tokyo:20250102T000000
DTEND;TZID=Asia/Tokyo:20250108T235959
DTSTAMP:20260426T123436
CREATED:20241227T001736Z
LAST-MODIFIED:20241227T001807Z
UID:15764-1735776000-1736380799@aomori-daibouken.com
SUMMARY:八戸市 おいらせ町 ドンドンダウン 初売り2025
DESCRIPTION:この投稿をInstagramで見る            ドンドンダウンオンウェンズデイおいらせ下田店(@dondondown_oirase)がシェアした投稿
URL:https://aomori-daibouken.com/event/15764
LOCATION:DonDonDown\, DonDonDown
CATEGORIES:八戸初売りチラシ2025,八戸市クーポン
ATTACH;FMTTYPE=image/jpeg:https://aomori-daibouken.com/wp-content/uploads/2024/12/471511734_18441013375075358_1508568133982709028_n.jpg
END:VEVENT
BEGIN:VEVENT
DTSTART;TZID=Asia/Tokyo:20250102T000000
DTEND;TZID=Asia/Tokyo:20250107T235959
DTSTAMP:20260426T123436
CREATED:20241226T235950Z
LAST-MODIFIED:20250106T005223Z
UID:15753-1735776000-1736294399@aomori-daibouken.com
SUMMARY:弘前市ヒロロ 初売り2025
DESCRIPTION:http://www.hiroro.co.jp/edit.html?id=2025hatsuuri
URL:https://aomori-daibouken.com/event/15753
LOCATION:ヒロロ(HIRORO)\, 〒036-8003 青森県弘前市駅前町９−２０
CATEGORIES:1月青森イベント,★青森県メインイベント,弘前初売りチラシ2025,弘前市イベント 今日 明日 土手町 2025,弘前市クーポン
ATTACH;FMTTYPE=image/jpeg:https://aomori-daibouken.com/wp-content/uploads/2024/12/1223-1-scaled.jpg
END:VEVENT
END:VCALENDAR