BEGIN:VCALENDAR
VERSION:2.0
PRODID:-//青森大冒険-イベントカレンダー情報とブログ- - ECPv6.15.20//NONSGML v1.0//EN
CALSCALE:GREGORIAN
METHOD:PUBLISH
X-ORIGINAL-URL:https://aomori-daibouken.com
X-WR-CALDESC:青森大冒険-イベントカレンダー情報とブログ- のイベント
REFRESH-INTERVAL;VALUE=DURATION:PT1H
X-Robots-Tag:noindex
X-PUBLISHED-TTL:PT1H
BEGIN:VTIMEZONE
TZID:Asia/Tokyo
BEGIN:STANDARD
TZOFFSETFROM:+0900
TZOFFSETTO:+0900
TZNAME:JST
DTSTART:20240101T000000
END:STANDARD
END:VTIMEZONE
BEGIN:VEVENT
DTSTART;TZID=Asia/Tokyo:20250112T000000
DTEND;TZID=Asia/Tokyo:20250113T235959
DTSTAMP:20260426T073936
CREATED:20250106T075157Z
LAST-MODIFIED:20250107T065638Z
UID:16488-1736640000-1736812799@aomori-daibouken.com
SUMMARY:つがる市イオンモールつがる柏 mama'sカフェ 冬休みスペシャル クラフトワークショップ
DESCRIPTION:この投稿をInstagramで見る            工藤 美穂(@mamasunangels)がシェアした投稿
URL:https://aomori-daibouken.com/event/16488
LOCATION:イオンモールつがる柏\, 〒038-3107 青森県つがる市柏稲盛幾世４１
CATEGORIES:1月青森イベント,★青森県メインイベント,つがる市イベント,青森ワークショップ
ATTACH;FMTTYPE=image/jpeg:https://aomori-daibouken.com/wp-content/uploads/2025/01/472412774_18100900540483149_6197420280170861794_n.jpg
END:VEVENT
BEGIN:VEVENT
DTSTART;TZID=Asia/Tokyo:20250112T000000
DTEND;TZID=Asia/Tokyo:20250112T235959
DTSTAMP:20260426T073936
CREATED:20250111T234621Z
LAST-MODIFIED:20250208T031705Z
UID:16871-1736640000-1736726399@aomori-daibouken.com
SUMMARY:カブセンター コストコフェアチラシ2025年1月
DESCRIPTION:
URL:https://aomori-daibouken.com/event/16871
LOCATION:カブセンター\, カブセンター
CATEGORIES:八戸市コストコ,青森コストコ,青森チラシ,青森市コストコ,青森市スーパーチラシ
ATTACH;FMTTYPE=image/jpeg:https://aomori-daibouken.com/wp-content/uploads/2025/01/image-7.jpg
END:VEVENT
BEGIN:VEVENT
DTSTART;TZID=Asia/Tokyo:20250112T000000
DTEND;TZID=Asia/Tokyo:20250112T235959
DTSTAMP:20260426T073936
CREATED:20250104T013323Z
LAST-MODIFIED:20250303T003321Z
UID:16249-1736640000-1736726399@aomori-daibouken.com
SUMMARY:青森市 アスパム シナモロールミニステージ
DESCRIPTION:エネルギー館 あしたをおもう森 ハーモニーフェスティバル参加無料 \n\n\n\n２０２５1.12日アスパム1階イベントホールクイズやダンスでシナモロールとたくさん遊ぼう！ \n\n\n\n各回定員160名様 \n\n\n\n時間1回目11：00～2回目13：00～3回目15：0 0～各回先着順 \n\n\n\n〒030-0803 青森市安方1丁目1-40 アスパム2Fあしたをおもう森  \nhttps://www.aomori-kanko.or.jp/aspam/shop12.html\n\n\n\n青森県イベント2025年1月 キャラクター \n\n\n\n\n\n\n\n\n\n\n\n\n\n青森市アスパムイベント今日以降今後の イベント はありません。
URL:https://aomori-daibouken.com/event/16249
LOCATION:青森県観光物産館アスパム\, 安方1－1－40\, 青森市\, 青森県\, 日本
CATEGORIES:1月青森イベント,★青森県メインイベント,アスパムイベント 今日 青森市 2025 新町,青森市イベント子供
ATTACH;FMTTYPE=image/jpeg:https://aomori-daibouken.com/wp-content/uploads/2025/01/202501-1.jpg
END:VEVENT
BEGIN:VEVENT
DTSTART;TZID=Asia/Tokyo:20250112T000000
DTEND;TZID=Asia/Tokyo:20250112T235959
DTSTAMP:20260426T073936
CREATED:20241229T015334Z
LAST-MODIFIED:20250108T091108Z
UID:15928-1736640000-1736726399@aomori-daibouken.com
SUMMARY:八戸市 ハッピードラッグ八戸小中野店 閉店
DESCRIPTION:ハッピードラッグ八戸小中野店の閉店セール、1月6日から始まるそうです🏠️#八戸市　#ハッピードラッグ八戸小中野店 pic.twitter.com/oPAutWeGnr — 薫子 (@kaoruko_yuri_) December 28\, 2024
URL:https://aomori-daibouken.com/event/15928
LOCATION:ハッピードラッグ八戸小中野店\, 〒031-0802 青森県八戸市小中野４丁目１−４７
CATEGORIES:八戸市イベント 今日 明日 今週末 2025,八戸市閉店
END:VEVENT
BEGIN:VEVENT
DTSTART;TZID=Asia/Tokyo:20250111T130000
DTEND;TZID=Asia/Tokyo:20250111T160000
DTSTAMP:20260426T073936
CREATED:20241226T060224Z
LAST-MODIFIED:20250108T051005Z
UID:15670-1736600400-1736611200@aomori-daibouken.com
SUMMARY:八戸市ラピア 第29回八戸市少年少女発明クラブロボットコンテスト
DESCRIPTION:http://www.sc-lapia.co.jp/eventnews/post-32827-2-3-4-4/
URL:https://aomori-daibouken.com/event/15670
LOCATION:八戸ショッピングセンターラピア\, 〒031-0801 青森県八戸市江陽２丁目１４−１
CATEGORIES:1月青森イベント,八戸市イベント 今日 明日 今週末 2025
ATTACH;FMTTYPE=image/jpeg:https://aomori-daibouken.com/wp-content/uploads/2024/12/1e2b2fd51e0c5cc4144285c169e3ad32-1086x1536-1.jpg
END:VEVENT
BEGIN:VEVENT
DTSTART;TZID=Asia/Tokyo:20250111T103000
DTEND;TZID=Asia/Tokyo:20250111T154500
DTSTAMP:20260426T073936
CREATED:20241230T035409Z
LAST-MODIFIED:20250107T065640Z
UID:16043-1736591400-1736610300@aomori-daibouken.com
SUMMARY:弘前市 ヒロロ サムライの技と心
DESCRIPTION:■日時：令和7年1月11日（土）10：30開場（入場受付開始10：00）■会場：弘前市民文化交流館ホール（ヒロロ4階） \n\n\n\n　弘前市はサムライたちが設計し創り上げた城下町です。サムライたちが誇り高き心と身体を　作り上げるために修行した様々な技と文化を体感する一日です。 \n\n\n\n　１０：００　一般受付開始　　１０：３０　開会宣言　　　　　　（総合司会：弘前大学講師・青森県文化財保護審議会委員　下田雄次）　　　 　　　主催者あいさつ（修武堂主宰　小山隆秀）　【午前の部「サムライの音」（尺八・箏曲演奏会）】　１０：３５　基調講演「弘前藩士の箏曲と尺八」（笹森建英　弘前学院大学名誉教授）　１０：５５　青森県技芸　津軽郁田流箏曲の演奏とお話（葛西淑子　技芸保持者・研究者）　１１：２５　青森県技芸　錦風流尺八の演奏とお話（山田史生　技芸保持者）　１１：５５　午前の部終了　（昼休憩）　【午後の部「サムライの技」（古武道各流演武大会）】　１２：３０　基調講話「古武道の技と心」　　　　　　　弘前市無形文化財卜傳流剣術第１２代宗家・剣道教士八段　小山秀弘　　　　　　（古武道演武）　１２：４５　（弘前藩）弘前市無形文化財　卜傳流剣術　１３：００　（弘前藩）弘前市無形文化財　當田流剣術　１３：１５　（弘前藩）當田流棒術　１３：３０　（弘前藩）小野派一刀流　１３：４５　（八戸藩）八戸市無形文化財　八戸藩伝神道無念流居合　１４：００　　２０分間休憩　１４：２０　（県外）宮城県指定無形文化財　柳生心眼流兵法　１４：３５　（県外）庄内藩伝田宮流居合　１４：５０　（県外）新陰流　１５：０５　（県外）宝蔵院流槍術　１５：２０　（弘前藩）本覚克己流和　１５：３５　（弘前藩）林崎新夢想流居合　１５：４５　終了、閉会の挨拶（修武堂副主宰　櫻庭晋）　　※上記の出場流派については、変更となる場合もあります。 \nhttps://www.hirorosquare.jp/event_detail.html?eid=47227&ym=202501
URL:https://aomori-daibouken.com/event/16043
LOCATION:ヒロロ(HIRORO)\, 〒036-8003 青森県弘前市駅前町９−２０
CATEGORIES:1月青森イベント,★青森県メインイベント,弘前市イベント 今日 明日 土手町 2025
ATTACH;FMTTYPE=image/jpeg:https://aomori-daibouken.com/wp-content/uploads/2024/12/event_img_1_00047227-scaled.jpg
END:VEVENT
BEGIN:VEVENT
DTSTART;TZID=Asia/Tokyo:20250111T103000
DTEND;TZID=Asia/Tokyo:20250111T123000
DTSTAMP:20260426T073936
CREATED:20250106T074629Z
LAST-MODIFIED:20250107T065640Z
UID:16483-1736591400-1736598600@aomori-daibouken.com
SUMMARY:鶴田町 こども食堂 ワークショップ
DESCRIPTION:この投稿をInstagramで見る            みらいく がくえん(@miraikugakuen)がシェアした投稿
URL:https://aomori-daibouken.com/event/16483
LOCATION:鶴田町保健福祉センター「鶴遊館」\, 〒038-3503　青森県北津軽郡鶴田町大字鶴田字沖津193
CATEGORIES:1月青森イベント,青森お得情報,青森ワークショップ,青森県 イベント 子ども
ATTACH;FMTTYPE=image/jpeg:https://aomori-daibouken.com/wp-content/uploads/2025/01/スクリーンショット-2025-01-06-164437.jpg
END:VEVENT
BEGIN:VEVENT
DTSTART;TZID=Asia/Tokyo:20250111T100000
DTEND;TZID=Asia/Tokyo:20250111T150000
DTSTAMP:20260426T073936
CREATED:20250104T014038Z
LAST-MODIFIED:20250107T065641Z
UID:16253-1736589600-1736607600@aomori-daibouken.com
SUMMARY:青森市サンロード みんなで家事シェア体験イベント
DESCRIPTION:毎日の家事を、家族みんなで、ラクして、楽しく！ \n\n\n\n花王グループカスタマーマーケティング株式会社とタイアップし、7種類の花王家事用品体験ブースを設置します。家事用品の使い方は花王の専任講師が分かりやすくレクチャーしてくれますので、ぜひ実際に体験してみてください！気になるあの家事用品も体験できるかも・・・！？青森会場では、宮下青森県知事とMCの先川栄蔵さん、平沼日菜子さんによるステージイベントもあります！ \n\n\n\n県の簡単なアンケートに回答いただいた方には、普段のお買い物時に役立つ「ふせん付マグネットシート」を差し上げます！また、会場では体験スタンプラリーを実施します。各ブース（青森県ブース以外）を回り、３つ以上のスタンプを獲得した方に、先着順・数量限定で花王家事用品をプレゼントいたします！ \nhttps://www.pref.aomori.lg.jp/soshiki/kodomo/kenmin/aomori_kajisyeataiken.html
URL:https://aomori-daibouken.com/event/16253
LOCATION:サンロード青森\, 〒030-0845 青森県青森市緑３丁目９−２
CATEGORIES:1月青森イベント,サンロードイベント,青森市クーポン・お得情報
ATTACH;FMTTYPE=image/jpeg:https://aomori-daibouken.com/wp-content/uploads/2025/01/kajishare_sun-1-scaled.jpg
END:VEVENT
BEGIN:VEVENT
DTSTART;TZID=Asia/Tokyo:20250111T000000
DTEND;TZID=Asia/Tokyo:20250113T235959
DTSTAMP:20260426T073936
CREATED:20250106T025053Z
LAST-MODIFIED:20250107T065641Z
UID:16449-1736553600-1736812799@aomori-daibouken.com
SUMMARY:三沢市 おもいっきり！プラレールであそぼう！
DESCRIPTION:1/11(土)～13(月祝)　9：00～16：30 \n\n\n\n全国の皆様から寄贈頂いたプラレールを点検整備したよ！広～い科学館でおもいっきりプラレールの線路を作ってみよう。たっくさんのプラレールがみんなをまってる！ \n\n\n\n◇期　　間  　令和7年1月11日(土)～13日(月祝)　9：00～16：30   \n\n\n\n◇料　　金　　無料　※保護者同伴必須 \n\n\n\n◇開催場所　　特別展示室 \nhttps://kokukagaku.jp/event/8946/
URL:https://aomori-daibouken.com/event/16449
LOCATION:青森県立三沢航空科学館\, 〒033-0022 青森県三沢市三沢北山１５８
CATEGORIES:1月青森イベント,★青森県メインイベント,三沢市イベント,青森県 イベント 子ども
ATTACH;FMTTYPE=image/jpeg:https://aomori-daibouken.com/wp-content/uploads/2025/01/01dd5caf708f5e2baa3b9d0aa7ba7c7b-1089x1536-1.jpg
END:VEVENT
BEGIN:VEVENT
DTSTART;TZID=Asia/Tokyo:20250111T000000
DTEND;TZID=Asia/Tokyo:20250113T235959
DTSTAMP:20260426T073936
CREATED:20241230T034917Z
LAST-MODIFIED:20250130T232006Z
UID:16039-1736553600-1736812799@aomori-daibouken.com
SUMMARY:青森市 八甲田丸ファン感謝デー
DESCRIPTION:https://aomori-hakkoudamaru.com/
URL:https://aomori-daibouken.com/event/16039
LOCATION:青函連絡船メモリアルシップ八甲田丸\, 〒038-0012 青森県青森市柳川１丁目１１２−１５ 地先
CATEGORIES:1月青森イベント,★青森県メインイベント,青森市イベント 今日 明日 今週末 2025,青森市イベント子供,青森県 イベント 子ども
ATTACH;FMTTYPE=image/jpeg:https://aomori-daibouken.com/wp-content/uploads/2024/12/2024-fan-thirashi-pr-1.jpg
END:VEVENT
BEGIN:VEVENT
DTSTART;TZID=Asia/Tokyo:20250111T000000
DTEND;TZID=Asia/Tokyo:20250112T235959
DTSTAMP:20260426T073936
CREATED:20250112T014254Z
LAST-MODIFIED:20250112T014255Z
UID:16903-1736553600-1736726399@aomori-daibouken.com
SUMMARY:八戸市 キッチンカー 東北フリーブレイズ（アイスホッケー）
DESCRIPTION:https://x.com/Freeblades
URL:https://aomori-daibouken.com/event/16903
LOCATION:FLAT HACHINOHE\, 〒039-1101 青森県八戸市尻内町三条目７−７
CATEGORIES:1月青森イベント,八戸市イベント 今日 明日 今週末 2025,八戸市キッチンカーイベント2025
ATTACH;FMTTYPE=image/jpeg:https://aomori-daibouken.com/wp-content/uploads/2025/01/Gg6xGvSbUAA7nCb.jpg
END:VEVENT
BEGIN:VEVENT
DTSTART;TZID=Asia/Tokyo:20250111T000000
DTEND;TZID=Asia/Tokyo:20250112T235959
DTSTAMP:20260426T073936
CREATED:20250111T003843Z
LAST-MODIFIED:20250210T082654Z
UID:16827-1736553600-1736726399@aomori-daibouken.com
SUMMARY:三沢市 マルシェイベント2025 クラフト・キッチンカー・ワークショップ
DESCRIPTION:ツインプラザ三沢1月イベント情報② \n\n\n\n💁‍♀️1月11日(土)12日(日)⏰10:00〜16:00 \n\n\n\n【マルシェイベント】を開催いたします💫 \n\n\n\n今年初めてのイベントです☺️ワークショップやクラフト、リラクゼーション、キッチンカーが多数出店いたします！ \n\n\n\n楽しい内容となっておりますのでご家族、お友達揃って是非ツインプラザ三沢へお越しください🥰スタッフ一同、ご来店お待ちしております💖 \nhttps://www.instagram.com/twinplazamisawa/\n\n\n\nマルシェイベント \n\n\n\n\n日時: 1月11日（土）、1月12日（日）\n\n\n\n時間: 10:00〜16:00\n\n\n\n場所: トヨタ ツインプラザ三沢店\n\n\n\n\n出店者 \n\n\n\n11日（土） \n\n\n\n\nEuphoria（マクラメ雑貨）\n\n\n\nFairy drop（ポーセラーツ）\n\n\n\n雪うさぎ（多肉植物）\n\n\n\nTamaYura（レジン雑貨 他）\n\n\n\npeach_moon_mami（アクセサリー）\n\n\n\ncocolla（こぎん刺し雑貨）\n\n\n\nつしま整体（整体）\n\n\n\nhappy mouse（サンドアート 他）\n\n\n\nKONBIREE（ブッシュケーキ 他）\n\n\n\n∞PAN（あげ焼きパン）\n\n\n\nBE SMILE（揚げパンサンド 他）\n\n\n\n\n12日（日） \n\n\n\n\nEuphoria（マクラメ雑貨）\n\n\n\nFairy drop（ポーセラーツ）\n\n\n\n雪うさぎ（多肉植物）\n\n\n\nTamaYura（レジン雑貨 他）\n\n\n\nつしま整体（整体）\n\n\n\nhappy mouse（サンドアート 他）\n\n\n\nBE SMILE（揚げパンサンド 他）\n\n\n\nSei sette（ピザ）\n\n\n\nKONBIREE（ブッシュケーキ 他）\n\n\n\n∞PAN（あげ焼きパン）\n\n\n\n\nその他情報 \n\n\n\n\n今年最初のイベント\n\n\n\nたくさんのご来店をスタッフ一同お待ちしております。\n\n\n\n\n店舗情報 \n\n\n\n\nトヨタ ツインプラザ三沢店\n\n\n\n〒033-0035 青森県三沢市松原町2丁目31-2570\n\n\n\n電話番号: 0176-53-2145（トヨタ）、0176-57-5151（ネッツ）\n\n\n\n営業時間: 9:30〜18:00\n\n\n\n\n雑貨やアクセサリー、植物、食べ物など、様々なジャンルの出店があるイベントです。2日間開催されますが、出店者が若干異なるようです。特に、12日にはピザの出店があるのが特徴的ですね。また、整体の出店もあるので、買い物の合間に体を癒すこともできそうです。
URL:https://aomori-daibouken.com/event/16827
LOCATION:トヨタツインプラザ三沢（青森トヨタ・ネッツトヨタ青森）\, 〒033-0035 青森県三沢市松原町２丁目３１−２５７０
CATEGORIES:1月青森イベント,三沢市イベント,三沢市キッチンカーイベント2025,青森マルシェ2025,青森ワークショップ,青森県クラフトイベント 2025 マルシェ
ATTACH;FMTTYPE=image/jpeg:https://aomori-daibouken.com/wp-content/uploads/2025/01/473019662_1159629975880025_5269039252827913623_n.jpg
END:VEVENT
BEGIN:VEVENT
DTSTART;TZID=Asia/Tokyo:20250111T000000
DTEND;TZID=Asia/Tokyo:20250111T235959
DTSTAMP:20260426T073936
CREATED:20250208T024045Z
LAST-MODIFIED:20250208T024047Z
UID:18899-1736553600-1736639999@aomori-daibouken.com
SUMMARY:十和田市 インド・ネパールレストラン＆バー ミンジュ
DESCRIPTION:十和田に新しく出来たカレー屋さんMINJU(ミンジュ)さんで、テイクアウトしてみた🙋🏻‍♀️ナンは薄めでパリパリ感あり。サグチキンカレーも好きな味。他のメニューも試したいな✨駐車場はお店の前で3〜4台分(雪の量で変わる😅) pic.twitter.com/2x0F9eL6J0 — Yumi RN:お留守番事務員 (@suika808) January 27\, 2025
URL:https://aomori-daibouken.com/event/18899
LOCATION:インド・ネパールレストラン＆バー ミンジュ\, 〒034-0015 青森県十和田市東二十二番町２３−８
CATEGORIES:1月青森イベント,十和田市イベント,十和田市開店
END:VEVENT
BEGIN:VEVENT
DTSTART;TZID=Asia/Tokyo:20250111T000000
DTEND;TZID=Asia/Tokyo:20250111T235959
DTSTAMP:20260426T073936
CREATED:20250112T011715Z
LAST-MODIFIED:20250321T132555Z
UID:16894-1736553600-1736639999@aomori-daibouken.com
SUMMARY:八戸市 hannah cheesecake\,coffee【ハンナ チーズケーキ、コーヒー】 オープン
DESCRIPTION:こんにちは！ハンナです☀️　 \n\n\n\nプレオープン時にはお知らせしておりましたが、明日、1/11 オープンいたします！　 \n\n\n\nとはいってもしばらくの間、ケーキのテイクアウトのみの営業とさせていただきます。　 \n\n\n\nイートインご予定のお客様には大変申し訳ありません😢😢😢　 \n\n\n\n近日中には稼働いたしますので、お待ちいただけますよう、よろしくお願いいたします🙇🙇🙇　 \n\n\n\n※敷地内入口横に２台、建物裏に１台駐車場ございます　 \n\n\n\n数は十分ご用意しておりますが、無くなり次第終了とさせていただきます　 \n\n\n\n地域のみなさまに美味しいチーズケーキを届けられるよう、私たちのチーズケーキで笑顔になっていただけるよう、精一杯頑張ってまいります。　 \n\n\n\nどうぞよろしくお願いいたします🙇🙇🙇 \n\n\n\n2025.1.10　 \n\n\n\n#青森#青森県#青森グルメ#青森カフェ#八戸#八戸市#八戸グルメ#八戸カフェ#チーズケーキ#チーズケーキマニア#チーズケーキ大好き#コーヒー#コーヒーのある暮らし#コーヒータイム#新店舗#新店舗オープン \nhttps://www.instagram.com/p/DEoS-UEPmHG/
URL:https://aomori-daibouken.com/event/16894
LOCATION:hannah(ハンナ)\, 青森県八戸市北白山台4-5-5インフィニート101
CATEGORIES:1月青森イベント,八戸市イベント 今日 明日 今週末 2025,八戸市開店
ATTACH;FMTTYPE=image/jpeg:https://aomori-daibouken.com/wp-content/uploads/2025/01/473067556_1118592743154139_4356898075363648295_n.jpg
END:VEVENT
BEGIN:VEVENT
DTSTART;TZID=Asia/Tokyo:20250111T000000
DTEND;TZID=Asia/Tokyo:20250111T235959
DTSTAMP:20260426T073936
CREATED:20250111T234006Z
LAST-MODIFIED:20250111T234006Z
UID:16867-1736553600-1736639999@aomori-daibouken.com
SUMMARY:青森市 じえんとる麺 オープン ラーメン　
DESCRIPTION:2025年1月11日19時よりオープンです！昔ながらのあっさりとした中華らぁめん一度食べたら抜け出せない醤油豚骨らぁめん \n\n\n\n皆様のご来店をスタッフ一同心よりお待ちしております☺️ \n\n\n\n青森市本町2丁目11-1 Plaza Air 1階営業時間19:00〜3:00（ラストオーダー 2:30)定休日 月曜日 \nhttps://www.instagram.com/p/DEjo1oqTXWs/
URL:https://aomori-daibouken.com/event/16867
LOCATION:じえんとる麺\, 青森県青森市本町2丁目11-1 Plaza Air 1階
CATEGORIES:青森市イベント 今日 明日 今週末 2025,青森市ラーメン開店
END:VEVENT
BEGIN:VEVENT
DTSTART;TZID=Asia/Tokyo:20250111T000000
DTEND;TZID=Asia/Tokyo:20250111T235959
DTSTAMP:20260426T073936
CREATED:20250107T021224Z
LAST-MODIFIED:20250107T065642Z
UID:16527-1736553600-1736639999@aomori-daibouken.com
SUMMARY:五所川原市エルム 青森りんごフェア2025
DESCRIPTION:https://elm-no-machi.jp/info/#3532
URL:https://aomori-daibouken.com/event/16527
LOCATION:ELM（エルム）\, 〒037-0004 青森県五所川原市唐笠柳藤巻５１７−１
CATEGORIES:1月青森イベント,★青森県メインイベント,五所川原市イベント,青森お得情報,青森県グルメイベント
ATTACH;FMTTYPE=image/jpeg:https://aomori-daibouken.com/wp-content/uploads/2025/01/master-4.jpg
END:VEVENT
BEGIN:VEVENT
DTSTART;TZID=Asia/Tokyo:20250111T000000
DTEND;TZID=Asia/Tokyo:20250111T235959
DTSTAMP:20260426T073936
CREATED:20241227T134200Z
LAST-MODIFIED:20250107T065643Z
UID:15865-1736553600-1736639999@aomori-daibouken.com
SUMMARY:むつ市脇野沢 真冬の鱈まつり2025
DESCRIPTION:脇野沢地区特産の真鱈をメインにした「真冬の鱈まつり」を今年も開催します。新鮮な真鱈の販売や鱈汁のふるまいのほか、昨年復活した焼干しラーメン早食い選手権も開催しますので、たくさんの皆様のご来場をお待ちしております。 \n\n\n\n■日時令和7年1月11日（土曜日）午前10時～午後2時※鱈販売整理券・抽選券の配布は、午前9時30分から行います。■会場脇野沢地域交流センター■内容・脇野沢産真鱈販売・各特産品販売・無料鱈汁ふるまい・無料抽選会・焼干ラーメン早食い大会（当日受付・参加無料）など※プログラム・イベント内容等は変更になる場合がございます。 \nhttps://www.pref.aomori.lg.jp/soshiki/kenmin/sh-renkei/sh_renkei_event.html
URL:https://aomori-daibouken.com/event/15865
LOCATION:むつ市 脇野沢公民館\, 〒039-5331 青森県むつ市脇野沢渡向１０７−１
CATEGORIES:1月青森イベント,2025青森冬雪まつりイベント,★青森県メインイベント,むつ市イベント,青森お得情報
ATTACH;FMTTYPE=image/jpeg:https://aomori-daibouken.com/wp-content/uploads/2024/12/R7.1.11wakinosawatara-1.jpg
END:VEVENT
BEGIN:VEVENT
DTSTART;TZID=Asia/Tokyo:20250109T000000
DTEND;TZID=Asia/Tokyo:20250111T235959
DTSTAMP:20260426T073936
CREATED:20250107T081443Z
LAST-MODIFIED:20250107T081444Z
UID:16591-1736380800-1736639999@aomori-daibouken.com
SUMMARY:スーパーストア チラシ 鶴田 金木ノア 中里中泊ベル 2025/1/9
DESCRIPTION:スーポーストアより、次回チラシのお知らせ😊スーパーストアでは、ネット及び店頭配布専用チラシを開始いたします✨初回は1月9日（木）からスタートの「新春すごい特売」です‼️どうぞご利用くださいませ🙇🙇🙇🙇🙇 pic.twitter.com/lcUSUS35Sd — superstore：スーパーストア (@superstore_Inc) January 7\, 2025
URL:https://aomori-daibouken.com/event/16591
LOCATION:スーパーストア\, スーパーストア
CATEGORIES:青森チラシ
END:VEVENT
BEGIN:VEVENT
DTSTART;TZID=Asia/Tokyo:20250108T000000
DTEND;TZID=Asia/Tokyo:20250128T235959
DTSTAMP:20260426T073936
CREATED:20250108T002828Z
LAST-MODIFIED:20250125T004838Z
UID:16609-1736294400-1738108799@aomori-daibouken.com
SUMMARY:メガ 黒石店 2025マッコ市予約
DESCRIPTION:下記の画像はチラシに掲載されていたものです。ご予約締切がそれぞれバラバラのようなので早めに行くのがおすすめです。 \n\n\n\n\n\nhttps://www.beny.co.jp/beniya-handbill/beniya-handbill-12192/\n\n\n\n\n\nError ROUTE_NOT_FOUNDpage.line.me
URL:https://aomori-daibouken.com/event/16609
LOCATION:メガ 黒石店\, 〒036-0356 青森県黒石市ちとせ３丁目２
CATEGORIES:黒石マッコ市2025チラシ,黒石市イベント
ATTACH;FMTTYPE=image/jpeg:https://aomori-daibouken.com/wp-content/uploads/2025/01/image-6-1.jpg
END:VEVENT
BEGIN:VEVENT
DTSTART;TZID=Asia/Tokyo:20250108T000000
DTEND;TZID=Asia/Tokyo:20250121T235959
DTSTAMP:20260426T073936
CREATED:20250108T083936Z
LAST-MODIFIED:20250114T000119Z
UID:16673-1736294400-1737503999@aomori-daibouken.com
SUMMARY:八戸市 からあげ専門店 鶏笑 八戸下長店 クーポン
DESCRIPTION:　こんにちは！からあげ専門店 鶏笑（とりしょう） です😊 　当店だけで使用可能な「ムネからあげプレゼントクーポン」を期間限定で配布中です！！この機会にぜひ鶏笑をご利用下さい。 利用可能店舗：クーポン掲載店舗でのみ利用可 利用条件：500円以上のお買い上げで、ムネからあげ1個をプレゼント 有効期限：2025年1月8日～2025年1月21日 ※500円以上のご注文時にクーポン画面を提示して適用 ※500円以上のお会計時に、お一人様1回のみ、適用可能です。 ※他のサービス券、割引キャンペーンとの併用不可 ※他の鶏笑店舗では使用できません。 ※ご注文時にクーポン利用の旨をお伝え下さい。 \nhttps://store.nis-torisho.com/detail/92/coupon/832066/
URL:https://aomori-daibouken.com/event/16673
LOCATION:からあげ専門店 鶏笑 八戸下長店\, 〒039-1164 青森県八戸市下長３丁目４−１３ 旭日ビル 1号
CATEGORIES:八戸市イベント 今日 明日 今週末 2025,八戸市クーポン
ATTACH;FMTTYPE=image/jpeg:https://aomori-daibouken.com/wp-content/uploads/2025/01/oNF1htfFzvblwLBVDScFr44zX2DpMhTfVS5LrOEW.jpg
END:VEVENT
BEGIN:VEVENT
DTSTART;TZID=Asia/Tokyo:20250107T000000
DTEND;TZID=Asia/Tokyo:20250210T235959
DTSTAMP:20260426T073936
CREATED:20250120T042524Z
LAST-MODIFIED:20250120T042525Z
UID:17218-1736208000-1739231999@aomori-daibouken.com
SUMMARY:ファミリーマートの地域フェア第6弾！東北地方物産展 青森 岩手 宮城 秋田 山形 福島
DESCRIPTION:ファミリーマートギフトネット申込サービス \n\n\n\nこのフェアでは、東北地方の特産品やご当地グルメを活かした商品が多数販売され、ご自宅で手軽に東北の味を楽しめる機会となりました。具体的な商品例としては、以下のようなものが挙げられます。 \n\n\n\n\n麺類: ラーメン、うどん、そばなど、東北各地の特色を活かした麺類\n\n\n\n米飯: ご当地の食材を使ったおにぎりや弁当\n\n\n\n惣菜: 東北の郷土料理を再現した惣菜\n\n\n\nデザート: 地元のフルーツや食材を使ったスイーツ\n\n\n\n\nこれらの商品は、東北地方の食材の美味しさを最大限に引き出すように工夫されており、地元の味を忠実に再現したものから、ファミリーマートオリジナルのアレンジを加えたものまで、バラエティ豊かなラインナップとなっています。 \n\n\n\n\n\nファミマオンライン季節の承り・コンビニエンスウェア・ギフトをお得で便利にお買い物するなら、ファミマオンラインで。クリスマス（チキン/ケーキ）・土用の丑の日（うなぎ）・節分の日（恵方巻）など季節の承りからお中元・お歳暮・...gift.famima-net.jp
URL:https://aomori-daibouken.com/event/17218
LOCATION:ファミリーマート\, ファミリーマート
CATEGORIES:青森 物産展 アンテナショップ フェア2025
END:VEVENT
BEGIN:VEVENT
DTSTART;TZID=Asia/Tokyo:20250107T000000
DTEND;TZID=Asia/Tokyo:20250117T235959
DTSTAMP:20260426T073936
CREATED:20250109T010129Z
LAST-MODIFIED:20250109T010130Z
UID:16705-1736208000-1737158399@aomori-daibouken.com
SUMMARY:五所川原市 スーパードラッグアサヒ エルム店 閉店セールチラシ
DESCRIPTION:https://elm-no-machi.jp/shop/asahi/
URL:https://aomori-daibouken.com/event/16705
LOCATION:ELM（エルム）\, 〒037-0004 青森県五所川原市唐笠柳藤巻５１７−１
CATEGORIES:五所川原市イベント,青森お得情報
ATTACH;FMTTYPE=image/jpeg:https://aomori-daibouken.com/wp-content/uploads/2025/01/250107-1.jpg
END:VEVENT
BEGIN:VEVENT
DTSTART;TZID=Asia/Tokyo:20250107T000000
DTEND;TZID=Asia/Tokyo:20250113T235959
DTSTAMP:20260426T073936
CREATED:20250107T005915Z
LAST-MODIFIED:20250227T140230Z
UID:16521-1736208000-1736812799@aomori-daibouken.com
SUMMARY:青森五所川原 ロピア チラシ 2025/1/7～1/13
DESCRIPTION:青森ロピアチラシ2025最新2025最新青森ロピアチラシを見ることができます。ロピアのチラシを見る方法ロピアのチラシは、ロピア公式アプリ「ロピタ」をダウンロードすることで見られます。公式アプリ「ロピタ」は、普段行く店舗を登録する...aomori-daibouken.com
URL:https://aomori-daibouken.com/event/16521
LOCATION:ELM（エルム）\, 〒037-0004 青森県五所川原市唐笠柳藤巻５１７−１
CATEGORIES:五所川原ロピアチラシ,青森お得情報,青森チラシ,青森ロピアチラシ2025最新
ATTACH;FMTTYPE=image/jpeg:https://aomori-daibouken.com/wp-content/uploads/2025/01/Screenshot_2025-01-07-09-44-20-390_app.lopia_.lopita.jpg
END:VEVENT
BEGIN:VEVENT
DTSTART;TZID=Asia/Tokyo:20250107T000000
DTEND;TZID=Asia/Tokyo:20250113T235959
DTSTAMP:20260426T073936
CREATED:20250107T005231Z
LAST-MODIFIED:20250112T003235Z
UID:16516-1736208000-1736812799@aomori-daibouken.com
SUMMARY:青森市 ロピア 青森 チラシ 2025/1/7～1/13
DESCRIPTION:ロピア青森店お買い得情報 2025.01.12 日曜日 \n\n\n\n\n鮮魚コーナー: 1/25(土)まで恵方巻の予約を受付中。3種類の恵方巻を用意。受け取りは2/2(日)。予約はサービスカウンターまで。\n\n\n\n惣菜コーナー: オープン1ヵ月セール ランチビザ【1枚500円(税抜)】の販売最終日。\n\n\n\n\n各コーナーのお買い得商品 \n\n\n\n\n野菜コーナー:栃木県産他 大玉トマト(2L)3個ザル盛 200円(税別) (税込216.00円)福岡県他 長ナスザル盛3本 222円(税別) (税込239.76円)熊本県他 ミニトマト バック盛 約300g 250円(税別) (税込270.00円)※ 各野菜コーナーで「ザル盛り」「トレー盛り」の数量限定販売あり。\n\n\n\n精肉コーナー:\n\n国内産黒毛和牛プルコギ用味付 100gあたり 350円(税別) (税込378.00円)\n\n\n\n\n\n惣菜コーナー:\n\nランチビザ 1枚 500円(税別) (税込540.00円) ※オープン1ヵ月セール、数量限定。\n\n\n\n\n\n\n全体的に、食料品がお得に購入できる情報が満載です。特に恵方巻を予約したい方、ランチビザをお得に購入したい方は、この日を逃さないようにしましょう。 \n\n\n\n\n\n青森ロピアチラシ2025最新2025最新青森ロピアチラシを見ることができます。ロピアのチラシを見る方法ロピアのチラシは、ロピア公式アプリ「ロピタ」をダウンロードすることで見られます。公式アプリ「ロピタ」は、普段行く店舗を登録する...aomori-daibouken.com
URL:https://aomori-daibouken.com/event/16516
LOCATION:ロピア青森店\, 〒030-0843 青森県青森市浜田１丁目14−１ シーナシーナ青森 1F
CATEGORIES:青森チラシ,青森市クーポン・お得情報,青森市スーパーチラシ,青森市ロピアチラシ
ATTACH;FMTTYPE=image/jpeg:https://aomori-daibouken.com/wp-content/uploads/2025/01/Screenshot_2025-01-07-09-44-46-501_app.lopia_.lopita.jpg
END:VEVENT
BEGIN:VEVENT
DTSTART;TZID=Asia/Tokyo:20250107T000000
DTEND;TZID=Asia/Tokyo:20250107T235959
DTSTAMP:20260426T073936
CREATED:20250108T014350Z
LAST-MODIFIED:20250111T235058Z
UID:16626-1736208000-1736294399@aomori-daibouken.com
SUMMARY:弘前市 自家製うどんたいら オープン
DESCRIPTION:自家製うどんたいらのメニュー\n\n\n\n        この投稿をInstagramで見る            自家製うどん　たいら(@udon_taira_)がシェアした投稿
URL:https://aomori-daibouken.com/event/16626
LOCATION:自家製うどん たいら\, 〒036-8053 青森県弘前市和泉１丁目16−３
CATEGORIES:弘前市イベント 今日 明日 土手町 2025,弘前市開店
END:VEVENT
BEGIN:VEVENT
DTSTART;TZID=Asia/Tokyo:20250106T000000
DTEND;TZID=Asia/Tokyo:20250130T235959
DTSTAMP:20260426T073936
CREATED:20250106T230131Z
LAST-MODIFIED:20250109T105749Z
UID:16499-1736121600-1738281599@aomori-daibouken.com
SUMMARY:マッコ市2025チラシ ベニーマート
DESCRIPTION:ベニーマート黒石店だけの特別企画！Shop Japanの対象商品を予約購入すると、早朝から並ばなくても必ずマッコ箱がもらえます📦 \n\n\n\nさらに！紅屋のお店で使える商品券もプレゼント🎁 \n\n\n\n　ご予約締切日1/30(木)　マッコ箱お引渡し日2/2(日) 5:00～20:00　商品お引渡し日2月中旬予定（入荷次第ご連絡いたします）　ご予約受付・すべてのお引渡し場所ベニーマート黒石店 サービスカウンター\n\n\n\n大人気商品をお得にゲットできるチャンス！😎ご予約を心よりお待ちしております📦🧧 \nhttps://www.beny.co.jp/news/makkoichi2025/
URL:https://aomori-daibouken.com/event/16499
LOCATION:ベニーマート黒石店\, 〒036-0356 青森県黒石市ちとせ１丁目１５４
CATEGORIES:黒石マッコ市2025チラシ,黒石市イベント
ATTACH;FMTTYPE=image/webp:https://aomori-daibouken.com/wp-content/uploads/2025/01/2025ショップジャパン予約.webp
END:VEVENT
BEGIN:VEVENT
DTSTART;TZID=Asia/Tokyo:20250106T000000
DTEND;TZID=Asia/Tokyo:20250112T235959
DTSTAMP:20260426T073936
CREATED:20241229T015509Z
LAST-MODIFIED:20250108T022033Z
UID:15933-1736121600-1736726399@aomori-daibouken.com
SUMMARY:八戸市 ハッピードラッグ八戸小中野店 閉店セール
DESCRIPTION:ハッピードラッグ八戸小中野店の閉店セール、1月6日から始まるそうです🏠️#八戸市　#ハッピードラッグ八戸小中野店 pic.twitter.com/oPAutWeGnr — 薫子 (@kaoruko_yuri_) December 28\, 2024
URL:https://aomori-daibouken.com/event/15933
LOCATION:ハッピードラッグ八戸小中野店\, 〒031-0802 青森県八戸市小中野４丁目１−４７
CATEGORIES:八戸市イベント 今日 明日 今週末 2025,八戸市クーポン
END:VEVENT
BEGIN:VEVENT
DTSTART;TZID=Asia/Tokyo:20250106T000000
DTEND;TZID=Asia/Tokyo:20250106T235959
DTSTAMP:20260426T073936
CREATED:20250127T001857Z
LAST-MODIFIED:20250127T001858Z
UID:17852-1736121600-1736207999@aomori-daibouken.com
SUMMARY:南部町 ねこのひげ オープン
DESCRIPTION:https://www.instagram.com/nekono_hi_ge/\n\n\n\nたいやきの気まぐれメニューや営業日はインスタグラムで確認できます。
URL:https://aomori-daibouken.com/event/17852
LOCATION:ねこのひげ\, 〒039-0503 青森県三戸郡南部町平虚空蔵４−２
CATEGORIES:1月青森イベント,青森県開店
END:VEVENT
BEGIN:VEVENT
DTSTART;TZID=Asia/Tokyo:20250106T000000
DTEND;TZID=Asia/Tokyo:20250106T235959
DTSTAMP:20260426T073936
CREATED:20250108T035311Z
LAST-MODIFIED:20250208T034258Z
UID:16642-1736121600-1736207999@aomori-daibouken.com
SUMMARY:八戸市 カレー食堂カタルカ オープン
DESCRIPTION:この投稿をInstagramで見る            カレー食堂カタルカ(@abura_ka_tadka)がシェアした投稿 \n\n\n\n\n\nカレー食堂カタルカOPEN!!! \n\n\n\n1月6日に八戸市内丸にオープンしました！思いがけずに沢山のお客様にご来店して頂き嬉しい驚きです‼️ご来店頂きありがとうございます‼️この場所で30年カレー屋さんをやられていたDee Deeさんのお客様が本当に沢山来て下さりました。お話をしながらDee Deeさんの厚い歴史本の1ページ1ページをめくる体験が、温もりがあって、そして私は残念ながら行ったことの無い（しかしその場所に今立っている）お店に想像を巡らせるのがとても冒険的で楽しい‼️ \n\n\n\nオープン日に八戸食べ歩き巡り（通称はちめぐ）さんが、来店して下さり、素敵な写真と文章をのせて下さりました。そちらを見て来店されたお客様も沢山いらっしゃり感謝感激😭しております。プロフィールにリンクを貼りましたので、ご覧下さい。 \n\n\n\n開店祝いも沢山頂き本当にありがとうございました‼️ \n\n\n\n定休日は、まだ定めていないのですがInstagramとGoogleで当面連絡させて頂き、安全営業を心がけていきたいと思います。 \n\n\n\n\n\n【カレー食堂はじめます‼🍛️】青森県八戸市でカレー食堂をOpenします！ここで30年以上カレー屋さんをやられていたcurry studio dee deeさんの場所を引き継ぎます！！ \n\n\n\n幼少の頃に家族で通ったスリランカカレー（昔のレストラン294）に衝撃を受けてからずっとカレーの虜。味覚を超えた香りや身体の燃焼🔥五感で味わうカレーを求めて、スパイス一粒一粒をホールで齧りながらスパイスの感覚を身体に入れては、その感覚をたよりにカレーを作り続けてきました！！また都内インド料理店で、厨房スタッフとしてインド人と喧嘩したり歌ったり踊ったりしながら、修練も積み続けて、遂に夢のカレー屋をOpenします⭐️⭐️気張り過ぎずに、しなやかに開店していければなと思います！！八戸市立美術館のすぐ近くですが、住宅地の奥です。。
URL:https://aomori-daibouken.com/event/16642
LOCATION:カレー食堂カタルカ\, 〒031-0075 青森県八戸市内丸３丁目２−１３
CATEGORIES:八戸市イベント 今日 明日 今週末 2025,八戸市開店
END:VEVENT
BEGIN:VEVENT
DTSTART;TZID=Asia/Tokyo:20250106T000000
DTEND;TZID=Asia/Tokyo:20250106T235959
DTSTAMP:20260426T073936
CREATED:20250106T013441Z
LAST-MODIFIED:20250106T013442Z
UID:16440-1736121600-1736207999@aomori-daibouken.com
SUMMARY:ツルハドラッグ 5%OFFクーポン 1/6 青森 岩手 秋田限定
DESCRIPTION:https://chirashi.line.me/flyers/6417e1998915e463395f59f4/676e37ce8954d87f7ef91dea?chargeType=aspchirashi.line.me
URL:https://aomori-daibouken.com/event/16440
LOCATION:ツルハドラッグ\, ツルハドラッグ
CATEGORIES:1月青森イベント,★青森県メインイベント,つがる市イベント,むつ市イベント,三沢市イベント,五所川原市イベント,八戸市イベント 今日 明日 今週末 2025,八戸市クーポン,十和田市イベント,平川市イベント,弘前市イベント 今日 明日 土手町 2025,弘前市クーポン,浪岡イベント,青森お得情報,青森市イベント 今日 明日 今週末 2025,青森市クーポン・お得情報,黒石市イベント
END:VEVENT
END:VCALENDAR