BEGIN:VCALENDAR
VERSION:2.0
PRODID:-//青森大冒険-イベントカレンダー情報とブログ- - ECPv6.15.20//NONSGML v1.0//EN
CALSCALE:GREGORIAN
METHOD:PUBLISH
X-ORIGINAL-URL:https://aomori-daibouken.com
X-WR-CALDESC:青森大冒険-イベントカレンダー情報とブログ- のイベント
REFRESH-INTERVAL;VALUE=DURATION:PT1H
X-Robots-Tag:noindex
X-PUBLISHED-TTL:PT1H
BEGIN:VTIMEZONE
TZID:Asia/Tokyo
BEGIN:STANDARD
TZOFFSETFROM:+0900
TZOFFSETTO:+0900
TZNAME:JST
DTSTART:20240101T000000
END:STANDARD
END:VTIMEZONE
BEGIN:VEVENT
DTSTART;TZID=Asia/Tokyo:20250123T000000
DTEND;TZID=Asia/Tokyo:20250123T235959
DTSTAMP:20260426T014205
CREATED:20250111T045125Z
LAST-MODIFIED:20250202T230043Z
UID:16861-1737590400-1737676799@aomori-daibouken.com
SUMMARY:青森市浪岡 道の駅 たご助 弘前に移転の為閉店
DESCRIPTION:https://www.instagram.com/ryouhei_a.k.a_tagosuke7/
URL:https://aomori-daibouken.com/event/16861
LOCATION:道の駅 なみおか アップルヒル\, 〒038-1331 青森県青森市浪岡大字女鹿沢野尻２−３
CATEGORIES:浪岡イベント,青森市イベント 今日 明日 今週末 2025,青森市閉店,青森県道の駅イベント
ATTACH;FMTTYPE=image/jpeg:https://aomori-daibouken.com/wp-content/uploads/2025/01/473162045_18293165359214361_7532308203099734026_n.jpg
END:VEVENT
BEGIN:VEVENT
DTSTART;TZID=Asia/Tokyo:20250122T000000
DTEND;TZID=Asia/Tokyo:20250126T235959
DTSTAMP:20260426T014205
CREATED:20250123T235135Z
LAST-MODIFIED:20250123T235136Z
UID:17601-1737504000-1737935999@aomori-daibouken.com
SUMMARY:埼玉県大宮駅 あおもり・いわて産直市
DESCRIPTION:1/22(水)～26(日)の5日間、大宮駅にて、「あおもり・いわて産直市」を開催します。 \n\n\n\n期間中は、青森、岩手の特産品が勢揃い！ \n\n\n\n日時：2025年１月22日（水）～26日（日） \n\n\n\n　　　1月22日（初日）　  ：17時～20時 \n\n\n\n　　  １月23日～１月25日 ：10時～20時 \n\n\n\n　　  １月26日（最終日）   :10時～17時 \n\n\n\n場所：ＪＲ大宮駅西口イベントスペース・ステンドグラス前 \n\n\n\n○ そばっちに会える！ \n\n\n\n１月25日（土）、26日（日）には、そばっちも登場します！ \n\n\n\nぜひ、この機会に会いに来てくださいね～！ \n\n\n\n日時：各日２回登場します！ \n\n\n\n　　　１月25日（土）13時～、15時～ \n\n\n\n　　　１月26日（日）10時30分～、14時30分～ \n\n\n\n\n\n\n\n○新幹線輸送「はこビュン」 \n\n\n\n1/24(金)には、新幹線輸送 「はこビュン」 を使って、岩手からは当日できたての「展勝地もち」、青森からは「嶽きみドーナツ」が発売されます。 \n\n\n\n数量限定発売なので、お見逃しなく！ \n\n\n\n\n\n\n\n \nhttps://iwate-kankocp.jp/note/article.php?p=130
URL:https://aomori-daibouken.com/event/17601
LOCATION:大宮駅\, 〒330-0853 埼玉県さいたま市大宮区錦町
CATEGORIES:青森 物産展 アンテナショップ フェア2025
ATTACH;FMTTYPE=image/jpeg:https://aomori-daibouken.com/wp-content/uploads/2025/01/1737422899.jpg
END:VEVENT
BEGIN:VEVENT
DTSTART;TZID=Asia/Tokyo:20250121T000000
DTEND;TZID=Asia/Tokyo:20250127T235959
DTSTAMP:20260426T014205
CREATED:20250121T001634Z
LAST-MODIFIED:20250121T001635Z
UID:17241-1737417600-1738022399@aomori-daibouken.com
SUMMARY:青森市 ロピア 青森 チラシ 2025/1/21～1/27
DESCRIPTION:
URL:https://aomori-daibouken.com/event/17241
LOCATION:ロピア青森店\, 〒030-0843 青森県青森市浜田１丁目14−１ シーナシーナ青森 1F
CATEGORIES:青森市ロピアチラシ
ATTACH;FMTTYPE=image/jpeg:https://aomori-daibouken.com/wp-content/uploads/2025/01/Screenshot_2025.01.21_09.11.24.812.jpg
END:VEVENT
BEGIN:VEVENT
DTSTART;TZID=Asia/Tokyo:20250121T000000
DTEND;TZID=Asia/Tokyo:20250127T235959
DTSTAMP:20260426T014205
CREATED:20250121T001516Z
LAST-MODIFIED:20250227T140157Z
UID:17236-1737417600-1738022399@aomori-daibouken.com
SUMMARY:青森五所川原 ロピア チラシ 2025/1/21～1/27
DESCRIPTION:
URL:https://aomori-daibouken.com/event/17236
LOCATION:ELM（エルム）\, 〒037-0004 青森県五所川原市唐笠柳藤巻５１７−１
CATEGORIES:五所川原ロピアチラシ
ATTACH;FMTTYPE=image/jpeg:https://aomori-daibouken.com/wp-content/uploads/2025/01/Screenshot_2025.01.21_09.10.52.178.jpg
END:VEVENT
BEGIN:VEVENT
DTSTART;TZID=Asia/Tokyo:20250121T000000
DTEND;TZID=Asia/Tokyo:20250121T235959
DTSTAMP:20260426T014205
CREATED:20250203T013830Z
LAST-MODIFIED:20250203T013831Z
UID:18499-1737417600-1737503999@aomori-daibouken.com
SUMMARY:つがる市 イオンモールつがる柏 もくいくひろば オープン
DESCRIPTION:▼・.・▼・.・▼・.・▼・.・▼・.・▼　　　1/21(火) NEW OPEN！　　　 もくいくひろば▼・.・▼・.・▼・.・▼・.・▼・.・▼青森県の木材を使用した、木のぬくもりあふれる新しい室内あそびば「もくいくひろば」がオープンします！ \n\n\n\nすべり台もあって、楽しくあそべます♪ぜひお越しください！ \n\n\n\n対象年齢：５歳まで \n\n\n\n《保護者の皆さまへ》・保護者の方はお子さまが遊ばれている間は目を離さずに必ずお付添ください。・対象年齢以外のお子さまのご利用はお控えください
URL:https://aomori-daibouken.com/event/18499
LOCATION:イオンモールつがる柏\, 〒038-3107 青森県つがる市柏稲盛幾世４１
CATEGORIES:1月青森イベント,つがる市イベント,青森県 イベント 子ども,青森県開店
END:VEVENT
BEGIN:VEVENT
DTSTART;TZID=Asia/Tokyo:20250120T080000
DTEND;TZID=Asia/Tokyo:20250120T170000
DTSTAMP:20260426T014205
CREATED:20250120T041433Z
LAST-MODIFIED:20250120T041458Z
UID:17211-1737360000-1737392400@aomori-daibouken.com
SUMMARY:栃木県宇都宮市 第14回青森・函館の物産と観光展2025
DESCRIPTION:青森と函館の名産・名物・うまいものが今年も大集合！ \n\n\n\n期間：2025年1月15日(水) – 20日(月)時間：午前10時 – 午後7時 ※最終日は午後4時閉場場所：宇都宮店 3F大催事会場 \nhttps://www.fukudaya.net/event/4648
URL:https://aomori-daibouken.com/event/17211
LOCATION:FKDショッピングプラザ宇都宮店\, 〒321-0962 栃木県宇都宮市今泉町２３７
CATEGORIES:青森 物産展 アンテナショップ フェア2025
END:VEVENT
BEGIN:VEVENT
DTSTART;TZID=Asia/Tokyo:20250120T000000
DTEND;TZID=Asia/Tokyo:20250120T235959
DTSTAMP:20260426T014205
CREATED:20250124T002419Z
LAST-MODIFIED:20250124T002746Z
UID:17616-1737331200-1737417599@aomori-daibouken.com
SUMMARY:平川市 中華そば おのまつ オープン
DESCRIPTION:煮干しベースのラーメンです。 \n\n\n\nメニューは並 550円、大 650円の2つのみとなっています。
URL:https://aomori-daibouken.com/event/17616
LOCATION:中華そば おのまつ\, 〒036-0212 青森県平川市尾上栄松８２−５
CATEGORIES:平川市イベント,青森県ラーメン開店
END:VEVENT
BEGIN:VEVENT
DTSTART;TZID=Asia/Tokyo:20250120T000000
DTEND;TZID=Asia/Tokyo:20250120T235959
DTSTAMP:20260426T014205
CREATED:20250121T003933Z
LAST-MODIFIED:20250127T043919Z
UID:17244-1737331200-1737417599@aomori-daibouken.com
SUMMARY:八戸市 横浜家系ラーメン 下田家 階上店 オープン
DESCRIPTION:階上店15日に間に合わず、1月20日オープンとなりました！ \n\n\n\n10時オープンになりますのでよろしくお願いします🙇詳細は後程あげていきます✌ \n\n\n\n#下田家#階上店#アルバイト募集中#よろしくお願いします \nhttps://www.instagram.com/iekeiramen.shimodaya/\n\n\n\n\n階上店1月15日オープン予定です！何事もなければこの日です！ \n\n\n\nしたがって、STAFF募集中大学生、高校生パートさん、ラーメンやりたい方平日のみ、土日祝のみ10時から15時 17時から20時の間 \n\n\n\n時給１０００円賄い付き \n\n\n\n早いものがちですので、DM下さい✌よろしくお願いします🙇 \nhttps://www.instagram.com/p/DEo3SgPSOK3/\n\n\n\n\n下田家味噌最近の人気メニュー \n\n\n\n階上店STAFF募集中時給1000円賄い付き詳細はDM下さい \n\n\n\nおきな分店さん跡地になります絶賛工事中 \n\n\n\n絶食日以外ちゃんと毎日ラーメン生活です✌ \nhttps://www.instagram.com/p/DDMBfI8yk0W/?img_index=1
URL:https://aomori-daibouken.com/event/17244
LOCATION:横浜家系ラーメン 下田家 階上店\, 〒031-0814 青森県八戸市妙大開８５−２４
CATEGORIES:八戸市イベント 今日 明日 今週末 2025,八戸市ラーメン開店,八戸市開店
END:VEVENT
BEGIN:VEVENT
DTSTART;TZID=Asia/Tokyo:20250119T110000
DTEND;TZID=Asia/Tokyo:20250119T150000
DTSTAMP:20260426T014205
CREATED:20250107T045950Z
LAST-MODIFIED:20250107T045951Z
UID:16544-1737284400-1737298800@aomori-daibouken.com
SUMMARY:道の駅ゆーさ浅虫 おさがり会 RUNRUN～みんなであそぼう～2025
DESCRIPTION:この投稿をInstagramで見る            RingRing(おさがり会)＠青森(@ringring201124)がシェアした投稿
URL:https://aomori-daibouken.com/event/16544
LOCATION:道の駅ゆ～さ浅虫\, 〒039-3501 青森県青森市浅虫蛍谷３４１−１９\, 青森市\, 青森県\, 039-3501
CATEGORIES:1月青森イベント,浅虫
ATTACH;FMTTYPE=image/jpeg:https://aomori-daibouken.com/wp-content/uploads/2025/01/472510729_1679824129248088_8067048218596626443_n.jpg
END:VEVENT
BEGIN:VEVENT
DTSTART;TZID=Asia/Tokyo:20250119T100000
DTEND;TZID=Asia/Tokyo:20250119T170000
DTSTAMP:20260426T014205
CREATED:20241225T015653Z
LAST-MODIFIED:20250114T123935Z
UID:15501-1737280800-1737306000@aomori-daibouken.com
SUMMARY:八戸市はっち 八戸いちごマルシェ2025
DESCRIPTION:https://www.city.hachinohe.aomori.jp/material/files/group/29/R6ichigotirashi.pdf
URL:https://aomori-daibouken.com/event/15501
LOCATION:八戸ポータルミュージアム はっち\, 〒031-0032 青森県八戸市三日町１１−１
CATEGORIES:1月青森イベント,★青森県メインイベント,八戸市イベント 今日 明日 今週末 2025,八戸市クーポン,青森マルシェ2025,青森県 イベント 子ども
ATTACH;FMTTYPE=image/jpeg:https://aomori-daibouken.com/wp-content/uploads/2024/12/image-13-12.jpg
END:VEVENT
BEGIN:VEVENT
DTSTART;TZID=Asia/Tokyo:20250119T100000
DTEND;TZID=Asia/Tokyo:20250119T160000
DTSTAMP:20260426T014205
CREATED:20250303T012255Z
LAST-MODIFIED:20250303T012256Z
UID:20343-1737280800-1737302400@aomori-daibouken.com
SUMMARY:八戸市八食センター てづくりマルシェ
DESCRIPTION:青森県八戸市八食センターにて「てづくりマルシェ」のハンドメイドクラフトイベントが開催されます。 \n\n\n\n        この投稿をInstagramで見る            ディーシーポプュラー（さきちゃん）(@d.c_popular)がシェアした投稿
URL:https://aomori-daibouken.com/event/20343
LOCATION:八食センター\, 〒039-1161 青森県八戸市河原木神才２２−２
CATEGORIES:1月青森イベント,八戸 ハンドメイドイベント2025 クラフト,八食センターイベント
ATTACH;FMTTYPE=image/jpeg:https://aomori-daibouken.com/wp-content/uploads/2025/03/スクリーンショット-2025-03-03-102204.jpg
END:VEVENT
BEGIN:VEVENT
DTSTART;TZID=Asia/Tokyo:20250119T100000
DTEND;TZID=Asia/Tokyo:20250119T140000
DTSTAMP:20260426T014205
CREATED:20250113T082607Z
LAST-MODIFIED:20250210T082653Z
UID:16956-1737280800-1737295200@aomori-daibouken.com
SUMMARY:青森市 アオモリパンマルシェ2025 サンロード青森
DESCRIPTION:2025 アオモリパンマルシェ \n\n\n\n\n日時: 1月19日(日) 10:00～14:00 (なくなり次第終了)\n\n\n\n会場: 1F・サンホール特設会場\n\n\n\n\n出店店舗 \n\n\n\n\n青森市: KAMA’n’BAGEL\n\n\n\n青森市: キズナベーカリー\n\n\n\n青森市: こりっくベーカリー (初出店)\n\n\n\n青森市: CAFE & BAR 2WAY (初出店)\n\n\n\n野辺地町: パン工房 ビリオン\n\n\n\n五所川原市: 3103. (初出店)\n\n\n\n青森市: Café de Ami\n\n\n\n青森市: 青森シフォンケーキ:Socket(初出店)\n\n\n\n青森市: Pommiel Bagle&Cafe (初出店)\n\n\n\n弘前市: Boulangerie 新月\n\n\n\n黒石市: Bakery OSANAI\n\n\n\n八戸市: 小麦の奴隷 八戸店 (初出店)\n\n\n\n\nその他 \n\n\n\n\nお支払いは現金のみとさせていただきます。\n\n\n\n諸事情により、中止・変更する場合がございます。
URL:https://aomori-daibouken.com/event/16956
LOCATION:サンロード青森\, 〒030-0845 青森県青森市緑３丁目９−２
CATEGORIES:1月青森イベント,サンロードイベント,青森マルシェ2025,青森県グルメイベント
ATTACH;FMTTYPE=image/jpeg:https://aomori-daibouken.com/wp-content/uploads/2025/01/474133634_952611576936264_1473964311826431259_n-1.jpg
END:VEVENT
BEGIN:VEVENT
DTSTART;TZID=Asia/Tokyo:20250119T100000
DTEND;TZID=Asia/Tokyo:20250119T140000
DTSTAMP:20260426T014205
CREATED:20241226T011934Z
LAST-MODIFIED:20250119T021152Z
UID:15607-1737280800-1737295200@aomori-daibouken.com
SUMMARY:弘前市 第9回 Aloalo marché クラフト
DESCRIPTION:この投稿をInstagramで見る            三上 華貴｜ママの健康と自立を応援📣💪(@hanachan0409)がシェアした投稿 \n\n\n\n\n\n第9回　Aloalomarché☃️🌈1/19(日) 10時〜14時　泉野多目的コミュニティ施設 \n\n\n\n11月、12月とアロアロ始動し、たくさんの出店者さまやお客さまと出会うことができました💗 \n\n\n\nこの場をお借りしご挨拶させていただきます。今年もご縁くださりましたたくさんの出店者様、お客様ありがとうございました！お世話になりました。来年もよろしくお願い致します🙇‍♀️ \n\n\n\n来年もたくさんの出店者様とアロアロを盛り上げていきたいと思います🕊️💙 \n\n\n\n➡︎出展者さまのご紹介です \n\n\n\nSunny.Craftbandさま　@sunny.craftbandクラフトバンドのバック、小物販売 \n\n\n\nhandmade.ffさま　@handmade.ff布でのバックや小物 その他 \n\n\n\nmadam green辰沙さま　@uranai_shinshaアロマと占いで癒しを(ワークショップ有り) \n\n\n\nサイトウ商店さま　@saitoushouten刺し子と靴下ぬいぐるみ@mguu_factory布小物 \n\n\n\nDONBURIさま　@donburi.meshi具沢山おにぎり \n\n\n\n美の保健室Soleilさま　@shiori.1990.bi.soleil脳休息　低周波ヘッドスパ \n\n\n\nまるゆPHOTOさま　@maruyu.cam節分ブース撮影 \n\n\n\nCocoRiREさま　@_cocorire.chihiro_ハンドマッサージ \n\n\n\notomoさま　@__otomo焼き菓子 \n\n\n\nナチュラルクラフトさま　@miki961221リップバーム、グロス、アイシャドウ、バスボム(ワークショップ有り) \n\n\n\nオハナ〜笑美〜さま　@ohana0712emiフットマッサージ、ハンドマッサージなど \n\n\n\nナチュラルリース＆chie.chieさま@n.natural_leaseフラワーリース＆フリーマーケット \n\n\n\nカイロハウス　みかみさま　@chiro0278mikami健康施術会＆AI姿勢分析 \n\n\n\nからだにやさしいはなちゃんごはん@hanachan0409惣菜など(予定)ワークショップ有り \n\n\n\n皆様にお会いできることを楽しみにしております💗たくさんの出店者様と盛り上げていきます！！ \n\n\n\n泉野多目的コミュニティ施設の多目的にて開催15店舗でのイベントになります施設内狭くご迷惑おかけするかもしれませんが楽しんでいきたいと思います😀 \n\n\n\nよろしくお願い致します🙇‍♀️#aloalomarché#米粉パン#発酵食#楽しい時間#泉野多目的コミュニティ施設# からだにやさしい#ドテラのある生活#楽しい時間はあっという間#年齢なんて関係ない#アトピー#グルテンフリー#知識を増やす#大人が整うと子供整う#選択肢を広げる#happysmile#エッセンシャルオイルのある暮らし#pr#e🕊️
URL:https://aomori-daibouken.com/event/15607
LOCATION:泉野多目的コミュニティ施設\, 〒036-8164 青森県弘前市泉野３丁目６−２
CATEGORIES:1月青森イベント,弘前市イベント 今日 明日 土手町 2025,青森県クラフトイベント 2025 マルシェ
ATTACH;FMTTYPE=image/jpeg:https://aomori-daibouken.com/wp-content/uploads/2024/12/スクリーンショット-2024-12-26-101822.jpg
END:VEVENT
BEGIN:VEVENT
DTSTART;TZID=Asia/Tokyo:20250119T090000
DTEND;TZID=Asia/Tokyo:20250119T150000
DTSTAMP:20260426T014205
CREATED:20241231T045243Z
LAST-MODIFIED:20250111T001046Z
UID:16111-1737277200-1737298800@aomori-daibouken.com
SUMMARY:中泊町 なかどまり新春フェスタ2025 キッチンカー クラフト 3会場同時開催
DESCRIPTION:毎年恒例の【なかどまり新春フェスタ】を開催いたします！「駅ナカ」にぎわい空間（津軽中里駅）、中泊町特産物直売所ピュア、中泊町総合文化センター「パルナス」の3会場同時開催です!! \n\n\n\n\n\n\n\nと　き：令和7年1月19日（日）　10時～15時 \n\n\n\n各会場の主な催しは以下のとおりです。◆「駅ナカ」にぎわい空間：駅フェス＆マルシェでお馴染みの、お客様参加型ステージイベント「大豆つかみゲーム」や「特製恵方巻早食い競争」のほか、「カラオケのど自慢」もあります！　　※「大豆つかみゲーム」「特製恵方巻早食い競争」「カラオケのど自慢」は参加者事前申し込み受付中☆　　参加申込先：0173-57-5720（株式会社アクトプラン） \n\n\n\n当日は各会場を無料シャトルバスで繋ぎますので、津軽鉄道もしくはどちらかの会場にお車を停めたらシャトルバスで各会場の催しをお楽しみください。 \n\n\n\n\n\n\n\n◆中泊町特産物直売所ピュア：来場者の皆さまの投票で決まる！「つけものグランプリ」をメインに、「すしこ」「うんぺい」の津軽の郷土料理づくり体験もあります。 \n\n\n\n\n\n\n\n◆総合文化センター「パルナス」：レザーキーホルダーや偽顔絵、多肉植物の寄せ植え等のクラフト体験とこども縁日もやりますので、たくさんの子どもたちに来ていただけるのを楽しみにしています！キッチンカーもあります。 \nhttps://nakadomari-ctea.jp/archives/2788
URL:https://aomori-daibouken.com/event/16111
LOCATION:津軽中里駅\, 〒037-0305 青森県北津軽郡中泊町中里亀山
CATEGORIES:1月青森イベント,2025青森冬雪まつりイベント,★青森県メインイベント,青森お得情報,青森マルシェ2025,青森ワークショップ,青森県キッチンカーイベント2025,青森県クラフトイベント 2025 マルシェ,青森県グルメイベント
ATTACH;FMTTYPE=image/jpeg:https://aomori-daibouken.com/wp-content/uploads/2024/12/初笑い市-1086x1536-tile-scaled.jpg
END:VEVENT
BEGIN:VEVENT
DTSTART;TZID=Asia/Tokyo:20250119T000000
DTEND;TZID=Asia/Tokyo:20250119T235959
DTSTAMP:20260426T014205
CREATED:20241216T084300Z
LAST-MODIFIED:20250116T125941Z
UID:14278-1737244800-1737331199@aomori-daibouken.com
SUMMARY:八戸市 お菓子のみやきん 八戸店 閉店
DESCRIPTION:😳田向のみやきんさん2025年1月19日までだって😿ここのアップルパイも美味しいですよ😋 pic.twitter.com/4HoVP2nxJT — ゆめうさぎ (@yumeusagi_yuki) November 12\, 2024 \n\n\n\n\nみやきん八戸店は1月19日をもって閉店いたします。 \n\n\n\n文久元年(1861年)に七戸町に創業し、明治41年(1908年)9月27日に、当時皇太子であられた大正天皇が七戸町にある種馬牧場に行啓の折、馬の焼印を押した白い饅頭を献上させていただきました。 \n\n\n\nその白い饅頭を大変気に入ってくださった大正天皇に「駒饅頭」と名付けていただいたことが、当社の看板商品である駒饅頭の始まりです。令和2年(2020年)には、名付けていただいた命名日(9月27日)を、駒饅頭誕生日として日本記念日協会様に認定していただきました。 \n\n\n\n平成26年(2014年)に八戸市に出店し、今年で10年という節目の年になりました。 \n\n\n\n当社の看板商品である駒饅頭の誕生物語を、八戸市の方にも知っていただきたいという、出店当初の目的も一定の成果をあげられたと感じております。 \n\n\n\nこの店でお客様をお迎えした10年の間、駒饅頭と共に沢山の素敵な時間をいただきました。 \n\n\n\n駒饅頭誕生以来初めて行った駒饅頭総選挙。黒い駒饅頭と白い駒饅頭どちらに投票するのか、にこやかに会話されている3世代でご来店いただいたご家族様。ご家族連れでのご来店が多かったのが八戸店でしたので、投票率も一番高かったです。 \n\n\n\n白い駒饅頭が大好きで、誕生日にはデコレーションケーキではなく、白い駒饅頭をデコレーションケーキサイズで注文してくれた、当時まだ小学生の男の子。駒饅頭20個分くらいのサイズでした。一人で食べ切れたのかな? \n\n\n\n駒饅頭誕生日企画の「駒饅頭と私」の俳句募集には、沢山の素敵な俳句をいただきました。 \n\n\n\nイベントの際には近くの保育園、幼稚園の沢山皆様に駒饅頭の塗り絵にご協力していただきました。 \n\n\n\nお客様と共に過ごさせていただいた素敵な時間。 \n\n\n\nお買い物だけではなく、色々なことに協力してくださった特別な時間を書き尽くすことは到底できませんが、全ての出来事に本当に心から感謝の気持ちでいっぱいです。 \n\n\n\nこれからは平成30年(2018年)に七戸町に新設した“SWEETS STUDIO”と、その敷地内である“SWEETS LAND”でお客様をお迎えする為の準備に入ります。 \n\n\n\n常に工場見学ができる見学通路。お菓子の販売はもちろんのこと、カフェ・ベーカリーなども取り揃え、ゆっくりお過ごしすることができることはもちろんのことお急ぎの方、外国人の方などあらゆるお客様にとってさらに使いやすいものとなるように考えております。 \n\n\n\n会社として新たなチャレンジでの沢山の方々との出会いを楽しみにしつつ、これまでのご愛顧に心より御礼申し上げます。ありがとうございました。 \n\n\n\n七戸町、または近隣の市町村へ訪れた際にはぜひお立ち寄りくださいませ。 \n\n\n\nスタッフ一同心よりお待ちしております。
URL:https://aomori-daibouken.com/event/14278
LOCATION:お菓子のみやきん 八戸店\, 〒031-0011 青森県八戸市田向２丁目１４−１３
CATEGORIES:1月青森イベント,八戸市イベント 今日 明日 今週末 2025,八戸市閉店
END:VEVENT
BEGIN:VEVENT
DTSTART;TZID=Asia/Tokyo:20250118T100000
DTEND;TZID=Asia/Tokyo:20250118T130000
DTSTAMP:20260426T014205
CREATED:20250105T042927Z
LAST-MODIFIED:20250106T005214Z
UID:16363-1737194400-1737205200@aomori-daibouken.com
SUMMARY:道の駅よこはま ぬぐだまるフェス！
DESCRIPTION:産直団体なたねの会の冬のイベントが、1/18（土）に行われます！道の駅店内で行いますが、外と変わらず寒いので、暖かい服装でお越しください！お待ちしておりま～す！ \nhttps://www.nanohana-plaza.com/2077
URL:https://aomori-daibouken.com/event/16363
LOCATION:道の駅よこはま\, 〒039-4134 青森県上北郡横浜町林ノ脇７９−１２
CATEGORIES:1月青森イベント,★青森県メインイベント,下北イベント,青森お得情報,青森県道の駅イベント
ATTACH;FMTTYPE=image/jpeg:https://aomori-daibouken.com/wp-content/uploads/2025/01/216a54e059250c8835a714dd893fc39b-1086x1536-1.jpg
END:VEVENT
BEGIN:VEVENT
DTSTART;TZID=Asia/Tokyo:20250118T000000
DTEND;TZID=Asia/Tokyo:20250119T235959
DTSTAMP:20260426T014205
CREATED:20250112T020502Z
LAST-MODIFIED:20250302T000112Z
UID:16907-1737158400-1737331199@aomori-daibouken.com
SUMMARY:五所川原市エルム ラーメン街道 ワンコインラーメン祭り 500円
DESCRIPTION:https://elm-no-machi.jp/info/#3544\n\n\n\n青森県五所川原市エルム ラーメン街道 クーポンお得情報2025年1月18日
URL:https://aomori-daibouken.com/event/16907
LOCATION:ELM（エルム）\, 〒037-0004 青森県五所川原市唐笠柳藤巻５１７−１
CATEGORIES:1月青森イベント,五所川原市イベント,青森お得情報
ATTACH;FMTTYPE=image/jpeg:https://aomori-daibouken.com/wp-content/uploads/2025/01/master-5.jpg
END:VEVENT
BEGIN:VEVENT
DTSTART;TZID=Asia/Tokyo:20250118T000000
DTEND;TZID=Asia/Tokyo:20250119T235959
DTSTAMP:20260426T014205
CREATED:20250109T045002Z
LAST-MODIFIED:20250303T003258Z
UID:16737-1737158400-1737331199@aomori-daibouken.com
SUMMARY:青森市アスパム 週末マルシェ2025 グルメ・クラフトイベント
DESCRIPTION:https://x.com/aspmkanko\n\n\n\n・こみやげ処での「ちはる」の出店はキャンセルとなりました https://t.co/oXmox5R5eh — アスパム△【公式】 (@aspmkanko) January 12\, 2025 \n\n\n\n\n\n\n\n\n\n\n\n\n\n青森市アスパムイベント今日以降今後の イベント はありません。
URL:https://aomori-daibouken.com/event/16737
LOCATION:青森県観光物産館アスパム\, 安方1－1－40\, 青森市\, 青森県\, 日本
CATEGORIES:1月青森イベント,★青森県メインイベント,アスパムイベント 今日 青森市 2025 新町,青森マルシェ2025,青森市クラフトイベント2025 ハンドメイド
ATTACH;FMTTYPE=image/jpeg:https://aomori-daibouken.com/wp-content/uploads/2025/01/8758_1_l.jpg
END:VEVENT
BEGIN:VEVENT
DTSTART;TZID=Asia/Tokyo:20250118T000000
DTEND;TZID=Asia/Tokyo:20250118T235959
DTSTAMP:20260426T014205
CREATED:20250114T232138Z
LAST-MODIFIED:20250124T040052Z
UID:17027-1737158400-1737244799@aomori-daibouken.com
SUMMARY:八戸市 チャオズ& オープン 手作り餃子&ラーメン 下長
DESCRIPTION:『八戸市・餃子とラーメンの店「チャオズ&」２０２５年１月１８日（土）グランドオープン！早速食べみた』ど〜も〜どもども〜本日ご紹介させていただきますのはタイトル通り２０２５年１月１８日（土）グランドオープンされた手作り餃子とラーメンの店「チャオズ＆（チャオズア…ameblo.jp\n\n\n\n\n\n初めまして！　 \n\n\n\n“チャオズ&”と申します😁 \n\n\n\nこの度、下長の元広州さんの跡地に”手作り餃子&ラーメン”で、今月の18日、オープン(予定)させて頂きます！ \n\n\n\nここまでの道のりは長かった😅ですが、皆様のおかげで、やっと、オープンまで、辿り着きました。ありがとうございます😊 \n\n\n\nオープンさせて頂く事を、考えただけで、ウキウキ、ワクワクと胸が高まっております✨✨ \n\n\n\n若干更年期かなと思う、ドキドキ💓もありますが😅　また、次回詳しく配信させて下さい🙏 \n\n\n\nよろしくお願い致します😁 \n\n\n\n八戸市下長４丁目18ー17 \n\n\n\nチャオズ& \n\n\n\nまだ、固定電話ないです \n\n\n\n営業時間　　11時ー15時定休日　　　水曜日 \n\n\n\n#新店舗#チャオズ&#皮から手作り餃子 \nhttps://www.instagram.com/p/DExAhGQhafH/
URL:https://aomori-daibouken.com/event/17027
LOCATION:チャオズ&\, 青森県八戸市下長４丁目18ー17
CATEGORIES:八戸市イベント 今日 明日 今週末 2025,八戸市ラーメン開店
END:VEVENT
BEGIN:VEVENT
DTSTART;TZID=Asia/Tokyo:20250118T000000
DTEND;TZID=Asia/Tokyo:20250118T235959
DTSTAMP:20260426T014205
CREATED:20250114T000648Z
LAST-MODIFIED:20250114T232836Z
UID:16980-1737158400-1737244799@aomori-daibouken.com
SUMMARY:青森市 中華そば2代目おのむら オープン ラーメン
DESCRIPTION:1/18（土）7:00より、いよいよグランドオープンいたします。　 \n\n\n\n2022年、惜しまれつつ閉店した青森市浪岡の名店　“中華そばおのむら”初代の元で修行をし、この度“二代目”として受け継がせていただきました。　 \n\n\n\n芳醇な煮干しの香りが溶け込んだ美しいスープと、歯切れの良い麺。慣れ親しんだあの味をぜひもう一度、ご賞味ください。　 \n\n\n\n皆さまのご来店を心よりお待ちしております。 \n\n\n\n《住所》　〒030-0823 青森県青森市橋本1丁目5-16-103 \n\n\n\n《営業時間》　7:00〜9:00／11:00〜14:00不定休（休業日はストーリーズ等でご案内いたします。）　 \n\n\n\n※営業時間等は今後変更になる場合がございます。　 \n\n\n\nメニュー\n\n\n\n\nhttps://www.instagram.com/onomura_2nd_ramen\n\n\n\n \n\n\n\n\n\n青森市 中華そば2代目おのむら プレオープン ラーメン青森市浪岡にありました“中華そばおのむら”の味をそのままに、二代目として引き継がせていただきました。 初代から受け継いだ自家製麺と丁寧に仕込んだスープで、渾身の一杯をご用意しております。 ぜひ、懐かし...aomori-daibouken.com
URL:https://aomori-daibouken.com/event/16980
LOCATION:中華そば二代目おのむら\, 〒030-0823 青森県青森市橋本1丁目5-16-103
CATEGORIES:1月青森イベント,青森市イベント 今日 明日 今週末 2025,青森市ラーメン開店
ATTACH;FMTTYPE=image/jpeg:https://aomori-daibouken.com/wp-content/uploads/2025/01/473643791_1524973291548800_3535738642268314385_n.jpg
END:VEVENT
BEGIN:VEVENT
DTSTART;TZID=Asia/Tokyo:20250117T000000
DTEND;TZID=Asia/Tokyo:20250123T235959
DTSTAMP:20260426T014205
CREATED:20250117T003635Z
LAST-MODIFIED:20250208T031705Z
UID:17128-1737072000-1737676799@aomori-daibouken.com
SUMMARY:青森市 八戸市 コストコ再販店 くまさんマーケット セール
DESCRIPTION:お得🉐に買える商品をご案内☺️🔥 \n\n\n\n定番人気商品を中心にチョイスしております!!! \n\n\n\n🉐シャウエッセン冷蔵商品！数量限定！ \n\n\n\n🉐ティラミスカップ冷蔵商品！ガラスの器に入ったイタリア直送🇮🇹本格ティラミス超人気商品です！！ \n\n\n\n🉐KIRKLAND韓国海苔定番商品！ \n\n\n\n🉐チアシード蒟蒻ゼリー去年でた新商品!!!中に入ってるチアシードのつぶつぶがクセになる✨✨✨くまおは特にレモン🍋がすき。 \n\n\n\n🉐Campbellクラムチャウダー温めるだけで本格クラムチャウダー定番商品！ \n\n\n\n🉐Hamletクリスピーチョコいろんな味があるけど、くまおはバナナが🍌好き😏その次はストロベリー🍓 \n\n\n\n🉐おさつどきっプレミアム塩バターはコストコ限定味って知ってましたか？塩っけがなんともうまい。定番商品かつ超人気商品！ \n\n\n\n🉐おむつ新町店のみのSALEになってます、、すみません🥹🥹🥹おむつ！！安いよー！！！！数量限定です！！ \n\n\n\n🉐おしりふきKIRKLAND、リコのおしりふきよりは薄手になってますがその代わりめちゃくちゃ安いのでコスパ◎ \n\n\n\n23日までとなっております！ご用意分が売り切れ次第通常価格に戻ります🙂 \n\n\n\n#コストコ再販店#Costco#八戸#青森 \nhttps://www.instagram.com/p/DE4rFY0vbxN/
URL:https://aomori-daibouken.com/event/17128
LOCATION:くまさんマーケット\, くまさんマーケット
CATEGORIES:八戸市クーポン,八戸市コストコ,青森コストコ,青森市コストコ
ATTACH;FMTTYPE=image/jpeg:https://aomori-daibouken.com/wp-content/uploads/2025/01/474019043_18287170252243744_4169424080158511576_n.jpg
END:VEVENT
BEGIN:VEVENT
DTSTART;TZID=Asia/Tokyo:20250117T000000
DTEND;TZID=Asia/Tokyo:20250122T235959
DTSTAMP:20260426T014205
CREATED:20250120T043508Z
LAST-MODIFIED:20250120T043509Z
UID:17222-1737072000-1737590399@aomori-daibouken.com
SUMMARY:東京都中央区銀座 青森 津軽ツナガルマルシェ
DESCRIPTION:＼＼🍎津軽ツナガルマルシェ🍎／／青森県津軽地域の魅力をたっぷり味わえるマルシェを開催！津軽の名産品との出会いをお楽しみください♪会場　MATSUYA GINZA 8階イベントスクエア期間　１月17日(金)～22日(水)時間　11時～20時※19日(日)は19時30分、最終日は17時閉場 pic.twitter.com/d4EafuJqdZ — 弘前市東京事務所 (@hirosaki_tokyo) January 15\, 2025 \n\n\n\n\n青森県津軽地域の魅力をたっぷり味わえるマルシェを開催！ 焼きたてアップルパイの販売から、りんご飴の実演販売、伝統工芸品のこけしの制作実演まで。 美味しくて心温まる、津軽の名産品との出合いをお楽しみください。 \n\n\n\n実演・目玉 \n\n\n\n \n\n\n\n＜あら、りんご。(á la ringo)＞ 【数量限定】焼きたてアップルパイ \n\n\n\n（1個）480円 \n\n\n\n焼きたて提供時間：各日 午前11時、午後1時、午後3時、午後6時（各回50個限り） ※当日の状況により、変更となる場合がございます。 角切りにしたごろっと食感のりんごをたっぷり、 サクサク生地で包み込んだ自慢のアップルパイ。 一口頬張れば、りんごの果汁と優しい甘さが口いっぱいに広がります。 \n\n\n\n \n\n\n\n＜あら、りんご。(á la ringo)＞ りんご飴 各種 \n\n\n\n（1個）各660円 \n\n\n\n＜あら、りんご。(á la ringo)＞の人気商品りんご飴に、 ミルクティーをトッピングした松屋銀座限定フレーバーも登場！ \n\n\n\n \n\n\n\n＜農家の刺客＞ 農家のおやつ ジェラート 各種 \n\n\n\n（1個）各594円 \n\n\n\nつがる市産のブランド農作物を贅沢に使用したジェラート。 名産であるナガイモを練り込んだ、ねっとり食感が特徴です。 新感覚な味わいを是非お楽しみください。 \n\n\n\n津軽の逸品 \n\n\n\n \n\n\n\n謹製 津軽たんげ ＜藤崎りんごジュース＞ \n\n\n\n（720ml）1\,815円 \n\n\n\n藤崎町 松屋と津軽14市町村からなる観光地域づくり法人「クランピオニー津軽」が共同開発した新お土産ブランド「謹製 津軽たんげ」。りんご「ふじ」の発祥地である藤崎町のりんごを使ったりんごジュース。 \n\n\n\n \n\n\n\n＜黒石市観光開発公社＞ クリーミーポタージュ \n\n\n\n各種（1個）各540円 \n\n\n\n黒石市 野菜の旨みがたっぷり入った濃厚なクリーミーポタージュ。 北国の自然の恵みをご賞味ください。 \n\n\n\n \n\n\n\n＜風丸農場＞ 中まで赤いりんごジャム \n\n\n\n（1個）745円 \n\n\n\n鰺ヶ沢町 中まで赤いりんごの品種ジュネバの鮮やかな色と さわやかな酸味を生かした甘酸っぱいジャムです。 \n\n\n\n \n\n\n\n＜お菓子のヒロヤ＞ りんごケーキ \n\n\n\n（1個）1\,320円 \n\n\n\n弘前市 りんごをたっぷり使ったりんごケーキ。 大きなりんごを並べてりんごの食感を出しました。 冷やして食べるとりんごの甘さが引き立ちます。 \n\n\n\n \n\n\n\n＜アグリコミュニケーションズ津軽＞ bouquet \n\n\n\n（8個入）2\,000円 \n\n\n\n五所川原市 りんごを一つ一つ丁寧に手作業でバラの形にし、 甘さと酸味が凝縮したパリッとした食感のアップルチップス。 大切な人への贈り物にも最適。 \n\n\n\nアップルパイ特集 \n\n\n\n \n\n\n\n＜タムラファーム＞ \n\n\n\n（1個）648円 \n\n\n\n販売日：1月17日（金）ー19日（日）　各日200個限り 自家農園で育てた紅玉を丁寧にソテーし、 フレッシュな果肉の食感を生かしたアップルパイ。 紅玉の美味しさがストレートに伝わります。 \n\n\n\n \n\n\n\n＜ボンジュール＞ \n\n\n\n（1個）648円 \n\n\n\n販売日：1月20日（月）ー22日（水）　各日300個限り ほどよい酸味をきかせて柔らかく煮詰めた紅玉と、バターを多めに入れた自家製のパイ生地は、口の中でサクサクとろける美味しさです。 \n\n\n\n \n\n\n\n＜アントルメ佐藤菓子店＞ \n\n\n\n（1個）648円 \n\n\n\n各日100個限り キャラメリゼされたパイのザクザク感、とろとろ滑らかなカスタードクリーム、ごろごろ入ったふじりんごのシャキッとした食感が楽しめます。 \n\n\n\nイベント \n\n\n\n \n\n\n\nルビンのこけし（左からファミリー／ペア）制作実演、販売会 \n\n\n\n各6\,600円 \n\n\n\n青森県黒石市のふるさと納税返礼品として取り扱っている「ルビンのこけし」が会場に！ 今回は特別に阿保正文工人を迎え、制作実演も実施いたします。 \n\n\n\n※画像はイメージです。 ※表示価格はすべて税込です。
URL:https://aomori-daibouken.com/event/17222
LOCATION:MATSUYA GINZA\, 〒104-8130 東京都中央区銀座3-6-1
CATEGORIES:青森 物産展 アンテナショップ フェア2025
END:VEVENT
BEGIN:VEVENT
DTSTART;TZID=Asia/Tokyo:20250117T000000
DTEND;TZID=Asia/Tokyo:20250119T235959
DTSTAMP:20260426T014205
CREATED:20250114T002612Z
LAST-MODIFIED:20250119T060931Z
UID:16993-1737072000-1737331199@aomori-daibouken.com
SUMMARY:弘前市 PANTO弘前店 オープン記念特典プレゼント
DESCRIPTION:青森店と弘前店どちらもオープン3日間の間、店頭で商品ご購入のお客様に \n\n\n\n●公式LINE登録で食パン1斤●Instagramフォローで焼き菓子1個 \n\n\n\nプレゼントします‼︎🎉 \n\n\n\n特典の食パン・焼き菓子は無くなり次第終了となります。お早めにお越しください☺️事前にLINE登録、Instagramフォローして頂くとスムーズにお渡しできます🎵 \n\n\n\nPANTO青森店 1/16（木）　OpenPANTO弘前店 1/17 （金）　Open \n\n\n\n皆様のお越しを心からお待ちしております✨ \n\n\n\n🥖今日の店長の一言🥖オープンの日だば、カラッと晴れでけねばまいねな〜！ \n\n\n\n#PANTO#国産#米粉#無添加#和洋折衷#日本#ALL JAPAN#青森パン#青森食パン \nhttps://www.instagram.com/p/DEuNR6BTkMX/?img_index=1
URL:https://aomori-daibouken.com/event/16993
LOCATION:PANTO弘前店\, 〒036-8087 青森県弘前市早稲田１丁目２−４
CATEGORIES:1月青森イベント,弘前市イベント 今日 明日 土手町 2025,弘前市クーポン
ATTACH;FMTTYPE=image/jpeg:https://aomori-daibouken.com/wp-content/uploads/2025/01/473559244_628630023071532_8860880231134457447_n.jpg
END:VEVENT
BEGIN:VEVENT
DTSTART;TZID=Asia/Tokyo:20250117T000000
DTEND;TZID=Asia/Tokyo:20250117T235959
DTSTAMP:20260426T014205
CREATED:20250124T030038Z
LAST-MODIFIED:20250124T030039Z
UID:17680-1737072000-1737158399@aomori-daibouken.com
SUMMARY:八戸市 レッドハウス 移転オープン
DESCRIPTION:ちなみに暖房は簡易的なものですので申し訳ございませんが、温かい格好でお越し下さい。 https://t.co/5WDrNeAY5y — レッドハウス＠青森県八戸市 (@ledhouse2011) January 16\, 2025 \n\n\n\nこんな外観です。ちょい引っ込んでますんでお見逃しなく。小中野ショッピングプラザでの営業残り5日・・・ https://t.co/6NFPMLzzHH pic.twitter.com/2OQqrxrCd5 — レッドハウス＠青森県八戸市 (@ledhouse2011) December 25\, 2024 \n\n\n\n\n\nトレカ 通販 | トレカ通販ショップ | トレカ販売 - トレマ遊戯王 | ヴァンガード | ヴァイスシュヴァルツ | デュエルマスターズ | バトルスピリッツ | マジック・ザ・ギャザリング | バディファイト | アンジュ・ヴィエルジュ | コロッサス・オーダ...www.tcgmp.jp
URL:https://aomori-daibouken.com/event/17680
LOCATION:レッドハウス\, 〒031-0822 青森県八戸市白銀町三島上３８−３
CATEGORIES:1月青森イベント,八戸市イベント 今日 明日 今週末 2025,八戸市開店
END:VEVENT
BEGIN:VEVENT
DTSTART;TZID=Asia/Tokyo:20250117T000000
DTEND;TZID=Asia/Tokyo:20250117T235959
DTSTAMP:20260426T014205
CREATED:20250103T013059Z
LAST-MODIFIED:20250114T001511Z
UID:16182-1737072000-1737158399@aomori-daibouken.com
SUMMARY:弘前市 PANTO弘前店 オープン
DESCRIPTION:旧高級「生」食パン専門店 乃が美はなれ弘前店が閉店しPANTO弘前店がオープンします。 \n\n\n\n\n\n\n\n\n国産小麦100%PANTO本気の食パンや、米粉100%無添加スフレ、県産食材を使用した菓子パンや、ボリューム満点の惣菜パン、和の風味が香る出汁入りフランスパン、こだわりの焼き菓子など✨バラエティ豊かな商品をお楽しみいただけるパン屋です👩🏻‍🍳♩・オープンイベントとして数量限定でプレゼントもご用意しております❣️詳しくはチラシでご確認下さいませ😊.※ただいま準備中🪧【PANTO青森店】1月16日(木)OPEN🌷　青森市東造道3-4-5（旧乃が美跡地）　📞017-736-1477　🕗8:00〜17:00.【PANTO弘前店】1月17日(金)OPEN🌷　弘前市早稲田1-2-4（旧乃が美跡地）　📞0172-26-6212　🕗10:00〜17:00.最新情報はこのアカウントで随時お知らせします！フォローしてお見逃しなく👀💬よろしくお願いします✨.#PANTO#国産#米粉#無添加#和洋折衷#日本#ALL JAPAN#パン#食パン#青森パン#青森食パン \nhttps://www.instagram.com/panto_aomori/
URL:https://aomori-daibouken.com/event/16182
LOCATION:PANTO弘前店\, 〒036-8087 青森県弘前市早稲田１丁目２−４
CATEGORIES:弘前市イベント 今日 明日 土手町 2025,弘前市開店
ATTACH;FMTTYPE=image/jpeg:https://aomori-daibouken.com/wp-content/uploads/2025/01/471913495_1153889136330475_7579793748844888066_n.jpg
END:VEVENT
BEGIN:VEVENT
DTSTART;TZID=Asia/Tokyo:20250116T093000
DTEND;TZID=Asia/Tokyo:20250131T180000
DTSTAMP:20260426T014205
CREATED:20250116T235333Z
LAST-MODIFIED:20250131T111839Z
UID:17118-1737019800-1738346400@aomori-daibouken.com
SUMMARY:黒石市 2025マッコ市予約 メガ黒石店 コスメコーナー
DESCRIPTION:https://www.beny.co.jp/news/megakosumemakko/
URL:https://aomori-daibouken.com/event/17118
LOCATION:メガ 黒石店\, 〒036-0356 青森県黒石市ちとせ３丁目２
CATEGORIES:黒石マッコ市2025チラシ,黒石市イベント
ATTACH;FMTTYPE=image/webp:https://aomori-daibouken.com/wp-content/uploads/2025/01/2502マッコ市コスメA3-3-1086x1536.jpg.webp
END:VEVENT
BEGIN:VEVENT
DTSTART;TZID=Asia/Tokyo:20250116T000000
DTEND;TZID=Asia/Tokyo:20250118T235959
DTSTAMP:20260426T014205
CREATED:20250114T002228Z
LAST-MODIFIED:20250114T002230Z
UID:16988-1736985600-1737244799@aomori-daibouken.com
SUMMARY:青森市 PANTO青森店 オープン記念特典プレゼント
DESCRIPTION:青森店と弘前店どちらもオープン3日間の間、店頭で商品ご購入のお客様に \n\n\n\n●公式LINE登録で食パン1斤●Instagramフォローで焼き菓子1個 \n\n\n\nプレゼントします‼︎🎉 \n\n\n\n特典の食パン・焼き菓子は無くなり次第終了となります。お早めにお越しください☺️事前にLINE登録、Instagramフォローして頂くとスムーズにお渡しできます🎵 \n\n\n\nPANTO青森店 1/16（木）　OpenPANTO弘前店 1/17 （金）　Open \n\n\n\n皆様のお越しを心からお待ちしております✨ \n\n\n\n🥖今日の店長の一言🥖オープンの日だば、カラッと晴れでけねばまいねな〜！ \n\n\n\n#PANTO#国産#米粉#無添加#和洋折衷#日本#ALL JAPAN#青森パン#青森食パン \nhttps://www.instagram.com/p/DEuNR6BTkMX/?img_index=1
URL:https://aomori-daibouken.com/event/16988
LOCATION:PANTO青森店\, 〒030-0913 ⻘森県 ⻘森市東造道3-4-5 和⽥ビル１F
CATEGORIES:1月青森イベント,青森市イベント 今日 明日 今週末 2025,青森市クーポン・お得情報
ATTACH;FMTTYPE=image/jpeg:https://aomori-daibouken.com/wp-content/uploads/2025/01/473559244_628630023071532_8860880231134457447_n.jpg
END:VEVENT
BEGIN:VEVENT
DTSTART;TZID=Asia/Tokyo:20250116T000000
DTEND;TZID=Asia/Tokyo:20250116T235959
DTSTAMP:20260426T014205
CREATED:20241228T123042Z
LAST-MODIFIED:20250114T001152Z
UID:15902-1736985600-1737071999@aomori-daibouken.com
SUMMARY:青森市 PANTO青森店 オープン 乃が美はなれ青森店跡地
DESCRIPTION:青森県青森市東造道に1月16日(木) NEW OPENいたします【PANTO】です🍞♡.国産小麦100%PANTO本気の食パンや、米粉100%無添加スフレ、県産食材を使用した菓子パンや、ボリューム満点の惣菜パン、和の風味が香る出汁入りフランスパン、こだわりの焼き菓子など✨バラエティ豊かな商品をお楽しみいただけるパン屋です👩🏻‍🍳♩・オープンイベントとして数量限定でプレゼントもご用意しております❣️詳しくはチラシでご確認下さいませ😊.※ただいま準備中🪧【PANTO青森店】1月16日(木)OPEN🌷　青森市東造道3-4-5（旧乃が美跡地）　📞017-736-1477　🕗8:00〜17:00.【PANTO弘前店】1月17日(金)OPEN🌷　弘前市早稲田1-2-4（旧乃が美跡地）　📞0172-26-6212　🕗10:00〜17:00.最新情報はこのアカウントで随時お知らせします！フォローしてお見逃しなく👀💬よろしくお願いします✨.#PANTO#国産#米粉#無添加#和洋折衷#日本#ALL JAPAN#パン#食パン#青森パン#青森食パン \nhttps://www.instagram.com/panto_aomori/
URL:https://aomori-daibouken.com/event/15902
LOCATION:PANTO青森店\, 〒030-0913 ⻘森県 ⻘森市東造道3-4-5 和⽥ビル１F
CATEGORIES:青森市イベント 今日 明日 今週末 2025,青森市開店
ATTACH;FMTTYPE=image/jpeg:https://aomori-daibouken.com/wp-content/uploads/2024/12/471919075_1296198091510439_5752443422620454335_n.jpg
END:VEVENT
BEGIN:VEVENT
DTSTART;TZID=Asia/Tokyo:20250115T000000
DTEND;TZID=Asia/Tokyo:20250115T235959
DTSTAMP:20260426T014205
CREATED:20250206T021013Z
LAST-MODIFIED:20250206T021015Z
UID:18751-1736899200-1736985599@aomori-daibouken.com
SUMMARY:弘前市健生病院内いきいき食堂～味噌ラーメン専科～やど香り惣菜店 オープン 土日祝限定
DESCRIPTION:/1月25日(土)明日から健生病院内いきいき食堂で土日限定11:00-14:00までスープ無くなり次第終了です😊🍜 pic.twitter.com/Y0wLwS9Zw4 — やど香り唐揚げ (@karaage333675) January 24\, 2025
URL:https://aomori-daibouken.com/event/18751
LOCATION:津軽保健生活協同組合 健生病院\, 〒036-8511 青森県弘前市扇町２丁目２−２
CATEGORIES:1月青森イベント,弘前ラーメン開店,弘前市イベント 今日 明日 土手町 2025,弘前市開店
END:VEVENT
BEGIN:VEVENT
DTSTART;TZID=Asia/Tokyo:20250115T000000
DTEND;TZID=Asia/Tokyo:20250115T235959
DTSTAMP:20260426T014205
CREATED:20250115T061519Z
LAST-MODIFIED:20250115T061520Z
UID:17074-1736899200-1736985599@aomori-daibouken.com
SUMMARY:むつ市 カラオケ合衆国むつ店 ランチデー
DESCRIPTION:本日ランチデー🍜55歳以上の方はもっとお得に🉐楽しめちゃいますよーー٩( ᐛ )و pic.twitter.com/jIOmj84PRN — 【公式】カラオケ合衆国むつ店 (@gasshu_mutsu) January 15\, 2025
URL:https://aomori-daibouken.com/event/17074
LOCATION:カラオケ合衆国むつ店\, 〒035-0061 青森県むつ市下北町７−１７
CATEGORIES:むつ市イベント,青森お得情報
ATTACH;FMTTYPE=image/jpeg:https://aomori-daibouken.com/wp-content/uploads/2025/01/GhS_TR5boAA9U6f.jpg
END:VEVENT
END:VCALENDAR