BEGIN:VCALENDAR
VERSION:2.0
PRODID:-//青森大冒険-イベントカレンダー情報とブログ- - ECPv6.15.20//NONSGML v1.0//EN
CALSCALE:GREGORIAN
METHOD:PUBLISH
X-WR-CALNAME:青森大冒険-イベントカレンダー情報とブログ-
X-ORIGINAL-URL:https://aomori-daibouken.com
X-WR-CALDESC:青森大冒険-イベントカレンダー情報とブログ- のイベント
REFRESH-INTERVAL;VALUE=DURATION:PT1H
X-Robots-Tag:noindex
X-PUBLISHED-TTL:PT1H
BEGIN:VTIMEZONE
TZID:Asia/Tokyo
BEGIN:STANDARD
TZOFFSETFROM:+0900
TZOFFSETTO:+0900
TZNAME:JST
DTSTART:20240101T000000
END:STANDARD
END:VTIMEZONE
BEGIN:VEVENT
DTSTART;TZID=Asia/Tokyo:20250221T000000
DTEND;TZID=Asia/Tokyo:20250221T235959
DTSTAMP:20260424T175152
CREATED:20250213T054209Z
LAST-MODIFIED:20250217T230037Z
UID:19373-1740096000-1740182399@aomori-daibouken.com
SUMMARY:弘前市シーナシーナ弘前 ゼッテリア 2/21オープン予定
DESCRIPTION:メイン商品である「絶品バーガー」と気軽に楽しめるお店という意味を込めた言葉としての「カフェテリア」を組み合わせて生まれたブランド。お客様に「いつでもどこでも気軽に楽しく」お食事をしていただきたいという想いを込めた、日本発祥のバーガーチェーン店。ハンバーガーの他、ポテトやシェーキ等を店内飲食またはお持ち帰りで提供。朝食メニューやキッズセットも展開。おひとりでもご家族連れでも気軽にご利用いただけます \n\n\n\n2025年2月21日 オープン予定 \n\n\n\n営業時間 \n\n\n\n平日9:00～21:00（ラストオーダー 20:30） \n\n\n\n土日祝9:00～21:00（ラストオーダー 20:30） \n\n\n\n2月21日（金）～2月25日（火） 10時オープン \nhttps://www.zetteria.jp/shop/shop1201.html
URL:https://aomori-daibouken.com/event/19373
LOCATION:CiiNA CiiNA(シーナシーナ) 弘前\, 〒036-8002 青森県弘前市駅前３丁目2−１
CATEGORIES:2月青森イベント,弘前市イベント 今日 明日 土手町 2025,弘前市開店
ATTACH;FMTTYPE=image/jpeg:https://aomori-daibouken.com/wp-content/uploads/2025/02/image-31.jpg
END:VEVENT
BEGIN:VEVENT
DTSTART;TZID=Asia/Tokyo:20250220T093000
DTEND;TZID=Asia/Tokyo:20250220T163000
DTSTAMP:20260424T175152
CREATED:20250219T122106Z
LAST-MODIFIED:20250219T122107Z
UID:19792-1740043800-1740069000@aomori-daibouken.com
SUMMARY:三沢市 ツインプラザ三沢 アトリエ ルディック
DESCRIPTION:ツインプラザ三沢2月イベント情報💖※投稿が遅くなり申し訳ございません。 \n\n\n\n💁‍♀️2月20日(木)　※毎月第３木曜日開催⏰9:30〜16:30 \n\n\n\n【アトリエ　ルディック】を開催いたします💫 \n\n\n\n今回もかわいい作品が作れます🥰 \n\n\n\nキッチンカーも出店いたします🚚 \n\n\n\nご家族、お友達揃ってお越しください❣️ \n\n\n\n✎@ateliers_ludiques@tamayura_12.y@yukiusagi.shirotae@atoriemaki@coco.5898@sheicasroom \n\n\n\nキッチンカー🚚@konbiree_oyatsu_@sei_sette67 \nhttps://www.instagram.com/twinplazamisawa/
URL:https://aomori-daibouken.com/event/19792
LOCATION:トヨタツインプラザ三沢（青森トヨタ・ネッツトヨタ青森）\, 〒033-0035 青森県三沢市松原町２丁目３１−２５７０
CATEGORIES:2月青森イベント,三沢市イベント,三沢市キッチンカーイベント2025,青森県クラフトイベント 2025 マルシェ
ATTACH;FMTTYPE=image/jpeg:https://aomori-daibouken.com/wp-content/uploads/2025/02/480790482_17995251293762068_2950185529342518745_n.jpg
END:VEVENT
BEGIN:VEVENT
DTSTART;TZID=Asia/Tokyo:20250220T000000
DTEND;TZID=Asia/Tokyo:20250325T235959
DTSTAMP:20260424T175152
CREATED:20250220T063109Z
LAST-MODIFIED:20250220T063110Z
UID:19834-1740009600-1742947199@aomori-daibouken.com
SUMMARY:栃木県佐野市 道の駅どまんなかたぬま 青森フェア
DESCRIPTION:🎉イベント情報🎉 \n\n\n\n2/20（木）～3/25（火）にて青森フェアが開催されます！ \n\n\n\n◆毎週土曜日入荷しては瞬く間に売れてしまうマーガリンとグラニュー等の絶妙なハーモニー【イギリストースト】 \n\n\n\n◆青森県八戸地方に伝わる郷土料理にてB-1ゴールドグランプリ受賞商品【八戸せんべい汁】 \n\n\n\n◆なめらかなカスタードクリームの中に青森県産リンゴで作った果肉入りアップルソースを閉じ込めたふんわりケーキ【いのちのりんご】 \n\n\n\n多数の魅力的な青森のご当地商品が、お客様をお待ちしております！ \nhttps://www.instagram.com/domannakatanuma/\n\n\n\n\nこんにちは🍃本日も風が強いですね💦お出かけの際はお気をつけ下さいませ😌 \n\n\n\n道の駅どまんなかたぬまでは、本日から#青森フェア を開催しております！今をときめく大人気芸人#かまいたち さんも#大絶賛 の #チョコQ助 も#数量限定 で入荷！！※チョコQ助は一家族様3点までとさせていただきます。 \n\n\n\nその他にも青森の魅力あふれる商品をどどんと約100種類！お届けいたします♪ご来店の際はぜひチェックしてみてください👀✨️ \nhttps://www.instagram.com/domannakatanuma/
URL:https://aomori-daibouken.com/event/19834
LOCATION:道の駅どまんなかたぬま\, 〒327-0313 栃木県佐野市吉水町３６６−２
CATEGORIES:青森 物産展 アンテナショップ フェア2025
ATTACH;FMTTYPE=image/jpeg:https://aomori-daibouken.com/wp-content/uploads/2025/02/480745893_1165791388888606_6342115545859232355_n.jpg
END:VEVENT
BEGIN:VEVENT
DTSTART;TZID=Asia/Tokyo:20250220T000000
DTEND;TZID=Asia/Tokyo:20250220T235959
DTSTAMP:20260424T175152
CREATED:20250227T222932Z
LAST-MODIFIED:20251205T000125Z
UID:20204-1740009600-1740095999@aomori-daibouken.com
SUMMARY:弘前市本町 俺の餃子 オープン
DESCRIPTION:「俺の餃子」は、青森県弘前市本町に位置する餃子メインの居酒屋です。この店は2025年2月20日にオープンしました。 \n\n\n\n店舗の概要 \n\n\n\n\n住所: 青森県弘前市本町107\n\n\n\n営業時間:\n\n火曜日から日曜日までの17:00から22:00まで営業（ラストオーダーは21:30）。\n\n\n\n月曜日は定休日です。\n\n\n\n\n\nメニュー:\n\n主なメニューには「俺の餃子」、「しそ餃子」、「鶏皮餃子」などがあり、各種餃子が楽しめます。餃子の他にも、黒石つゆ焼きそばやおつまみメニューも提供されています。\n\n\n\n\n\n雰囲気: 居酒屋スタイルで、カジュアルな雰囲気の中で食事を楽しむことができます。予約も可能ですが、詳細は事前に確認することが推奨されます。\n\n\n\nアクセス: 中央弘前駅から徒歩約8分の距離にあり、アクセスも良好です。\n\n\n\n\nこのように、「俺の餃子」は弘前市で餃子を楽しむには最適な場所であり、地元の食文化を体験するのにぴったりのスポットです。 \n\n\n\n        この投稿をInstagramで見る            俺の餃子(@oreno__gyoza)がシェアした投稿 \n\n\n\n\n        この投稿をInstagramで見る            俺の餃子(@oreno__gyoza)がシェアした投稿
URL:https://aomori-daibouken.com/event/20204
LOCATION:俺の餃子\, 〒036-8203 青森県弘前市本町107
CATEGORIES:2月青森イベント,弘前市イベント 今日 明日 土手町 2025,弘前市開店,青森県グルメイベント
ATTACH;FMTTYPE=image/jpeg:https://aomori-daibouken.com/wp-content/uploads/2025/02/479495562_17853240495391336_3897796327157125597_n.jpg
END:VEVENT
BEGIN:VEVENT
DTSTART;TZID=Asia/Tokyo:20250220T000000
DTEND;TZID=Asia/Tokyo:20250220T235959
DTSTAMP:20260424T175152
CREATED:20250224T001029Z
LAST-MODIFIED:20250224T012248Z
UID:19953-1740009600-1740095999@aomori-daibouken.com
SUMMARY:八戸市 九州長浜ラーメン 小松笑店 移転オープン
DESCRIPTION:青森県八戸市三日町から移転オープン \n\n\n\n小松笑店さんが街中から八戸駅前に移転とツイッターで知りさっそく行ってみました。電光掲示板だけが目印で最初見落として一周しましたが、駅前の駐車場に停めて30分チャレンジ余裕でした。店内は新しいんですが、外見は何十年も前からここにあるかのような佇まい。25時まで営業とても助かります。 pic.twitter.com/xHIUO80HLc — 梨々 (@tsunonashipepe) February 22\, 2025
URL:https://aomori-daibouken.com/event/19953
LOCATION:九州長浜ラーメン 小松笑店\, 〒039-1102 青森県八戸市一番町１丁目２−１８
CATEGORIES:2月青森イベント,八戸市イベント 今日 明日 今週末 2025,八戸市ラーメン開店,八戸市開店
ATTACH;FMTTYPE=image/png:https://aomori-daibouken.com/wp-content/uploads/2025/02/インスタイベントのコピー-1.png
END:VEVENT
BEGIN:VEVENT
DTSTART;TZID=Asia/Tokyo:20250220T000000
DTEND;TZID=Asia/Tokyo:20250220T235959
DTSTAMP:20260424T175152
CREATED:20250223T080719Z
LAST-MODIFIED:20250305T010111Z
UID:19932-1740009600-1740095999@aomori-daibouken.com
SUMMARY:八戸市青葉 CASUAL ITALIAN Poru(ポル) オープン
DESCRIPTION:青森県八戸市青葉 CASUAL ITALIAN Poru(ポル) が開店しました。 \n\n\n\n【開店情報】青森県八戸市青葉に「CASUAL ITALIANPoru(ポル)」さんが2/20にオープンしました。☆今回は、ディナーメニューを食べてきましたが…ご当地の食材を使ったパスタやアラカルトなど味わえます。https://t.co/iodUy1L4Pr#青森県　#八戸市　#八戸#グルメ　#八戸グルメ — 八戸食べ歩き巡り (@8meg031) February 21\, 2025
URL:https://aomori-daibouken.com/event/19932
LOCATION:Poru\, 〒031-0804 青森県八戸市青葉１丁目１４−１
CATEGORIES:2月青森イベント,八戸市イベント 今日 明日 今週末 2025,八戸市開店
END:VEVENT
BEGIN:VEVENT
DTSTART;TZID=Asia/Tokyo:20250220T000000
DTEND;TZID=Asia/Tokyo:20250220T235959
DTSTAMP:20260424T175152
CREATED:20250223T015821Z
LAST-MODIFIED:20250223T015822Z
UID:19921-1740009600-1740095999@aomori-daibouken.com
SUMMARY:大鰐町 まみや煎餅店 閉店
DESCRIPTION:臨時ニュースです臨時ニュースでさ大鰐町間宮せんべい様が本日閉店されました　😭😭😱😱 pic.twitter.com/a33qCDxJzh — 山崎食堂（広報広聴院） (@yamazaki_moyasi) February 20\, 2025
URL:https://aomori-daibouken.com/event/19921
LOCATION:まみや煎餅店\, 〒038-0211 青森県南津軽郡大鰐町大鰐前田３７−５
CATEGORIES:2月青森イベント,青森県閉店
END:VEVENT
BEGIN:VEVENT
DTSTART;TZID=Asia/Tokyo:20250220T000000
DTEND;TZID=Asia/Tokyo:20250220T235959
DTSTAMP:20260424T175152
CREATED:20250220T015705Z
LAST-MODIFIED:20250305T010325Z
UID:19809-1740009600-1740095999@aomori-daibouken.com
SUMMARY:藤崎町 古着の森 オープン
DESCRIPTION:ほわいとあっぷる藤崎店跡地に古着の森が開店 \n\n\n\n青森県南津軽郡藤崎町西豊田２丁目１−１９ \n\n\n\n\n\n古着の循環で環境負荷低減／弘大医学部生がショップ | 陸奥新報弘前大学の医学部生が運営する古着ショップ「古着の森」が２０日、青森県藤崎町西豊田２丁目にオープンする。国内で年間５０万トン以上の衣類が廃棄される中、地域内で古着を回収、低価格で販売する循環システムを構...mutsushimpo.com
URL:https://aomori-daibouken.com/event/19809
LOCATION:古着の森\, 〒038-3803 青森県南津軽郡藤崎町西豊田２丁目１−１９
CATEGORIES:2月青森イベント,藤崎町イベント今日2025,青森県開店
ATTACH;FMTTYPE=image/jpeg:https://aomori-daibouken.com/wp-content/uploads/2025/02/X青森イベント情報のコピーのコピー-1.jpg
END:VEVENT
BEGIN:VEVENT
DTSTART;TZID=Asia/Tokyo:20250219T100000
DTEND;TZID=Asia/Tokyo:20250219T160000
DTSTAMP:20260424T175152
CREATED:20250214T053825Z
LAST-MODIFIED:20250214T053826Z
UID:19524-1739959200-1739980800@aomori-daibouken.com
SUMMARY:八戸市ラピア ノウフクマルシェ
DESCRIPTION:最近は何を買うにも高くて困ってしまうという方も多いと思いますが、 \n\n\n\nノウフクマルシェではお買い得で質の良い商品がたくさんありますので \n\n\n\nきっとお買い物に来られる方に満足していただけると思います！ \n\n\n\nまた、大好評の『お野菜バルーン』プレゼントも今回も開催します！ \n\n\n\n５００円以上お買い上げで参加可能ですので、こちらも是非ご利用下さい \n\n\n\n皆さんのお越しをお待ちしております \nhttps://yutopia-world.com/houjin/archives/7929
URL:https://aomori-daibouken.com/event/19524
LOCATION:八戸ショッピングセンターラピア\, 〒031-0801 青森県八戸市江陽２丁目１４−１
CATEGORIES:八戸市イベント 今日 明日 今週末 2025,青森マルシェ2025
ATTACH;FMTTYPE=image/jpeg:https://aomori-daibouken.com/wp-content/uploads/2025/02/0b69f565723000217a1a30548db14ef2-1086x1536-1.jpg
END:VEVENT
BEGIN:VEVENT
DTSTART;TZID=Asia/Tokyo:20250219T000000
DTEND;TZID=Asia/Tokyo:20250221T235959
DTSTAMP:20260424T175153
CREATED:20250206T103302Z
LAST-MODIFIED:20250206T103303Z
UID:18827-1739923200-1740182399@aomori-daibouken.com
SUMMARY:弘前市百沢温泉 あべちゃん＆OGAちゃん生誕祭
DESCRIPTION:いつもハッピィー百沢温泉♨️をご利用いただき誠にありがとうございます🙇‍♀️ \n\n\n\n皆様へイベントのお知らせ📢があります❣️ \n\n\n\n2月19日〜21日の3日間ハッピィー百沢温泉♨️で、あべちゃん＆OGAちゃん生誕祭を開催します❣️ \n\n\n\nオーナーあべこうじ(2/19)🎂、支配人OGA(2/21)🎂の誕生日の3日間で楽しい事しちゃいまーす♪ \n\n\n\n日中はイベントスペースにてお弁当販売やクラフト、リラクゼーションブースの出店があります😊ワークショップ体験もやってますよー❣️ \n\n\n\nそして夕方は卓球大会🏓やバランスボールレッスンも開催予定です❣️こちら💁‍♀️はまだまだ参加者募集中です♪ \n\n\n\nイベント3日間はキッチンカー出店もございます♪食べて、遊んでみんなで楽しい3日間にしたいと思ってます😊 \n\n\n\n是非この機会にハッピィー百沢温泉♨️にお越しください♪ \n\n\n\n本日も元気よく営業しております♪ \n\n\n\n営業時間10:00-21:30 \n\n\n\n#ハッピィー百沢温泉#青森おーのーパーク#RVパーク#車中泊#雪上キャンプ#温泉宿#素泊まり#湯治#あべこうじ#青森のオガ#青森の小野#温泉#源泉掛け流し#神様と一緒に入れる温泉#疲労回復#美肌#予防医療#ソッコー元氣#青森県#弘前市#岩木山神社#パワースポット#スキー場#リフト無料券#百沢スキー場#そうまロマントピアスキー場#感謝 \nhttps://www.instagram.com/happy_hyakuzawa_onsen/
URL:https://aomori-daibouken.com/event/18827
LOCATION:ハッピィー百沢温泉\, 〒036-1343 青森県弘前市百沢寺沢２９０−９
CATEGORIES:2月青森イベント,弘前クラフトイベント,弘前市イベント 今日 明日 土手町 2025,弘前市キッチンカーイベント2025
ATTACH;FMTTYPE=image/jpeg:https://aomori-daibouken.com/wp-content/uploads/2025/02/475448826_17887236633194918_144214294260016127_n.jpg
END:VEVENT
BEGIN:VEVENT
DTSTART;TZID=Asia/Tokyo:20250219T000000
DTEND;TZID=Asia/Tokyo:20250219T235959
DTSTAMP:20260424T175153
CREATED:20250306T073150Z
LAST-MODIFIED:20250306T130529Z
UID:20574-1739923200-1740009599@aomori-daibouken.com
SUMMARY:青森市浪岡 つねた食堂 閉店 ラーメン
DESCRIPTION:煮干ラーメンで有名なお店でした。休養のためお休みしたりしていましたが、ついに廃業となったようです。2/9にはすでに廃業していたようですが、正確な日付は不明です。 \n\n\n\nつねた食堂がずっと休業なのなんで〜😭ヤダー💦 pic.twitter.com/1sDViGyAtA — ねこちぐら (@usalnoshippoda) September 17\, 2024 \n\n\n\nマジか〜〜〜((((；ﾟДﾟ)))))))マイソウルフードが長い間美味しいラーメンありがとうございました😭#つねた食堂#浪岡 pic.twitter.com/3ElICgjOGj — KANZZY (@KAMIKAZE_KANZZY) March 6\, 2025
URL:https://aomori-daibouken.com/event/20574
LOCATION:つねた食堂\, 〒038-1325 青森県青森市浪岡大字北中野天王１−１
CATEGORIES:2月青森イベント,青森市イベント 今日 明日 今週末 2025,青森市ラーメン閉店,青森市閉店
ATTACH;FMTTYPE=image/png:https://aomori-daibouken.com/wp-content/uploads/2025/03/X青森イベント情報のコピーのコピーのコピー-3.png
END:VEVENT
BEGIN:VEVENT
DTSTART;TZID=Asia/Tokyo:20250218T130000
DTEND;TZID=Asia/Tokyo:20250218T160000
DTSTAMP:20260424T175153
CREATED:20250211T231240Z
LAST-MODIFIED:20250211T231242Z
UID:19247-1739883600-1739894400@aomori-daibouken.com
SUMMARY:青森市カクヒログループスーパーアリーナ あこた広場
DESCRIPTION:2025.2.18（火）マタニティ&ベビー服無料おさがり会としてあこた広場に出店します！ \n\n\n\n内容盛りだくさんで気になるのがいっぱい✨✨ \n\n\n\nぜひ遊びに来てくださいねー😊 \n\n\n\n【主催】青森で子育てをたのしむ会　様お世話になりまーす！！ \nhttps://www.instagram.com/ringring201124/
URL:https://aomori-daibouken.com/event/19247
LOCATION:青森市総合体育館（カクヒログループスーパーアリーナ）\, 〒030-0842 青森県青森市浦町橋本３３５−１７
CATEGORIES:青森マルシェ2025,青森市イベント 今日 明日 今週末 2025,青森市イベント子供,青森市クーポン・お得情報
ATTACH;FMTTYPE=image/jpeg:https://aomori-daibouken.com/wp-content/uploads/2025/02/476725323_1144665787143809_2230987728148117113_n.jpg
END:VEVENT
BEGIN:VEVENT
DTSTART;TZID=Asia/Tokyo:20250218T000000
DTEND;TZID=Asia/Tokyo:20250224T235959
DTSTAMP:20260424T175153
CREATED:20250217T235318Z
LAST-MODIFIED:20250217T235320Z
UID:19637-1739836800-1740441599@aomori-daibouken.com
SUMMARY:青森市 ロピア 青森 チラシ 2025/2/18～2/24
DESCRIPTION:
URL:https://aomori-daibouken.com/event/19637
LOCATION:CiiNA CiiNA (シーナシーナ) 青森\, 〒030-0843 青森県青森市浜田１丁目１４−１
CATEGORIES:青森市ロピアチラシ
ATTACH;FMTTYPE=image/jpeg:https://aomori-daibouken.com/wp-content/uploads/2025/02/image-33-scaled.jpg
END:VEVENT
BEGIN:VEVENT
DTSTART;TZID=Asia/Tokyo:20250218T000000
DTEND;TZID=Asia/Tokyo:20250224T235959
DTSTAMP:20260424T175153
CREATED:20250217T234847Z
LAST-MODIFIED:20250227T140037Z
UID:19634-1739836800-1740441599@aomori-daibouken.com
SUMMARY:青森五所川原 ロピア チラシ エルム 2025/2/18～2/24
DESCRIPTION:
URL:https://aomori-daibouken.com/event/19634
LOCATION:ELM（エルム）\, 〒037-0004 青森県五所川原市唐笠柳藤巻５１７−１
CATEGORIES:五所川原ロピアチラシ
ATTACH;FMTTYPE=image/jpeg:https://aomori-daibouken.com/wp-content/uploads/2025/02/image-32-scaled.jpg
END:VEVENT
BEGIN:VEVENT
DTSTART;TZID=Asia/Tokyo:20250218T000000
DTEND;TZID=Asia/Tokyo:20250221T235959
DTSTAMP:20260424T175153
CREATED:20250214T003305Z
LAST-MODIFIED:20250214T003306Z
UID:19467-1739836800-1740182399@aomori-daibouken.com
SUMMARY:愛知県名古屋市金山総合駅 北東北の観光と物産展
DESCRIPTION:#北東北 の観光と物産展 のお知らせです。日程：2月18日(火)～21日(金)10時～19時（最終日18時）場所：金山総合駅 連絡橋イベント広場#青森 #岩手 #秋田 の んめ（美味しい）ものが大集合！ぜひお立ち寄りください。#金山 でお待ちしております！！ pic.twitter.com/4ydmP3G239 — 北東北三県名古屋合同事務所 (@KitatohokuN) February 13\, 2025
URL:https://aomori-daibouken.com/event/19467
LOCATION:金山駅\, 愛知県名古屋市中区金山１丁目１７−１８
CATEGORIES:青森 物産展 アンテナショップ フェア2025
ATTACH;FMTTYPE=image/jpeg:https://aomori-daibouken.com/wp-content/uploads/2025/02/GjoW9KBaIAQzKJr.jpg
END:VEVENT
BEGIN:VEVENT
DTSTART;TZID=Asia/Tokyo:20250218T000000
DTEND;TZID=Asia/Tokyo:20250218T235959
DTSTAMP:20260424T175153
CREATED:20250219T021640Z
LAST-MODIFIED:20250219T021641Z
UID:19733-1739836800-1739923199@aomori-daibouken.com
SUMMARY:アサヒ 贅沢搾りプレミアム 青森県産王林 ローソンで数量限定発売
DESCRIPTION:⋱🍏知る人ぞ知る🍏⋰#贅沢搾り プレミアム王林🍏#ローソン で数量限定発売✨今回は甘みが強くて酸味の少ないりんごの王様👑王林👑まるで本物の王林を食べているみたいな贅沢搾りだからこそのおいしさ😍飲んでみたいと思ったら🍏をリプしてね！#ザ・フルーツサワー pic.twitter.com/W4xVJuEzJW — アサヒビール ASAHIBEER (@asahibeer_jp) February 18\, 2025
URL:https://aomori-daibouken.com/event/19733
LOCATION:ローソン\, ローソン
CATEGORIES:2月青森イベント,青森県イベント 今日 明日 今週末,青森県グルメイベント
ATTACH;FMTTYPE=image/jpeg:https://aomori-daibouken.com/wp-content/uploads/2025/02/GkCaV7AWAAERnuC.jpg
END:VEVENT
BEGIN:VEVENT
DTSTART;TZID=Asia/Tokyo:20250218T000000
DTEND;TZID=Asia/Tokyo:20250218T235959
DTSTAMP:20260424T175153
CREATED:20250218T235951Z
LAST-MODIFIED:20250218T235952Z
UID:19703-1739836800-1739923199@aomori-daibouken.com
SUMMARY:お菓子のみやきん 事業停止
DESCRIPTION:お菓子のみやきんは、文久元年（1861年）に「陸奥七戸柏栄堂」として創業した、青森県の和菓子・洋菓子・ケーキの製造販売を行う老舗菓子店です。 \n\n\n\n「ほんの一口で本当に至福の時間が来るようなそんなお菓子をつくってみたい」という思いを大切に、地元の素材を活かした商品作りに取り組んでいました。 \n\n\n\n主な商品には、天皇両陛下にも献上された「献上銘菓 駒饅頭」がありました。 \n\n\n\n\n\nYahoo!ニュースYahoo!ニュースは、新聞・通信社が配信するニュースのほか、映像、雑誌や個人の書き手が執筆する記事など多種多様なニュースを掲載しています。news.yahoo.co.jp
URL:https://aomori-daibouken.com/event/19703
LOCATION:お菓子のみやきん\, お菓子のみやきん
CATEGORIES:2月青森イベント,青森県閉店
END:VEVENT
BEGIN:VEVENT
DTSTART;TZID=Asia/Tokyo:20250218T000000
DTEND;TZID=Asia/Tokyo:20250218T235959
DTSTAMP:20260424T175153
CREATED:20250207T080115Z
LAST-MODIFIED:20250219T042440Z
UID:18881-1739836800-1739923199@aomori-daibouken.com
SUMMARY:平川市 パレットショップ 弘前林檎工房店 閉店
DESCRIPTION:【閉店のお知らせ】いつもパレットショップ 弘前林檎工房店をご利用いただき、ありがとうございます。雪の影響で電気設備に破損が見つかり、復旧の目処が立たなくなった為、急遽閉店となりました。約1年8ヶ月の間、多くのお客様に支えていただき心より感謝申し上げます。 pic.twitter.com/yX7gZbX4aq — パレットショップ-弘前林檎工房店 (@palettoshop_hi) February 19\, 2025 \n\n\n\n2月8日より閉店までの間、感謝を込めた閉店セールを開催いたします‼︎カネショウのハチミツ入りりんご酢スティック🍎高砂食品の大人気商品が大大特価で販売いたします‼︎是非この機会にお買い求めください😊 pic.twitter.com/Q4aNTNJDTQ — パレットショップ-弘前林檎工房店 (@palettoshop_hi) February 7\, 2025
URL:https://aomori-daibouken.com/event/18881
LOCATION:パレットショップ 弘前林檎工房店\, 〒036-0233 青森県平川市日沼富田３０−９
CATEGORIES:2月青森イベント,平川市イベント,弘前市イベント 今日 明日 土手町 2025,弘前市クーポン,弘前市閉店
ATTACH;FMTTYPE=image/jpeg:https://aomori-daibouken.com/wp-content/uploads/2025/02/GkHaNMuaAAM7G1I.jpg
END:VEVENT
BEGIN:VEVENT
DTSTART;TZID=Asia/Tokyo:20250217T000000
DTEND;TZID=Asia/Tokyo:20250220T235959
DTSTAMP:20260424T175153
CREATED:20241226T055944Z
LAST-MODIFIED:20250213T233837Z
UID:15663-1739750400-1740095999@aomori-daibouken.com
SUMMARY:八戸えんぶり2025
DESCRIPTION:https://visithachinohe.com/stories/enburi_schedule/\n\n\n\n\n\n【2025年12月最新】2026年 八戸えんぶり 行事日程 | VISIT HACHINOHE | VISITはちのへ観光物産サイト北東北に位置する八戸圏域、ここは『まるで、ワンダーランド。』三陸復興国立公園をはじめとする日本有数の自然景観に加え、港町バルを彷彿とさせる横丁や朝市文化、さらにはグルメなど、オススメ情報を国内外に向け...visithachinohe.com
URL:https://aomori-daibouken.com/event/15663
LOCATION:八戸市庁 本館前 市民広場\, 〒031-0075 青森県八戸市内丸１丁目１
CATEGORIES:2025青森冬雪まつりイベント,八戸市イベント 今日 明日 今週末 2025
ATTACH;FMTTYPE=image/webp:https://aomori-daibouken.com/wp-content/uploads/2024/12/20230217-2634.jpg.webp
END:VEVENT
BEGIN:VEVENT
DTSTART;TZID=Asia/Tokyo:20250217T000000
DTEND;TZID=Asia/Tokyo:20250217T235959
DTSTAMP:20260424T175153
CREATED:20250223T234827Z
LAST-MODIFIED:20250305T010437Z
UID:19945-1739750400-1739836799@aomori-daibouken.com
SUMMARY:八戸市『ewalu（エワル）』オープン
DESCRIPTION:青森県八戸市ジャリニワ敷地内にて『ewalu（エワル）』開店 \n\n\n\n\n\n\n\n\nジャリニワ敷地内にて青森県八戸市初となる飲むスイーツ店「ewaluエワル」が出店します‼️ \n\n\n\n『飲むチーズケーキ』や『飲むティラミス』など、話題の商品を取り揃えております✨ \n\n\n\nまた、明日は温かい甘酒も販売しますので、ぜひ皆様お立ち寄りくださいませ🙇‍♀️ \nhttps://www.instagram.com/p/DGXljXtSV8L/
URL:https://aomori-daibouken.com/event/19945
LOCATION:ジャリニワ\, 〒031-0032 青森県八戸市三日町２１−１
CATEGORIES:2月青森イベント,八戸市イベント 今日 明日 今週末 2025,八戸市開店
ATTACH;FMTTYPE=image/jpeg:https://aomori-daibouken.com/wp-content/uploads/2025/02/480305706_17846568297411085_3048691749994471957_n.jpg
END:VEVENT
BEGIN:VEVENT
DTSTART;TZID=Asia/Tokyo:20250217T000000
DTEND;TZID=Asia/Tokyo:20250217T235959
DTSTAMP:20260424T175153
CREATED:20250218T015345Z
LAST-MODIFIED:20250218T015523Z
UID:19658-1739750400-1739836799@aomori-daibouken.com
SUMMARY:弘前市土手町 したどてスカイパーク2/17～「平日お昼どき無料開放」
DESCRIPTION:2/17㈪よりしたどてスカイパークを限定的に無料開放いたします。 \n\n\n\n月曜日～金曜日（祝日を含みますよ！）の11：00から14：00まで。 \n\n\n\nお買い物に、ランチに、お散歩に！ \n\n\n\n弘前公園や弘前市役所、観光館などにご用事の方も、 \n\n\n\nちょっとだけウォーキングを楽しみながら、健康ＵＰもおすすめです。 \n\n\n\nこの機会にぜひご活用ください \n\n\n\n土手町でお待ちしております！ \nhttps://shitadote.com/
URL:https://aomori-daibouken.com/event/19658
LOCATION:したどてスカイパーク\, 〒036-8182 青森県弘前市土手町３２−３８
CATEGORIES:2月青森イベント,弘前市イベント 今日 明日 土手町 2025,弘前市クーポン
ATTACH;FMTTYPE=image/jpeg:https://aomori-daibouken.com/wp-content/uploads/2025/02/250207__poster_2-107x300-1.jpg
END:VEVENT
BEGIN:VEVENT
DTSTART;TZID=Asia/Tokyo:20250217T000000
DTEND;TZID=Asia/Tokyo:20250217T235959
DTSTAMP:20260424T175153
CREATED:20250216T222017Z
LAST-MODIFIED:20250305T010529Z
UID:19585-1739750400-1739836799@aomori-daibouken.com
SUMMARY:弘前市 マヨたこ弘前店 キッチンカー オープン
DESCRIPTION:青森県弘前市 マヨたこ弘前店 キッチンカー 開店 \n\n\n\n\n\n\n			\n				\n			\n		\n\n\n\n\n			\n				\n			\n		\n\n\n\n\n			\n				\n			\n		\n\n\n\n\nこんばんは⭐先程、普通の投稿をしたつもりがなぜか自分でもわからないうちにストーリーズの方に載せてしまったマヨたこ弘前店アナログ店長です😅💦 \n\n\n\n19\,20日ハッピー百沢温泉♨️さんでイベント出店予定ですが、その前に急遽明日、同じくハッピー百沢温泉♨️さんのご厚意により出店させて頂くこととなりました😍 \n\n\n\nいざとなるとドキドキ緊張が止まらない店長ですが、１年以上かけてやっとオープンできることとなりワクワク🥰しています。　　 \n\n\n\n明日からまた悪天候らしいのでどうか気を付けてお越し下さいませ🙏🙇🐙🐙🐙 \nhttps://www.instagram.com/mayotako.hirosakiten/
URL:https://aomori-daibouken.com/event/19585
LOCATION:弘前市内\, 弘前市
CATEGORIES:2月青森イベント,弘前市イベント 今日 明日 土手町 2025,弘前市キッチンカーイベント2025,弘前市開店,青森県グルメイベント
ATTACH;FMTTYPE=image/jpeg:https://aomori-daibouken.com/wp-content/uploads/2025/02/479186475_1449750125989855_8955413033376878076_n.jpg
END:VEVENT
BEGIN:VEVENT
DTSTART;TZID=Asia/Tokyo:20250216T110000
DTEND;TZID=Asia/Tokyo:20250216T150000
DTSTAMP:20260424T175153
CREATED:20250107T050346Z
LAST-MODIFIED:20250213T081342Z
UID:16547-1739703600-1739718000@aomori-daibouken.com
SUMMARY:道の駅ゆーさ浅虫 おさがり会 RUNRUN～みんなであそぼう～2025
DESCRIPTION:今年も、道の駅ゆ〜さ浅虫の３階のスペースをお借りしておさがり会と遊び場やりますよー🤗　@asamushitime3 \n\n\n\n広報あおもりにも掲載していただいております。いつもありがとうございます💖 \n\n\n\n年末の片付け等で不要になった子ども服や雑貨などまだ使えそうだなーというものがありましたらRingRingへお譲りください。 \n\n\n\nあわせて、制服やフードドライブの食べ物も受け付けてます。　@seifuku.ring \n\n\n\nご協力宜しくお願いします！ \n\n\n\n🔸🔸🔸🔸🔸🔸🔸🔸🔸🔸🔸🔸🔸🔸 \n\n\n\nまた、お手伝いいただけるスタッフも募集中！３月までは赤い羽根共同募金会による助成事業のため交通費補助と、軽食付きです。 \n\n\n\n準備10時頃〜片付け４時位までですが可能な時間だけでも構いません \n\n\n\nご協力いただける方いましたらご連絡お待ちしております🙏💦💦 \nhttps://www.instagram.com/ringring201124
URL:https://aomori-daibouken.com/event/16547
LOCATION:道の駅ゆ～さ浅虫\, 〒039-3501 青森県青森市浅虫蛍谷３４１−１９\, 青森市\, 青森県\, 039-3501
CATEGORIES:浅虫
ATTACH;FMTTYPE=image/jpeg:https://aomori-daibouken.com/wp-content/uploads/2025/01/472510729_1679824129248088_8067048218596626443_n-1.jpg
END:VEVENT
BEGIN:VEVENT
DTSTART;TZID=Asia/Tokyo:20250216T100000
DTEND;TZID=Asia/Tokyo:20250216T150000
DTSTAMP:20260424T175153
CREATED:20250204T235043Z
LAST-MODIFIED:20250205T000208Z
UID:18672-1739700000-1739718000@aomori-daibouken.com
SUMMARY:六ケ所村 たのしむべ冬まつり
DESCRIPTION:https://6shunkan.com/topics-4608\n\n\n\n\n\n\n\n\n\n同時開催イベント\n\n\n\n\n\n429 Too Many Requestsaomori-daibouken.com\n\n\n\n\n「ろっかしょ たのしむべ！冬祭り」詳細情報\n\n\n\n📍 開催場所: 市柳総合公園📅 開催日: 2025年2月16日（日）⏰ 開催時間: 10:00～15:00⚠ 注意事項: 天候によって内容変更や中止の可能性あり \n\n\n\n\n\n\n\n⛄ 体験・アクティビティ\n\n\n\n① スノーラフティング体験\n\n\n\n🚤 スノーモービルでゴムボートを引っ張り、雪上を疾走するアクティビティ！💰 利用料: 1人 300円 / 1回👦 対象年齢: 3歳以上（未就学児は保護者同伴） \n\n\n\n② 雪中バブルボール体験\n\n\n\n❄ 巨大な透明ボールの中に入って、転がったりぶつかったりして遊べる！💰 利用料: 1人 100円 / 5分👧 対象年齢: 3歳以上（身長95cm以上） \n\n\n\n③ ブッシュクラフト無料体験\n\n\n\n🔥 「自然の中で生きる知恵」を学べるワークショップ！🪵 体験内容: \n\n\n\n\nナイフの安全な使い方\n\n\n\n木製ペグ（杭）作り\n\n\n\nロープワーク体験🏕 災害時にも役立つ技術なので、家族で学ぶのもおすすめ！\n\n\n\n\n④ 六旬館のライトアップをお手伝い！スノーキャンドル作り（小学生以下限定・無料）\n\n\n\n🕯 雪で型を作り、中にロウソクを入れて固める体験！つくってくれたらお菓子のつかみどりができるよ☆（お菓子がなくなり次第終了）🏠 作ったキャンドルはライトアップイベントで使用🧤 持ち物: 防水・防寒の手袋を持参推奨 \n\n\n\n\n\n\n\n🍡 飲食コーナー\n\n\n\n屋台で温かい食べ物を販売！ \n\n\n\n\nやきいも\n\n\n\nコロッケ\n\n\n\n唐揚げ串\n\n\n\nネベリスターメ（地元グルメ）\n\n\n\n\n☕ ホットココア無料提供あり！ \n\n\n\n\n\n\n\n🎁 特典\n\n\n\n🎟 小学生以下のお子様限定で、スパハウスろっかぽっかの入館券（入浴料）をプレゼント！ホットココアも１杯無料付※お連れの中学生以上の方は500円で入館できます。（当日限り有効） \n\n\n\n📍 六ヶ所原燃PRセンターでは、2月15日・16日に「冬まつり」も開催！🎯 宝さがし、雪像コンテスト、工作体験など、楽しいイベントが盛りだくさん！
URL:https://aomori-daibouken.com/event/18672
LOCATION:市柳総合公園\, 〒039-3213 青森県上北郡六ヶ所村鷹架
CATEGORIES:2025青森冬雪まつりイベント,2月青森イベント,六ヶ所イベント,青森県 イベント 子ども
ATTACH;FMTTYPE=image/jpeg:https://aomori-daibouken.com/wp-content/uploads/2025/02/image-8.jpg
END:VEVENT
BEGIN:VEVENT
DTSTART;TZID=Asia/Tokyo:20250216T100000
DTEND;TZID=Asia/Tokyo:20250216T150000
DTSTAMP:20260424T175153
CREATED:20250107T053354Z
LAST-MODIFIED:20250213T225656Z
UID:16559-1739700000-1739718000@aomori-daibouken.com
SUMMARY:平内町夜越山 2025ドリフェス 氷河期ティラノサウルスレース
DESCRIPTION:https://www.lions332a.jp/721/
URL:https://aomori-daibouken.com/event/16559
LOCATION:夜越山スキー場\, 〒039-3321 青森県東津軽郡平内町浜子堀替３６−１
CATEGORIES:2025青森冬雪まつりイベント,2月青森イベント,平内町イベント,青森県 イベント 子ども
ATTACH;FMTTYPE=image/jpeg:https://aomori-daibouken.com/wp-content/uploads/2025/01/dorifes2025_1s.jpg
END:VEVENT
BEGIN:VEVENT
DTSTART;TZID=Asia/Tokyo:20250216T090000
DTEND;TZID=Asia/Tokyo:20250216T140000
DTSTAMP:20260424T175153
CREATED:20241202T061326Z
LAST-MODIFIED:20250303T015847Z
UID:13443-1739696400-1739714400@aomori-daibouken.com
SUMMARY:むつ市 むつ来さまい館 フリーマーケット
DESCRIPTION:青森県むつ市のむつ来さまい館にて、フリーマーケットイベントが月に一度開催されています。 \n\n\n\n\n\n\n\n\n毎月第四週日曜日に開催しています。◆会場／むつ来さまい館内※都合により、日程変更や中止となる場合がありますので当館までご確認下さい。◆時間／9：00~14：00 \n\n\n\n令和6年度フリーマーケット(冬季)実施要綱　◆出店料／１区画（2×2ｍ）￥1\,000※当日お支払いとなります。　　机、いすは無料で貸し出しいたします。（1区画につき机2台まで）　　販売台（ワゴン）は限定10台で、お申し込みの先着順となります。 \n\n\n\nむつおもちゃ病院定期開院こわれたおもちゃを診療してもらいませんか？受付時間／９：００～１１：００（むつ来さまい館内）おもちゃドクターがこわれたおもちゃを診療してくれます。診療は無料ですが、部品代がかかることがあります。また、即日修理がかなわない場合は入院となり、翌月の引き渡しとなります。（入院代１００円かかります）むつ市役所　出張ごみ相談ブース　　ごみの相談に関する相談をしてみませんか？受付時間／9:00～14:00むつ市役所　環境政策課のご協力により、フリーマーケット会場内にて「出張ごみ相談ブース」を開設しています。不要なものの処分方法にお困りの方、ぜひ相談にお越しください。親切に教えていただくことができますよ！※令和6年9月より、不要な衣類の回収は行いませんのでご注意　ください。\nhttp://kasamaikan.info/pg3635638.html
URL:https://aomori-daibouken.com/event/13443
LOCATION:むつ来さまい館\, 〒035-0034 青森県むつ市田名部町１０−１\, むつ市
CATEGORIES:むつ市イベント,青森お得情報,青森県フリーマーケット
ATTACH;FMTTYPE=image/jpeg:https://aomori-daibouken.com/wp-content/uploads/2024/12/img20241029152545679451-1.jpg
END:VEVENT
BEGIN:VEVENT
DTSTART;TZID=Asia/Tokyo:20250216T090000
DTEND;TZID=Asia/Tokyo:20250216T120000
DTSTAMP:20260424T175153
CREATED:20250122T080729Z
LAST-MODIFIED:20250122T080729Z
UID:17402-1739696400-1739707200@aomori-daibouken.com
SUMMARY:藤崎町 冬のアクティビティ 雪×自転車で！
DESCRIPTION:イベント名: 雪×自転車で！ \n\n\n\n主催: 特定非営利活動法人藤崎町スポーツ協会 \n\n\n\n共催: 藤崎町教育委員会、藤崎町地域おこし協力隊 \n\n\n\n概要: タイヤの幅が広く、雪上でも乗ることができる自転車【ファットバイク】を利用した雪上レース。雪遊びや自転車が好きな小学生、自転車愛好者の大人など、興味のある方はぜひご参加ください！参加賞や、上位入賞者には賞品も！ \n\n\n\n日程: 2月16日(日) \n\n\n\n場所: 藤崎町グラウンド（弘前実業高校藤崎校舎跡） \n\n\n\n講師: 山内学氏・笹原太頌氏 (Breeze Support Service) \n\n\n\n対象者: 藤崎町民、藤崎町近隣の自転車愛好者 \n\n\n\n\n【子ども部門】小学生\n\n\n\n【大人部門】高校生以上\n\n\n\n【スポーツ部門】高校生以上 各部門10名\n\n\n\n\n参加費: 無料 \n\n\n\n持ち物: \n\n\n\n\n子ども・スポーツ部門参加者はマウンテンバイクを持参。\n\n\n\nファットバイク(大人部門のみ)・ヘルメットともに無料のレンタル有り(希望者は申込時にお知らせください)\n\n\n\n\nタイムスケジュール: \n\n\n\n11:30〜12:00 耐久レース【スポーツ部門】、終了次第、スポーツ部門の表彰 \n\n\n\n9:00〜 受付 \n\n\n\n9:20〜 開会式・レース説明 \n\n\n\n9:30〜10:10 タイムトライアルレース ※特設コース(300m×2周) \n\n\n\n【子ども部門】 \n\n\n\n【大人部門】 \n\n\n\n10:20〜11:00 タイムトライアルレース ※特設コース(300m×2周) \n\n\n\n【大人部門】 \n\n\n\n11:00〜 きのこ汁のふるまい、表彰(子ども部門・大人部門) \nhttps://www.fujisaki-kanko.jp/7978.html
URL:https://aomori-daibouken.com/event/17402
LOCATION:藤崎町グラウンド\, 〒038-3802 青森県南津軽郡藤崎町藤崎下袋７−１０
CATEGORIES:藤崎町イベント今日2025
ATTACH;FMTTYPE=image/jpeg:https://aomori-daibouken.com/wp-content/uploads/2025/01/20250110-140814-750x1061-1.jpg
END:VEVENT
BEGIN:VEVENT
DTSTART;TZID=Asia/Tokyo:20250216T000000
DTEND;TZID=Asia/Tokyo:20250217T235959
DTSTAMP:20260424T175153
CREATED:20250204T122132Z
LAST-MODIFIED:20250211T065220Z
UID:18655-1739664000-1739836799@aomori-daibouken.com
SUMMARY:八戸市 麺の市 えんぶり公演
DESCRIPTION:https://www.kumasan-japan.co.jp/
URL:https://aomori-daibouken.com/event/18655
LOCATION:熊さん麺ショップ\, 〒031-0072 青森県八戸市城下４丁目１０−２６
CATEGORIES:八戸市イベント 今日 明日 今週末 2025,八戸市クーポン
ATTACH;FMTTYPE=image/jpeg:https://aomori-daibouken.com/wp-content/uploads/2025/02/202502_mennoichi.jpg
END:VEVENT
BEGIN:VEVENT
DTSTART;TZID=Asia/Tokyo:20250216T000000
DTEND;TZID=Asia/Tokyo:20250216T235959
DTSTAMP:20260424T175153
CREATED:20250214T104829Z
LAST-MODIFIED:20250214T104830Z
UID:19542-1739664000-1739750399@aomori-daibouken.com
SUMMARY:八戸市 ～Technol presents キッズ無料デー～
DESCRIPTION:【日時】2025年2月16日(日)　10:15～15:15 \n\n\n\n【料金】大人/高校生以上　1300円小人/中学生以下　無料貸スケート靴　500円(※先着200名様は無料)ヘルメット　無料 \n\n\n\n【内容】『FLAT ARENA』・キッズ無料デー(滑走中30分に1度プロジェクションマッピングを行います) \n\n\n\n『FLAT X』・スラックラインコーナー(スラックラインOTK)・サステナパーク・バスケ遊具コーナー \n\n\n\n『FLAT X＆FLAT SPACE』・八戸キッチンカーグルメフェス ～食べよう！遊ぼう！えんぶりイヴ～今回は8店舗のキッチンカーが集結！！キッチンカーで1000円(合算可)お買上げ毎に1回抽選ができます！ \nhttps://flathachinohe.com/2%E6%9C%8816%E6%97%A5%E6%97%A5%E9%96%8B%E5%82%AC%EF%BC%81%E3%80%80%EF%BD%9Etechnol-presents-%E3%82%AD%E3%83%83%E3%82%BA%E7%84%A1%E6%96%99%E3%83%87%E3%83%BC%EF%BD%9E/
URL:https://aomori-daibouken.com/event/19542
LOCATION:FLAT HACHINOHE\, 〒039-1101 青森県八戸市尻内町三条目７−７
CATEGORIES:2月青森イベント,八戸市イベント 今日 明日 今週末 2025,八戸市キッチンカーイベント2025,八戸市クーポン,青森県 イベント 子ども
ATTACH;FMTTYPE=image/jpeg:https://aomori-daibouken.com/wp-content/uploads/2025/02/305f54b387753d8bbc03ce04852d9bc5.jpg
END:VEVENT
BEGIN:VEVENT
DTSTART;TZID=Asia/Tokyo:20250216T000000
DTEND;TZID=Asia/Tokyo:20250216T235959
DTSTAMP:20260424T175153
CREATED:20250204T000128Z
LAST-MODIFIED:20250213T070914Z
UID:18624-1739664000-1739750399@aomori-daibouken.com
SUMMARY:五所川原市エルム 氷彫刻冬季大会
DESCRIPTION:https://elm-no-machi.jp/info/#3571
URL:https://aomori-daibouken.com/event/18624
LOCATION:ELM（エルム）\, 〒037-0004 青森県五所川原市唐笠柳藤巻５１７−１
CATEGORIES:五所川原市イベント
ATTACH;FMTTYPE=image/jpeg:https://aomori-daibouken.com/wp-content/uploads/2025/02/master-6.jpg
END:VEVENT
END:VCALENDAR