BEGIN:VCALENDAR
VERSION:2.0
PRODID:-//青森大冒険-イベントカレンダー情報とブログ- - ECPv6.15.20//NONSGML v1.0//EN
CALSCALE:GREGORIAN
METHOD:PUBLISH
X-ORIGINAL-URL:https://aomori-daibouken.com
X-WR-CALDESC:青森大冒険-イベントカレンダー情報とブログ- のイベント
REFRESH-INTERVAL;VALUE=DURATION:PT1H
X-Robots-Tag:noindex
X-PUBLISHED-TTL:PT1H
BEGIN:VTIMEZONE
TZID:Asia/Tokyo
BEGIN:STANDARD
TZOFFSETFROM:+0900
TZOFFSETTO:+0900
TZNAME:JST
DTSTART:20240101T000000
END:STANDARD
END:VTIMEZONE
BEGIN:VEVENT
DTSTART;TZID=Asia/Tokyo:20250301T000000
DTEND;TZID=Asia/Tokyo:20250301T235959
DTSTAMP:20260424T022716
CREATED:20250517T031708Z
LAST-MODIFIED:20250517T031710Z
UID:22879-1740787200-1740873599@aomori-daibouken.com
SUMMARY:弘前市高田 石沢商会駐車場 ふなきラーメンオープン
DESCRIPTION:詳細なオープン日は不明です。 \n\n\n\n        この投稿をInstagramで見る            s.s(@run80_0)がシェアした投稿
URL:https://aomori-daibouken.com/event/22879
LOCATION:石沢商会\, 〒036-8084 青森県弘前市高田４丁目３−３
CATEGORIES:弘前ラーメン開店,弘前市イベント 今日 明日 土手町 2025,弘前市開店
END:VEVENT
BEGIN:VEVENT
DTSTART;TZID=Asia/Tokyo:20250301T000000
DTEND;TZID=Asia/Tokyo:20250301T235959
DTSTAMP:20260424T022716
CREATED:20250311T232455Z
LAST-MODIFIED:20250311T232457Z
UID:20899-1740787200-1740873599@aomori-daibouken.com
SUMMARY:八戸市 至福のグルメ KAOTTO八戸市市川店 プレオープン
DESCRIPTION:八戸市に「至福のグルメ KAOTTO八戸市市川店」プレオープンしました。三沢に続き2号店目でグルメとスイーツが24時間無人販売されます。 \n\n\n\n        この投稿をInstagramで見る            至福のグルメ　KAOTTO(@kaotto2025)がシェアした投稿 \n\n\n\n\n        この投稿をInstagramで見る            至福のグルメ　KAOTTO(@kaotto2025)がシェアした投稿
URL:https://aomori-daibouken.com/event/20899
LOCATION:KAOTTO八戸市市川店\, 〒039-2241 青森県八戸市市川町古館５８−３
CATEGORIES:3月青森イベント,八戸市イベント 今日 明日 今週末 2025,八戸市開店
ATTACH;FMTTYPE=image/png:https://aomori-daibouken.com/wp-content/uploads/2025/03/X青森イベント情報のコピー-19.png
END:VEVENT
BEGIN:VEVENT
DTSTART;TZID=Asia/Tokyo:20250301T000000
DTEND;TZID=Asia/Tokyo:20250301T235959
DTSTAMP:20260424T022716
CREATED:20250301T081747Z
LAST-MODIFIED:20250301T081748Z
UID:20291-1740787200-1740873599@aomori-daibouken.com
SUMMARY:五所川原市 津軽海鮮酒場 魚兵衛 オープン
DESCRIPTION:【告知】本日五所川原にグループ店の【 津軽海鮮酒場 魚兵衛 】がオープンします🎊五所川原の方や興味がある方はぜひ足を運んでみて下さい🙇‍♂️宜しくお願い致します🙏🙏#津軽海鮮酒場魚兵衛 pic.twitter.com/U5MgNmHabY — 麺房十兵衛　青森店 (@menboujyubeiao) March 1\, 2025 \n\n\n\n青森県五所川原市字大町505-4　稲荷長屋壱番館３
URL:https://aomori-daibouken.com/event/20291
LOCATION:津軽海鮮酒場 魚兵衛\, 青森県五所川原市字大町505-4　稲荷長屋壱番館３
CATEGORIES:3月青森イベント,五所川原市イベント,五所川原開店
END:VEVENT
BEGIN:VEVENT
DTSTART;TZID=Asia/Tokyo:20250301T000000
DTEND;TZID=Asia/Tokyo:20250301T235959
DTSTAMP:20260424T022716
CREATED:20250226T110000Z
LAST-MODIFIED:20250227T040556Z
UID:20061-1740787200-1740873599@aomori-daibouken.com
SUMMARY:六ヶ所村 ふのり採り体験会
DESCRIPTION:3月1日(土)、恒例となりました冬の風物詩「ふのり採り体験会」を開催します。 \n\n\n\nこの時期にしか採取されない貴重な海藻です。 \n\n\n\n六ヶ所村の特産品のふのりを手摘みしてみませんか！ \n\n\n\n参加申込み等、詳しくはこちらから→R7.3ふのり採り体験会 \nhttps://6shunkan.com/topics-4625
URL:https://aomori-daibouken.com/event/20061
LOCATION:泊漁業協同組合\, 〒039-4301 青森県上北郡六ヶ所村泊焼山992番地先
CATEGORIES:3月青森イベント,六ヶ所イベント
ATTACH;FMTTYPE=image/jpeg:https://aomori-daibouken.com/wp-content/uploads/2025/02/image-1-1.jpg
END:VEVENT
BEGIN:VEVENT
DTSTART;TZID=Asia/Tokyo:20250301T000000
DTEND;TZID=Asia/Tokyo:20250301T235959
DTSTAMP:20260424T022716
CREATED:20250203T010326Z
LAST-MODIFIED:20250228T073530Z
UID:18471-1740787200-1740873599@aomori-daibouken.com
SUMMARY:五所川原市エルム津軽ラーメン街道 吟家 しろがね 竜葵 オープン
DESCRIPTION:2月24日(日)で現在のラーメン街道の一部が終了し、3月1日(土)にオープンします。 \n\n\n\n\n\n\n\n\n\n\n			\n				\n			\n		\n\n\n\n\n			\n				\n			\n		\n\n\n\n\n			\n				\n			\n		\n\n\n\n\n \nhttps://www.talent-clip.jp/elm-no-machi/job/850110\n\n\n\n〒037-0004 青森県五所川原市唐笠柳藤巻５１７−１
URL:https://aomori-daibouken.com/event/18471
LOCATION:ELM（エルム）\, 〒037-0004 青森県五所川原市唐笠柳藤巻５１７−１
CATEGORIES:3月青森イベント,五所川原ラーメン開店,五所川原市イベント,五所川原開店,青森県グルメイベント
ATTACH;FMTTYPE=image/jpeg:https://aomori-daibouken.com/wp-content/uploads/2025/02/master-7.jpg
END:VEVENT
BEGIN:VEVENT
DTSTART;TZID=Asia/Tokyo:20250301T000000
DTEND;TZID=Asia/Tokyo:20250301T235959
DTSTAMP:20260424T022716
CREATED:20250203T004347Z
LAST-MODIFIED:20250307T043843Z
UID:18467-1740787200-1740873599@aomori-daibouken.com
SUMMARY:八戸市 パンケーキ専門店 バターハウスプレオープン
DESCRIPTION:青森県八戸市柏崎にパンケーキ専門店がプレオープン！ \n\n\n\n\n\n\n\n\n2025/03/01（土）10:00〜プレオープン‼️🚗駐車場完備 \n\n\n\n🏠築100年の蔵（くら）を改装して、カフェとして生まれ変わってオープンします🙌 \n\n\n\n🥞エシレバターの本格パンケーキと \n\n\n\n☕️八戸を代表する有枝珈琲の美味しいコーヒーと🫖紅茶はマリアージュフレールとニナスをご用意✨ \n\n\n\nアンティーク家具を中心としたレトロでモダンな雰囲気をお楽しみください😊 \n\n\n\n※3月中は土日のみの営業となりますので、タイミングが合えば是非ご来店くださいませ🙇‍♀️ \n\n\n\n※プレオープン期間中につき、至らない点が何かとあるかと思います。もし気になる点がございましたら直接スタッフか、インスタのDMにてメッセージ頂けましたら全てご返信させていただきますので、どうぞお申し付けくださいませ🙇‍♀️ \nhttps://www.instagram.com/cafebutterhouse\n\n\n\n\n北海道産の高品質な小麦とフランスの有名ブランド、エシレバターを贅沢に使用した、八戸初の本格派パンケーキ専門店です。 \n\n\n\n流行の分厚いスフレパンケーキではなく、味にこだわった日本一美味しいクラシックパンケーキをご提供します。 \n\n\n\n八戸市柏崎にパンケーキ専門店がオープン予定！★★オープニングスタッフ大募集★★オープン予定時期：2025年1月下旬～2月上旬頃純喫茶の雰囲気漂う店内で、本格パンケーキを提供します八戸の新規オープンのカフェで一緒に働きませんか？ \nhttps://en-gage.net/bluepoint216_saiyo/work_12344102/?via_recruit_page=1
URL:https://aomori-daibouken.com/event/18467
LOCATION:パンケーキカフェ バターハウス\, 〒031-0081 青森県八戸市柏崎１丁目２−１２
CATEGORIES:3月青森イベント,八戸市イベント 今日 明日 今週末 2025,八戸市開店
ATTACH;FMTTYPE=image/jpeg:https://aomori-daibouken.com/wp-content/uploads/2025/02/image-1-2.jpg
END:VEVENT
BEGIN:VEVENT
DTSTART;TZID=Asia/Tokyo:20250228T100000
DTEND;TZID=Asia/Tokyo:20250228T120000
DTSTAMP:20260424T022716
CREATED:20250221T105825Z
LAST-MODIFIED:20250221T105825Z
UID:19896-1740736800-1740744000@aomori-daibouken.com
SUMMARY:弘前市 やすらぎ温泉DEしのの
DESCRIPTION:この投稿をInstagramで見る            しののベース(@sinonobase)がシェアした投稿 \n\n\n\n\nやすらぎ温泉DEしのの \n\n\n\n日時：２月２８日（金）　　　10:00〜12:00場所：やすらぎ温泉　　　弘前市石渡大保55-1 \n\n\n\n▶︎無料おさがり会 \n\n\n\n▶︎子どもの遊び場 \n\n\n\n▶︎ジョブカフェあおもり \n\n\n\n▶︎カイロハウスみかみ　@chiro0278mikami \n\n\n\n▶︎かおりのせんせいKANA　@kana_kaorinosensei \n\n\n\n▶︎バランスボールインストラクター♡さやか　@sayaka_fukita \n\n\n\nお子様からシニアの方まで、幅広い世代の方のご参加お待ちしております😊
URL:https://aomori-daibouken.com/event/19896
LOCATION:やすらぎ温泉\, 〒036-8316 青森県弘前市石渡大保５５−１
CATEGORIES:2月青森イベント,弘前市イベント 今日 明日 土手町 2025,弘前市クーポン
ATTACH;FMTTYPE=image/jpeg:https://aomori-daibouken.com/wp-content/uploads/2025/02/479499652_18030563933543261_4299185497919367778_n.jpg
END:VEVENT
BEGIN:VEVENT
DTSTART;TZID=Asia/Tokyo:20250228T000000
DTEND;TZID=Asia/Tokyo:20250310T235959
DTSTAMP:20260424T022716
CREATED:20250217T071958Z
LAST-MODIFIED:20250306T054700Z
UID:19620-1740700800-1741651199@aomori-daibouken.com
SUMMARY:青森市さくら野百貨店 第23回北海道物産展
DESCRIPTION:https://sakurano-dept.jp/aomori/news_detail.html?post=4213
URL:https://aomori-daibouken.com/event/19620
LOCATION:さくら野百貨店 青森本店\, 〒030-8574 青森県青森市新町１丁目１３−２
CATEGORIES:2月青森イベント,3月青森イベント,青森市イベント 今日 明日 今週末 2025,青森県グルメイベント
ATTACH;FMTTYPE=image/jpeg:https://aomori-daibouken.com/wp-content/uploads/2025/02/スクリーンショット-2025-03-06-144650.jpg
END:VEVENT
BEGIN:VEVENT
DTSTART;TZID=Asia/Tokyo:20250228T000000
DTEND;TZID=Asia/Tokyo:20250228T235959
DTSTAMP:20260424T022716
CREATED:20250428T042230Z
LAST-MODIFIED:20250428T042232Z
UID:22392-1740700800-1740787199@aomori-daibouken.com
SUMMARY:むつ市「季節料理 酒菜屋」閉店
DESCRIPTION:
URL:https://aomori-daibouken.com/event/22392
LOCATION:季節料理 酒菜屋\, 〒035-0084 青森県むつ市大湊新町１６−９
CATEGORIES:むつ市イベント,むつ市閉店
ATTACH;FMTTYPE=image/png:https://aomori-daibouken.com/wp-content/uploads/2025/04/アイキャッチ-2025-04-28T132203.944.png
END:VEVENT
BEGIN:VEVENT
DTSTART;TZID=Asia/Tokyo:20250228T000000
DTEND;TZID=Asia/Tokyo:20250228T235959
DTSTAMP:20260424T022716
CREATED:20250221T033504Z
LAST-MODIFIED:20250227T134900Z
UID:19863-1740700800-1740787199@aomori-daibouken.com
SUMMARY:弘前市 総合家具館かさいイオンタウン弘前樋の口店 契約期間満了につき閉店
DESCRIPTION:総合家具館かさいイオンタウン弘前樋の口店とかさい家具 フランスベッドギャラリー弘前が閉店します。 \n\n\n\n\n\n\n\n\n\n\n\n\n平素は格別のお引き立てを賜り、厚く御礼を申し上げます。突然ではございますが、契約期間満了につき2025年2月28日をもちまして閉店する運びとなりました。 \n\n\n\n短い期間ではございましたが、これまで賜りました皆様のご支援とご愛顧に心より感謝申し上げます。 \n\n\n\n閉店後（2025年3月1日以降）のお問い合わせにつきましては、以下までお願いいたします。 \n\n\n\n株式会社かさい090-4632-7812ご対応時間 10:00 〜 18:00 （火曜水曜定休） \n\n\n\n短い期間ではありますが、多くのご愛顧に感謝しまして閉店セールを開催いたします。店内展示品最大70%offとなります。また、お取り寄せ商品も特別価格でご提供いたします。 \n\n\n\n閉店セールにつきましては公式Instagramにて随時配信しております。公式Instagramはこちらから \n\n\n\n皆様のご来店、心よりお待ちしております。 \nhttp://kasaikagu.co.jp/4464.html\n\n\n\n〒036-8278 青森県弘前市樋の口２丁目９−６ \n\n\n\n\n\n\n\n\n\n\n\n\n\n今後の イベント はありません。
URL:https://aomori-daibouken.com/event/19863
LOCATION:イオンタウン弘前樋の口\, 〒036-8278 青森県弘前市樋の口２丁目９−６
CATEGORIES:2月青森イベント,弘前市クーポン,弘前市閉店
ATTACH;FMTTYPE=image/jpeg:https://aomori-daibouken.com/wp-content/uploads/2025/02/20250228_02.jpg
END:VEVENT
BEGIN:VEVENT
DTSTART;TZID=Asia/Tokyo:20250228T000000
DTEND;TZID=Asia/Tokyo:20250228T235959
DTSTAMP:20260424T022716
CREATED:20250220T061508Z
LAST-MODIFIED:20250227T134943Z
UID:19829-1740700800-1740787199@aomori-daibouken.com
SUMMARY:八戸市 PALMUN(パルムン) 閉店
DESCRIPTION:✨ 閉店のお知らせ & 感謝の気持ち ✨ \n\n\n\nいつもご愛顧いただき、誠にありがとうございます！ \n\n\n\nこのたび、2月28日をもって閉店することとなりました。これまで来店頂き心より感謝申し上げます💐 \n\n\n\n💡 2月21日～2月28日まで✨ 閉店セール開催！ ✨（一部対象外商品あり） \n\n\n\n最後まで皆さまに楽しんでいただけるよう、感謝を込めてお届けします！ぜひ、お立ち寄りください💛 \n\n\n\nまた皆さまとお会いできる日を楽しみにしています😊本当にありがとうございました！ \nhttps://www.instagram.com/palmun.hachinohe_kshop/\n\n\n\n〒031-0011 青森県八戸市田向１丁目８−９ \n\n\n\n\n\n\n\n\n\n\n\n\n\n今後の イベント はありません。
URL:https://aomori-daibouken.com/event/19829
LOCATION:PALMUN(パルムン)\, 〒031-0011 青森県八戸市田向１丁目８−９
CATEGORIES:2月青森イベント,八戸市イベント 今日 明日 今週末 2025,八戸市クーポン,八戸市閉店
ATTACH;FMTTYPE=image/jpeg:https://aomori-daibouken.com/wp-content/uploads/2025/02/480841375_569519452911632_7929993320461842924_n.jpg
END:VEVENT
BEGIN:VEVENT
DTSTART;TZID=Asia/Tokyo:20250228T000000
DTEND;TZID=Asia/Tokyo:20250228T235959
DTSTAMP:20260424T022716
CREATED:20250218T025013Z
LAST-MODIFIED:20250218T025014Z
UID:19677-1740700800-1740787199@aomori-daibouken.com
SUMMARY:弘前市 土手町まつり観覧者募集締め切り
DESCRIPTION:https://applewave.co.jp/day1-kanransya
URL:https://aomori-daibouken.com/event/19677
LOCATION:土手町コミュニティパーク コミュニケーションプラザ\, 〒036-8182 青森県弘前市土手町３１
CATEGORIES:弘前市イベント 今日 明日 土手町 2025
ATTACH;FMTTYPE=image/jpeg:https://aomori-daibouken.com/wp-content/uploads/2025/02/kanransya1.jpg
END:VEVENT
BEGIN:VEVENT
DTSTART;TZID=Asia/Tokyo:20250228T000000
DTEND;TZID=Asia/Tokyo:20250228T235959
DTSTAMP:20260424T022716
CREATED:20250213T052158Z
LAST-MODIFIED:20250228T024906Z
UID:19365-1740700800-1740787199@aomori-daibouken.com
SUMMARY:青森市シーナシーナ青森店 Bull Pulu 移転オープン
DESCRIPTION:オープン3日間限定ドリンク10%OFF！！！イベント期間：2月28日(金)～3月2日(日) \nhttps://ciina-ciina.com/aomori/shopnews/2025-02-28-bullpulu\n\n\n\n\n \n\n\n\n\n\n\n\n【移転に伴う閉店のお知らせ】⁡⁡いつも Bull Pulu エルム店をご愛顧いただき、誠にありがとうございます。⁡⁡この度、当店は 2025年1月26日（日）をもって閉店する運びとなりましたことをご案内申し上げます。⁡しかしながら、閉店後は 2025年2月中旬頃を目処に、青森市にて再オープンを予定しております。新たな地でも、変わらぬ美味しさをお届けするべく準備を進めておりますので、ぜひご期待ください！⁡⁡【ポイントカードおよびお年玉フリーパスについて🧋】これらのサービスは、青森市の新店舗でも引き続きご利用いただけますのでご安心ください。お年玉フリーパスについては、エルム店は12/28（土）より販売、こちらは追ってご案内いたしますので、ぜひお見逃しないようよろしくお願いいたします♪⁡⁡⁡2019年のオープン以来、皆さまに支えられ、コロナ禍という困難な時期も、皆さまの温かいご支援のもと県内唯一の本格タピオカドリンクや台湾スイーツを提供し続け、乗り越えることができました。⁡この度、移転という形でエルムでの店舗を終了させていただく運びとなり、心よりお詫び申し上げます。⁡なお、閉店日まで、スタッフ一同全力で元気に営業して参ります！最後まで皆さまに笑顔でお過ごしいただけるよう努めてまいりますので、ぜひ足をお運びいただければ幸いでございます。これからもBull Puluをよろしくお願いいたします！⁡⁡スケジュール閉店日：2025年1月26日（日）再オープン予定：2025年2月中旬頃（青森市内）⁡ 今後とも変わらぬご愛顧を賜りますよう、心よりお願い申し上げます。⁡スタッフ一同⁡⁡✼••┈┈┈••✼••┈┈┈••✼••┈┈┈••✼Bull Pulu (ブルプル) 青森ELM店⁡〒037-0040青森県五所川原市大字唐笹柳藤巻517-1エルムの街 1F⁡営業時間10:00〜20:00 [ラストオーダー 19:50] \nhttps://www.instagram.com/bullpulu_aomori/
URL:https://aomori-daibouken.com/event/19365
LOCATION:CiiNA CiiNA (シーナシーナ) 青森\, 〒030-0843 青森県青森市浜田１丁目１４−１
CATEGORIES:青森市イベント 今日 明日 今週末 2025,青森市開店
ATTACH;FMTTYPE=image/jpeg:https://aomori-daibouken.com/wp-content/uploads/2025/02/image-25.jpg
END:VEVENT
BEGIN:VEVENT
DTSTART;TZID=Asia/Tokyo:20250228T000000
DTEND;TZID=Asia/Tokyo:20250228T235959
DTSTAMP:20260424T022716
CREATED:20250210T222508Z
LAST-MODIFIED:20250227T134639Z
UID:19119-1740700800-1740787199@aomori-daibouken.com
SUMMARY:弘前市 田さ恋いむらヒロロ店 閉店
DESCRIPTION:おはようございます☺︎・いきなりですが！田さ恋いむらヒロロ店2月末日をもちまして閉店いたします！！・やっとご報告できて、さっぱり🤣🤣🤣・田さ恋いむらを支えてくださっている皆さまには早くお伝えしたかったのですが、年明け早々しっかり決まった閉店日。大人の事情があったりで、お客様とヒロロ店の話しをしたりすることが心苦しい状態でした🫣ごめんなさい！・何もわからないままワクワクでスタートさせた2店舗目。でもいつからかワクワクしなくてこれは違うなと…ずっと違和感を感じていました何事も挑戦してみないとわからないだから、とても学んだ約3年間でした♡・こんないきなり閉店をするときっと悪い噂が流れたりするかもですが、田さ恋いむら的にはそんな事は全くなく、とても前向きな閉店となります🤪スタッフに閉店ポップを作ってもらったら、まるで開店かってくらい華やかな閉店ポップで仕上げてきました🤣イメージは次に向けての卒業🎓・ヒロロ店はこれで終わりになりますが、これからも田さ恋いむららしくやりたい事に集中して楽しんでまいりたいと思いますので、どうぞよろしくお願いいたします🙇‍♂️・ヒロロ店をご利用いただいた全てのお客様、ヒロロ店をやらなければ出逢わなかったたくさんの方々、ありがとうございました🙇‍♂️・田舎館本店と武道館店に今は集中します！もしかしたらまた新しいやりたい事がでてきたらどうしようー社長に怒られちゃうー🤪🤪🤪・・田さ恋いむら青森県南津軽郡田舎館村大字田舎館字東田160-1 \nhttps://www.instagram.com/tasakoimura/\n\n\n\n\n\n\n\n\n\n\n\n\n\n今後の イベント はありません。
URL:https://aomori-daibouken.com/event/19119
LOCATION:ヒロロ(HIRORO)\, 〒036-8003 青森県弘前市駅前町９−２０
CATEGORIES:2月青森イベント,弘前市イベント 今日 明日 土手町 2025,弘前市閉店
ATTACH;FMTTYPE=image/jpeg:https://aomori-daibouken.com/wp-content/uploads/2025/02/image-16.jpg
END:VEVENT
BEGIN:VEVENT
DTSTART;TZID=Asia/Tokyo:20250228T000000
DTEND;TZID=Asia/Tokyo:20250228T235959
DTSTAMP:20260424T022716
CREATED:20250208T023406Z
LAST-MODIFIED:20250227T134540Z
UID:18897-1740700800-1740787199@aomori-daibouken.com
SUMMARY:弘前市 蜜芋屋 閉店
DESCRIPTION:閉店情報です弘前市城東にある蜜芋屋が2月28日で閉店します情報提供により判明無人販売は引き続き営業するとのことです#弘前市閉店情報 pic.twitter.com/2Gs0UA6eLi — イブさん (@0NA1w8hZYWY8Fh8) February 6\, 2025 \n\n\n\n〒036-8095 青森県弘前市城東５丁目１３−１ \n\n\n\n\n\n\n\n\n\n\n\n\n\n今後の イベント はありません。
URL:https://aomori-daibouken.com/event/18897
LOCATION:蜜芋屋\, 〒036-8095 青森県弘前市城東５丁目１３−１
CATEGORIES:2月青森イベント,弘前市イベント 今日 明日 土手町 2025,弘前市閉店
ATTACH;FMTTYPE=image/png:https://aomori-daibouken.com/wp-content/uploads/2025/02/インスタイベントのコピー.png
END:VEVENT
BEGIN:VEVENT
DTSTART;TZID=Asia/Tokyo:20250228T000000
DTEND;TZID=Asia/Tokyo:20250228T235959
DTSTAMP:20260424T022716
CREATED:20250203T015216Z
LAST-MODIFIED:20250203T015217Z
UID:18508-1740700800-1740787199@aomori-daibouken.com
SUMMARY:青森市シーナシーナ青森 ドコモショップ移転オープン
DESCRIPTION:【RENEWAL OPEN】ドコモショップ青森観光通り店2025年2月28日(金)、シーナシーナ青森に移転します。■臨時休業　　2025年2月25日(火)～27日(木)■新店舗イベント開催🎪　2025年2月28日(金)～3月2日(日)https://t.co/q3Jsypmjs4#青森市 #ドコモショップ #シーナシーナ青森 pic.twitter.com/sTfnD5QeDw — しょ－ (@shouno1) February 1\, 2025
URL:https://aomori-daibouken.com/event/18508
LOCATION:CiiNA CiiNA (シーナシーナ) 青森\, 〒030-0843 青森県青森市浜田１丁目１４−１
CATEGORIES:青森市開店
END:VEVENT
BEGIN:VEVENT
DTSTART;TZID=Asia/Tokyo:20250228T000000
DTEND;TZID=Asia/Tokyo:20250228T235959
DTSTAMP:20260424T022716
CREATED:20250131T021953Z
LAST-MODIFIED:20250227T134441Z
UID:18257-1740700800-1740787199@aomori-daibouken.com
SUMMARY:藤崎町 平安堂薬局イオン藤崎店 閉店
DESCRIPTION:閉店情報ですイオン藤崎1階にある平安堂薬局イオン藤崎店が2月28日に閉店します私に情報提供があり判明しました36年間イオン藤崎で営業2月15日〜16日のファイナルセールに向けて準備をしてるとのことです pic.twitter.com/7cOjkzWXqk — イブさん (@0NA1w8hZYWY8Fh8) January 30\, 2025 \n\n\n\n〒038-3803 青森県南津軽郡藤崎町西豊田１丁目7−１ \n\n\n\n\n\n\n\n\n\n\n\n\n\n今後の イベント はありません。
URL:https://aomori-daibouken.com/event/18257
LOCATION:イオン 藤崎店\, 〒038-3803 青森県南津軽郡藤崎町西豊田１丁目7−１
CATEGORIES:藤崎町イベント今日2025,青森県閉店
END:VEVENT
BEGIN:VEVENT
DTSTART;TZID=Asia/Tokyo:20250227T000000
DTEND;TZID=Asia/Tokyo:20250228T235959
DTSTAMP:20260424T022716
CREATED:20250226T010500Z
LAST-MODIFIED:20250226T235435Z
UID:20009-1740614400-1740787199@aomori-daibouken.com
SUMMARY:青森市サンロード青森会員様限定 特別ご優待会
DESCRIPTION:青森市サンロード青森で会員様限定 特別ご優待会のイベントが開催されます。 \n\n\n\n\n \n\n\n\n\n			\n				\n			\n		\n\n\n\n \n\n\n\n\n			\n				\n			\n		\n\n\n\n \nhttps://www.sunroad.or.jp/yutaikai202502/
URL:https://aomori-daibouken.com/event/20009
LOCATION:サンロード青森\, 〒030-0845 青森県青森市緑３丁目９−２
CATEGORIES:2月青森イベント,サンロードイベント,青森市クーポン・お得情報
ATTACH;FMTTYPE=image/jpeg:https://aomori-daibouken.com/wp-content/uploads/2025/02/image-40.jpg
END:VEVENT
BEGIN:VEVENT
DTSTART;TZID=Asia/Tokyo:20250227T000000
DTEND;TZID=Asia/Tokyo:20250227T235959
DTSTAMP:20260424T022716
CREATED:20250225T001555Z
LAST-MODIFIED:20250225T001556Z
UID:19987-1740614400-1740700799@aomori-daibouken.com
SUMMARY:青森市 ファミリーマート ホテル青森サテライト店 オープン
DESCRIPTION:ファミリーマートOPEN★ \n\n\n\n2025.2.24 – [ホテル青森からのお知らせ] \n\n\n\n皆さんこんにちは(^^)/ \n\n\n\n本日はホテル青森からのお知らせです☆ \n\n\n\n\n\n\n\nホテル1階にファミリーマートがOPEN致します(^^)/ \n\n\n\nどなたでもご利用いただけますので、ぜひお気軽にお立ち寄りください☆ \n\n\n\n◆ファミリーマート　ホテル青森サテライト店 \n\n\n\n◆2025年2月27日（木）　OPEN \n\n\n\n◆ホテル青森1階 \n\n\n\n◆営業時間　　7時～23時（年中無休） \n\n\n\n※タバコ・酒類は準備整い次第販売となります。　 \n\n\n\n皆様のご来店をお待ちしております♪ \nhttps://www.hotelaomori.co.jp/rooms/wp/staffblog/%E3%83%9B%E3%83%86%E3%83%AB%E9%9D%92%E6%A3%AE%E3%81%8B%E3%82%89%E3%81%AE%E3%81%8A%E7%9F%A5%E3%82%89%E3%81%9B/5245.html
URL:https://aomori-daibouken.com/event/19987
LOCATION:ホテル青森\, 〒030-0812 青森県青森市堤町１丁目１−２３ 17F
CATEGORIES:2月青森イベント,青森市イベント 今日 明日 今週末 2025,青森市開店
ATTACH;FMTTYPE=image/jpeg:https://aomori-daibouken.com/wp-content/uploads/2025/02/562e2823d3c48542e590b49ed2b4483d-1.jpg
END:VEVENT
BEGIN:VEVENT
DTSTART;TZID=Asia/Tokyo:20250227T000000
DTEND;TZID=Asia/Tokyo:20250227T235959
DTSTAMP:20260424T022716
CREATED:20250121T121042Z
LAST-MODIFIED:20250226T021323Z
UID:17298-1740614400-1740700799@aomori-daibouken.com
SUMMARY:青森市シーナシーナ青森 LAKOLE＆GLOBAL WORK オープン
DESCRIPTION:アダストリアのブランドショップ青森県初出店「LAKOLE（ラコレ）」青森市初出店「GLOBAL WORK（グローバルワーク）」2/27オープンに向けて準備中です✨️ \n\n\n\nそのため仮囲いで館内通路が一部狭くなっております…お手数ですが、横に広がらず左側通行でお願いします🙇 \n\n\n\n#CiiNACiiNA#CiiNACiiNA青森#シーナシーナ#シーナシーナ青森#グローバルワーク#ラコレ#globalwork#lakole
URL:https://aomori-daibouken.com/event/17298
LOCATION:CiiNA CiiNA (シーナシーナ) 青森\, 〒030-0843 青森県青森市浜田１丁目１４−１
CATEGORIES:2月青森イベント,青森市イベント 今日 明日 今週末 2025,青森市開店
ATTACH;FMTTYPE=image/jpeg:https://aomori-daibouken.com/wp-content/uploads/2025/01/474456335_1124501542569640_4975872210559545650_n.jpg
END:VEVENT
BEGIN:VEVENT
DTSTART;TZID=Asia/Tokyo:20250227T000000
DTEND;TZID=Asia/Tokyo:20250227T235959
DTSTAMP:20260424T022716
CREATED:20250115T013025Z
LAST-MODIFIED:20250219T013512Z
UID:17046-1740614400-1740700799@aomori-daibouken.com
SUMMARY:八戸市ラピア サイゼリヤ 2/27オープン
DESCRIPTION:サイゼリヤ 八戸ラピア店が【2F 旧ラピアホール跡】にオープンします！ \nhttp://www.sc-lapia.co.jp/eventnews/post-32827-2-3-4-2/
URL:https://aomori-daibouken.com/event/17046
LOCATION:八戸ショッピングセンターラピア\, 〒031-0801 青森県八戸市江陽２丁目１４−１
CATEGORIES:2月青森イベント,八戸市イベント 今日 明日 今週末 2025,八戸市開店
ATTACH;FMTTYPE=image/jpeg:https://aomori-daibouken.com/wp-content/uploads/2025/01/image-4-39.jpg
END:VEVENT
BEGIN:VEVENT
DTSTART;TZID=Asia/Tokyo:20250226T110000
DTEND;TZID=Asia/Tokyo:20250226T160000
DTSTAMP:20260424T022716
CREATED:20250225T000418Z
LAST-MODIFIED:20250225T000442Z
UID:19982-1740567600-1740585600@aomori-daibouken.com
SUMMARY:十和田市 ATZにキッチンカー集合
DESCRIPTION:こんにちは🏳️‍⚧️🩵cafe &bar ATZです🪽 \n\n\n\n来週２／26日はカフェ駐車場（株式会社アッツ駐車場🅿️）にキッチンカーが集結します📢💕・BE SMILEさん・ホットチョットさん・ゴーゴーカレーさん・ITTOKOさんです🙌🏻🩵 \n\n\n\n※天候などにより出店できる無くなる可能性もありますがその際はお知らせしますね☺️ \n\n\n\n🩵BESMILEさんはスイーツ串や揚げパンサンドがオススメです🩵ゴマのドリンク飲んでみたいです🥹 \n\n\n\n💚ホットチョットさんはライスバーガー、ドリンク、ピザを販売してくれます💚ライスバーガーも絶品だけど、ピザも美味しいんです🤤 \n\n\n\n💛ゴーゴーカレーさんはいろんな種類のカレーがあって迷ってしまいますが、昨日食べたカツカレーがめちゃくちゃ美味しかったのでオススメします💛🦍 \n\n\n\n🩷ITTOKOさんは十和田市にオープンしたCostcoの商品を取り扱っているお店です🩷 \n\n\n\n当日はたくさん美味しいキッチンカーが集まるので迷ってしまいますよね😭😭🌀ぜひお昼ご飯や夜ご飯、おやつの時間にどうでしょうか？？💕 \nhttps://www.instagram.com/atz.btz/
URL:https://aomori-daibouken.com/event/19982
LOCATION:株式会社アッツ\, 〒034-0084 青森県十和田市西四番町５−３３
CATEGORIES:2月青森イベント,十和田市イベント,十和田市キッチンカーイベント2025,青森コストコ
ATTACH;FMTTYPE=image/jpeg:https://aomori-daibouken.com/wp-content/uploads/2025/02/480808534_17982292922797930_4231621550020894008_n.jpg
END:VEVENT
BEGIN:VEVENT
DTSTART;TZID=Asia/Tokyo:20250226T000000
DTEND;TZID=Asia/Tokyo:20250304T235959
DTSTAMP:20260424T022716
CREATED:20250226T020841Z
LAST-MODIFIED:20250226T020842Z
UID:20025-1740528000-1741132799@aomori-daibouken.com
SUMMARY:ビッグエコーフード全品半額祭
DESCRIPTION:実施期間 \n\n\n\n2025/2/26(水) AM8時 ～ 2025/3/4(火) 営業終了まで \n\n\n\n 実施店舗\n\n\n\n全国のビッグエコーで実施！ \n\n\n\n※新宿東口駅前店は除く \n\n\n\n\n近くの店舗を検索＆予約 \n\n\n\n\n 実施内容\n\n\n\n新グランドメニューに掲載されているフードを、「全品半額」でお楽しみいただけます！ \n\n\n\nこの機会にビッグエコーのフードメニューをご堪能ください♪ \n\n\n\n※ドリンクメニュー、パーティーコース、店舗限定メニュー（ホットドッグ＆カップラーメン＆ドーナツメニュー・キッズメニュー・ランチメニューなど）は半額祭の対象外です※取り扱いメニューは店舗によって異なります※各ルームに設置しているメニューブックには通常価格が掲載されています※スマホオーダー画面やレシートに表示される価格は、すでに半額が適用された金額です※各種クーポンも併用可能です \nhttps://big-echo.jp/campaign/grandmenu_food_cp/
URL:https://aomori-daibouken.com/event/20025
LOCATION:ビッグエコー\, ビッグエコー
CATEGORIES:2月青森イベント,3月青森イベント,八戸市クーポン,弘前市クーポン,青森お得情報,青森市クーポン・お得情報,青森祭り2025 冬雪春桜夏秋
ATTACH;FMTTYPE=image/jpeg:https://aomori-daibouken.com/wp-content/uploads/2025/02/img_foodhangaku2025_cp_2.jpg
END:VEVENT
BEGIN:VEVENT
DTSTART;TZID=Asia/Tokyo:20250226T000000
DTEND;TZID=Asia/Tokyo:20250304T235959
DTSTAMP:20260424T022716
CREATED:20250220T063639Z
LAST-MODIFIED:20250220T063640Z
UID:19840-1740528000-1741132799@aomori-daibouken.com
SUMMARY:東京都庁 あおもり観光物産展in都庁
DESCRIPTION:https://www.medetai-tsuruta.jp/20013.html
URL:https://aomori-daibouken.com/event/19840
LOCATION:東京都庁\, 〒163-8001 東京都新宿区西新宿２丁目８−１
CATEGORIES:青森 物産展 アンテナショップ フェア2025
ATTACH;FMTTYPE=image/jpeg:https://aomori-daibouken.com/wp-content/uploads/2025/02/452ef56c4afa588b5e856d129c43594b.jpg
END:VEVENT
BEGIN:VEVENT
DTSTART;TZID=Asia/Tokyo:20250226T000000
DTEND;TZID=Asia/Tokyo:20250228T235959
DTSTAMP:20260424T022716
CREATED:20250225T231200Z
LAST-MODIFIED:20250227T140430Z
UID:20005-1740528000-1740787199@aomori-daibouken.com
SUMMARY:青森弘前ロピアチラシ 2025/2/26～2/28
DESCRIPTION:
URL:https://aomori-daibouken.com/event/20005
LOCATION:CiiNA CiiNA(シーナシーナ) 弘前\, 〒036-8002 青森県弘前市駅前３丁目2−１
CATEGORIES:弘前ロピアチラシ
ATTACH;FMTTYPE=image/jpeg:https://aomori-daibouken.com/wp-content/uploads/2025/02/image-39.jpg
END:VEVENT
BEGIN:VEVENT
DTSTART;TZID=Asia/Tokyo:20250226T000000
DTEND;TZID=Asia/Tokyo:20250226T235959
DTSTAMP:20260424T022716
CREATED:20241007T051037Z
LAST-MODIFIED:20250304T123727Z
UID:10134-1740528000-1740614399@aomori-daibouken.com
SUMMARY:弘前市 食生活♥♥ロピア シーナシーナ弘前　2/26オープン
DESCRIPTION:青森県弘前市 食生活♥♥ロピア シーナシーナ弘前　2/26開店 \n\n\n\n\n「食生活♥♥(ラブラブ)ロピア」をモットーに、ロープライスのユートピアを作ることを目標に生まれた会社です。 \n\n\n\n｢同じ商品ならより安く」「同じ価格ならより良いものを」がロピアのモットーで、「楽しく感動できる愛に満ち愛される」お店を目指しています。 \n\n\n\n他のお店でも安く仕入れた商品を安く提供すること、良い商品をそろえることはできますが、ロピアが挑むのは「高品質なものをお得に」提供するというミッションです。 \n\n\n\nそれを実現するために魅力的な商品を仕入れ、製造し、良いものをお客様にご納得いただける価格で提供できるように日々工夫をし続けています。 \nhttps://ciina-ciina.com/hirosaki/shops/lopia
URL:https://aomori-daibouken.com/event/10134
LOCATION:シーナシーナ 弘前\, 〒036-8002 青森県弘前市駅前３丁目２−１ シーナシーナ 弘前
CATEGORIES:2月青森イベント,弘前市イベント 今日 明日 土手町 2025,弘前市開店
ATTACH;FMTTYPE=image/jpeg:https://aomori-daibouken.com/wp-content/uploads/2024/10/インスタイベント.jpg
END:VEVENT
BEGIN:VEVENT
DTSTART;TZID=Asia/Tokyo:20250225T000000
DTEND;TZID=Asia/Tokyo:20250331T235959
DTSTAMP:20260424T022716
CREATED:20250219T003434Z
LAST-MODIFIED:20250313T043925Z
UID:19719-1740441600-1743465599@aomori-daibouken.com
SUMMARY:歌うま県No.1青森県限定！総額100万円プレゼントキャンペーン
DESCRIPTION:2024年DAM年間ランキング上位曲の精密採点を都道府県別に集計！精密採点で歌われた対象曲の総得点を歌唱回数で割った平均点を集計しました。集計期間：2024年11月26日(火)～2025年1月31日(金)対象曲　：「DAM年間カラオケランキング2024」にランクインした全136曲実施店舗：全国の通信カラオケDAM設置店精密採点：「精密採点Ai」「精密採点DX-G」「精密採点DX」が対象 \n\n\n\n♪ 応募期間 ♪\n\n\n\n2025年2月25日(火) ～ 2025年3月31日(月)\n\n\n\n本キャンペーンは青森県に設置のデンモクから応募可能です\n\n\n\n♪ 賞品 ♪\n\n\n\n\n\n\n\n※当選の発表はメール送付をもってかえさせていただきます※画像はイメージです \n\n\n\n♪ 課題曲 ♪\n\n\n\n歌って応募しよう！\n\n\n\n応募期間中の歌唱が対象となります。 \n\n\n\n\nライラックMrs. GREEN APPLE\n\n\n\n怪獣の花唄Vaundy\n\n\n\nサウダージポルノグラフィティ\n\n\n\n残酷な天使のテーゼ高橋洋子\n\n\n\nマリーゴールドあいみょん\n\n\n\n晩餐歌tuki.\n\n\n\nはいよろこんでこっちのけんと\n\n\n\nかわいいだけじゃだめですか?CUTIE STREET\n\n\n\nドライフラワー優里\n\n\n\nさよならエレジー菅田将暉\n\n\n\nBling-Bang-Bang-BornCreepy Nuts\n\n\n\nケセラセラMrs. GREEN APPLE\n\n\n\nチャンカパーナNEWS\n\n\n\n小さな恋のうたMONGOL800\n\n\n\n水平線back number\n\n\n\n幾億光年Omoinotake\n\n\n\n点描の唄(feat.井上苑子)Mrs. GREEN APPLE\n\n\n\nクリスマスソングback number\n\n\n\nBunny GirlAKASAKI\n\n\n\nチェリースピッツ\n\n\n\n奏（かなで）スキマスイッチ\n\n\n\n高嶺の花子さんback number\n\n\n\n366日HY\n\n\n\nシングルベッドシャ乱Q\n\n\n\nAPT.ROSE & Bruno Mars\n\n\n\n白い恋人達桑田佳祐\n\n\n\nSoranjiMrs. GREEN APPLE\n\n\n\n粉雪レミオロメン\n\n\n\n最後の雨中西保志\n\n\n\n丸の内サディスティック椎名林檎\n\n\n\n世界中の誰よりきっと中山美穂&WANDS\n\n\n\n大阪LOVERDREAMS COME TRUE\n\n\n\n青と夏Mrs. GREEN APPLE\n\n\n\nひまわりの約束秦 基博\n\n\n\nわたしの一番かわいいところFRUITS ZIPPER\n\n\n\n世界が終るまでは…WANDS\n\n\n\n愛のかたまりKinKi Kids\n\n\n\nオトノケCreepy Nuts\n\n\n\nI wonderDa-iCE\n\n\n\nハナミズキ一青 窈\n\n\n\n津軽海峡・冬景色石川さゆり\n\n\n\n天城越え石川さゆり\n\n\n\n時の流れに身をまかせテレサ・テン\n\n\n\nつぐないテレサ・テン\n\n\n\n酒よ吉幾三\n\n\n\nラヴ・イズ・オーヴァー欧陽菲菲\n\n\n\n川の流れのように美空ひばり\n\n\n\n北の旅人石原裕次郎\n\n\n\nさざんかの宿大川栄策\n\n\n\n北国の春千昌夫\n\n\n\n\n♪ 応募方法 ♪\n\n\n\nカラオケ店のデンモク(SmartDAM)から応募しよう！\n\n\n\n①デンモクトップの「歌って！！もらえる！！キャンペーン」から対象のキャンペーンを選択！\n\n\n\n\n\n\n\n②課題曲を歌って表示されるQRコードから応募\n\n\n\n※応募対象DAM：LIVE DAM Ai/LIVE DAM STADIUM/LIVE DAMシリーズとなります※QRコードはデンモクのキャンペーンページから転送した場合に限り表示されます。※QRコードは株式会社デンソーウェーブの登録商標です。※おひとり様複数回の応募が可能ですが、当選はおひとり様1回限りとなります。※賞品の当選権利及び賞品は、第三者への譲渡・転売は固く禁じます。※通信料はお客様のご負担となります。予めご了承ください。 \n\n\n\n個人情報取り扱いについて\n\n\n\nお送りいただいた応募内容は選考以外の目的で使用はいたしません。 \n\n\n\n個人情報取り扱いについて \nhttps://www.clubdam.com/campaign/collaboration/cp202502_utauma.html
URL:https://aomori-daibouken.com/event/19719
LOCATION:青森県内\, 青森県
CATEGORIES:八戸市クーポン,弘前市クーポン,青森お得情報,青森市クーポン・お得情報,青森長期開催イベント
ATTACH;FMTTYPE=image/jpeg:https://aomori-daibouken.com/wp-content/uploads/2025/02/09_top_utauma.jpg
END:VEVENT
BEGIN:VEVENT
DTSTART;TZID=Asia/Tokyo:20250225T000000
DTEND;TZID=Asia/Tokyo:20250303T235959
DTSTAMP:20260424T022716
CREATED:20250224T231837Z
LAST-MODIFIED:20250224T231838Z
UID:19979-1740441600-1741046399@aomori-daibouken.com
SUMMARY:青森市 ロピア 青森 チラシ 2025/2/25～3/3
DESCRIPTION:
URL:https://aomori-daibouken.com/event/19979
LOCATION:CiiNA CiiNA (シーナシーナ) 青森\, 〒030-0843 青森県青森市浜田１丁目１４−１
CATEGORIES:青森市ロピアチラシ
ATTACH;FMTTYPE=image/jpeg:https://aomori-daibouken.com/wp-content/uploads/2025/02/image-38.jpg
END:VEVENT
BEGIN:VEVENT
DTSTART;TZID=Asia/Tokyo:20250225T000000
DTEND;TZID=Asia/Tokyo:20250303T235959
DTSTAMP:20260424T022716
CREATED:20250224T231633Z
LAST-MODIFIED:20250227T140050Z
UID:19975-1740441600-1741046399@aomori-daibouken.com
SUMMARY:青森五所川原 ロピア チラシ エルム 2025/2/25～3/3
DESCRIPTION:
URL:https://aomori-daibouken.com/event/19975
LOCATION:ELM（エルム）\, 〒037-0004 青森県五所川原市唐笠柳藤巻５１７−１
CATEGORIES:五所川原ロピアチラシ
ATTACH;FMTTYPE=image/jpeg:https://aomori-daibouken.com/wp-content/uploads/2025/02/image-37.jpg
END:VEVENT
BEGIN:VEVENT
DTSTART;TZID=Asia/Tokyo:20250225T000000
DTEND;TZID=Asia/Tokyo:20250225T235959
DTSTAMP:20260424T022716
CREATED:20250106T232454Z
LAST-MODIFIED:20250127T024210Z
UID:16511-1740441600-1740527999@aomori-daibouken.com
SUMMARY:黒石市 津軽くろいしみんなの雪だるま 締切2/25
DESCRIPTION:開催趣旨市民による自慢の雪だるまを多くの方々にご覧いただき、「津軽くろいし みんなの雪だるま２０２５」の一層の進展を図る。応募資格黒石市在住の方（黒石市内に通勤・通学する方を含む）。被写体２０２５年自作雪だるまの写真に限ります。応募条件●カラープリント（デジカメプリント可）。●大きさは、キャビネ（２Ｌ）サイズとします。●１人何点でも応募できますが、同じ雪だるまの複数応募は不可。応募締切令和７年２月２５日（火）審査黒石商工会議所観光委員会が審査します。審査は写真に写った雪だるまを対象とします。写真の技術や芸術性を審査するものではありません。各賞●黒石市長賞【１点】賞状・副賞●黒石商工会議所会頭賞【１点】賞状・副賞●黒石観光協会長賞【１点】賞状・副賞●黒石商店街協同組合理事長賞【１点】賞状・副賞●入選　【１０点】賞状・副賞発表令和７年３月４日（火）入賞・入選者には直接通知致します。表彰令和７年３月７日（金）１７：３０から黒石市中町３３「松の湯交流館」において展示令和７年３月５日（水）～９日（日）までいずれの日も９：３０から１８：００まで黒石市中町３３「松の湯交流館」において作品の取扱応募作品は雪だるまの記録として保存させていただきますのでご了承願います。また、必要に応じて印刷物等に利用させていただく場合もございますので、併せてご了承賜りますようお願い申し上げます。※今回も主催者発行の広報紙「商工くろいし」の特別号にて、全ての応募作品を掲載させていただく予定です。◆主催　黒石商工会議所◆協賛　黒石商店街協同組合◆後援　黒石市・一般社団法人黒石観光協会・黒石市子ども会育成連合会\n\n\n\n \nhttps://kuroishi.or.jp/event/winter/yukidaruma
URL:https://aomori-daibouken.com/event/16511
LOCATION:黒石市内\, 黒石市
CATEGORIES:2025青森冬雪まつりイベント,黒石市イベント
END:VEVENT
END:VCALENDAR