BEGIN:VCALENDAR
VERSION:2.0
PRODID:-//青森大冒険-イベントカレンダー情報とブログ- - ECPv6.15.20//NONSGML v1.0//EN
CALSCALE:GREGORIAN
METHOD:PUBLISH
X-WR-CALNAME:青森大冒険-イベントカレンダー情報とブログ-
X-ORIGINAL-URL:https://aomori-daibouken.com
X-WR-CALDESC:青森大冒険-イベントカレンダー情報とブログ- のイベント
REFRESH-INTERVAL;VALUE=DURATION:PT1H
X-Robots-Tag:noindex
X-PUBLISHED-TTL:PT1H
BEGIN:VTIMEZONE
TZID:Asia/Tokyo
BEGIN:STANDARD
TZOFFSETFROM:+0900
TZOFFSETTO:+0900
TZNAME:JST
DTSTART:20240101T000000
END:STANDARD
END:VTIMEZONE
BEGIN:VEVENT
DTSTART;TZID=Asia/Tokyo:20250315T000000
DTEND;TZID=Asia/Tokyo:20250316T235959
DTSTAMP:20260421T175851
CREATED:20250311T101843Z
LAST-MODIFIED:20250316T003305Z
UID:20857-1741996800-1742169599@aomori-daibouken.com
SUMMARY:八戸市 協同組合八戸総合卸センター2025八戸鉄道まつり
DESCRIPTION:青森県八戸市 協同組合八戸総合卸センターで「2025八戸鉄道まつり」の大人も子供も遊べるイベントが開催されます。 \n\n\n\n\n\nhttps://www.karamatsu-train.jp/
URL:https://aomori-daibouken.com/event/20857
LOCATION:協同組合八戸総合卸センター\, 〒039-1121 青森県八戸市卸センター１丁目１２−１０
CATEGORIES:3月青森イベント,八戸市イベント 今日 明日 今週末 2025,青森県 イベント 子ども
ATTACH;FMTTYPE=image/jpeg:https://aomori-daibouken.com/wp-content/uploads/2025/03/20250228-001.jpg
END:VEVENT
BEGIN:VEVENT
DTSTART;TZID=Asia/Tokyo:20250315T000000
DTEND;TZID=Asia/Tokyo:20250316T235959
DTSTAMP:20260421T175851
CREATED:20250311T022136Z
LAST-MODIFIED:20250312T224707Z
UID:20794-1741996800-1742169599@aomori-daibouken.com
SUMMARY:十和田市 ツインプラザ十和田店 おいでよ！スプリングフェスティバル
DESCRIPTION:青森県十和田市 ツインプラザ十和田店で「おいでよ！スプリングフェスティバル」のイベントが開催されます。キッチンカー・ワークショップ・クラフトハンドメイドが計15店舗出店します。 \n\n\n\n        この投稿をInstagramで見る            ツインプラザ十和田店(公式)(@twinplaza_towada)がシェアした投稿
URL:https://aomori-daibouken.com/event/20794
LOCATION:トヨタツインプラザ十和田（青森トヨタ・ネッツトヨタ青森）\, 〒034-0107 青森県十和田市洞内井戸頭１４４−１３１
CATEGORIES:3月青森イベント,十和田市イベント,十和田市キッチンカーイベント2025,青森県クラフトイベント 2025 マルシェ
ATTACH;FMTTYPE=image/jpeg:https://aomori-daibouken.com/wp-content/uploads/2025/03/481143965_17880718557250270_7928519329818129664_n.jpg
END:VEVENT
BEGIN:VEVENT
DTSTART;TZID=Asia/Tokyo:20250315T000000
DTEND;TZID=Asia/Tokyo:20250316T235959
DTSTAMP:20260421T175851
CREATED:20250311T020441Z
LAST-MODIFIED:20250311T020442Z
UID:20787-1741996800-1742169599@aomori-daibouken.com
SUMMARY:青森市リンクステーションホール青森 リアル脱出ゲーム×葬送のフリーレン 千年の夢からの脱出
DESCRIPTION:青森県青森市リンクステーションホール青森でリアル脱出ゲームイベントが開催されます。 \n\n\n\n\n\n\n\n\nフリーレンの記憶が作る夢の世界を、本人たちと一緒に冒険しよう！ \nhttps://realdgame.jp/event/frieren
URL:https://aomori-daibouken.com/event/20787
LOCATION:リンクステーションホール青森\, 〒030-0812 青森県青森市堤町１丁目４−１
CATEGORIES:3月青森イベント,青森市イベント 今日 明日 今週末 2025
ATTACH;FMTTYPE=image/webp:https://aomori-daibouken.com/wp-content/uploads/2025/03/f20f7efc1bea_l.jpg.webp
END:VEVENT
BEGIN:VEVENT
DTSTART;TZID=Asia/Tokyo:20250315T000000
DTEND;TZID=Asia/Tokyo:20250315T235959
DTSTAMP:20260421T175851
CREATED:20250311T061555Z
LAST-MODIFIED:20250314T234749Z
UID:20809-1741996800-1742083199@aomori-daibouken.com
SUMMARY:青森市浪岡 有彦スタンド イベント
DESCRIPTION:この投稿をInstagramで見る            有彦アクセスss(@arihiko.ss)がシェアした投稿
URL:https://aomori-daibouken.com/event/20809
LOCATION:有彦アクセス浪岡SS\, 〒038-1311 青森県青森市浪岡大字浪岡佐野３９−１
CATEGORIES:3月青森イベント,浪岡イベント
ATTACH;FMTTYPE=image/jpeg:https://aomori-daibouken.com/wp-content/uploads/2025/03/スクリーンショット-2025-03-11-151521.jpg
END:VEVENT
BEGIN:VEVENT
DTSTART;TZID=Asia/Tokyo:20250315T000000
DTEND;TZID=Asia/Tokyo:20250315T235959
DTSTAMP:20260421T175851
CREATED:20250311T015058Z
LAST-MODIFIED:20250311T015100Z
UID:20777-1741996800-1742083199@aomori-daibouken.com
SUMMARY:青森市 小さなトマト 移転の為3/15で現店舗での営業を終了
DESCRIPTION:この投稿をInstagramで見る            小さなトマト(@chiisana_tomato)がシェアした投稿
URL:https://aomori-daibouken.com/event/20777
LOCATION:小さなトマト\, 〒030-0843 青森県青森市浜田豊田１１８−１
CATEGORIES:青森市イベント 今日 明日 今週末 2025,青森市閉店
ATTACH;FMTTYPE=image/jpeg:https://aomori-daibouken.com/wp-content/uploads/2025/03/スクリーンショット-2025-03-11-104916.jpg
END:VEVENT
BEGIN:VEVENT
DTSTART;TZID=Asia/Tokyo:20250314T000000
DTEND;TZID=Asia/Tokyo:20250314T235959
DTSTAMP:20260421T175851
CREATED:20250203T012941Z
LAST-MODIFIED:20250203T012942Z
UID:18489-1741910400-1741996799@aomori-daibouken.com
SUMMARY:五所川原市エルム Zoff(ゾフ)青森ELM店 オープン
DESCRIPTION:Zoff（ゾフ）が青森県に初出店！フレーム＋セットレンズで5\,500円（税込）から。デザイン性・機能性に優れたメガネや紫外線対策に最適なサングラスを豊富に取り揃え、合計1\,000本以上ラインナップ。視力検査や購入後のサポートまで、丁寧に対応いたします。 \nhttps://elm-no-machi.jp/shop/zoff/
URL:https://aomori-daibouken.com/event/18489
LOCATION:ELM（エルム）\, 〒037-0004 青森県五所川原市唐笠柳藤巻５１７−１
CATEGORIES:五所川原市イベント,五所川原開店
END:VEVENT
BEGIN:VEVENT
DTSTART;TZID=Asia/Tokyo:20250313T093000
DTEND;TZID=Asia/Tokyo:20250313T163000
DTSTAMP:20260421T175851
CREATED:20250311T001820Z
LAST-MODIFIED:20250311T001821Z
UID:20750-1741858200-1741883400@aomori-daibouken.com
SUMMARY:三沢市ツインプラザ三沢 アトリエ ルディック ワークショップ
DESCRIPTION:青森県三沢市 \n\n\n\n        この投稿をInstagramで見る            TamaYura🎷(@tamayura_12.y)がシェアした投稿 \n\n\n\n\n\n\nAttention Required! | Cloudflaremisawaworkshop.jimdofree.com
URL:https://aomori-daibouken.com/event/20750
LOCATION:トヨタツインプラザ三沢（青森トヨタ・ネッツトヨタ青森）\, 〒033-0035 青森県三沢市松原町２丁目３１−２５７０
CATEGORIES:3月青森イベント,三沢市イベント
ATTACH;FMTTYPE=image/jpeg:https://aomori-daibouken.com/wp-content/uploads/2025/03/スクリーンショット-2025-03-11-091350.jpg
END:VEVENT
BEGIN:VEVENT
DTSTART;TZID=Asia/Tokyo:20250313T000000
DTEND;TZID=Asia/Tokyo:20250314T235959
DTSTAMP:20260421T175851
CREATED:20250318T021934Z
LAST-MODIFIED:20250318T021935Z
UID:21137-1741824000-1741996799@aomori-daibouken.com
SUMMARY:横浜市役所 再エネ連携自治体交流物産展 青森県横浜町
DESCRIPTION:3/13と14の2日間、横浜市役所アトリウムにて、再エネ連携自治体交流物産展があります！昨年に引き続き、横浜町からは、当駅が行きます！#YOKOHAMAスタンド も持って行きます！あと、青森みやげの新定番、チョコQ助も！ぜひぜひ、遊びに来てください～#道の駅よこはま　#横浜町　#横浜市 pic.twitter.com/kyiLlYL1m7 — 道の駅よこはま＠青森 (@yokohamamati) March 10\, 2025
URL:https://aomori-daibouken.com/event/21137
LOCATION:横浜市役所\, 〒231-0005 神奈川県横浜市中区本町６丁目５０−１０
CATEGORIES:青森 物産展 アンテナショップ フェア2025
ATTACH;FMTTYPE=image/jpeg:https://aomori-daibouken.com/wp-content/uploads/2025/03/Glpb1CmaQAA0Du8.jpg
END:VEVENT
BEGIN:VEVENT
DTSTART;TZID=Asia/Tokyo:20250312T000000
DTEND;TZID=Asia/Tokyo:20250318T235959
DTSTAMP:20260421T175851
CREATED:20250318T021605Z
LAST-MODIFIED:20250318T021607Z
UID:21130-1741737600-1742342399@aomori-daibouken.com
SUMMARY:岡山県岡山市 第26回 青森県の物産と観光展 | 岡山タカシマヤ
DESCRIPTION:https://www.takashimaya.co.jp/okayama/special/aomori/
URL:https://aomori-daibouken.com/event/21130
LOCATION:岡山高島屋\, 〒700-8520 岡山県岡山市北区本町６−４０
CATEGORIES:青森 物産展 アンテナショップ フェア2025
ATTACH;FMTTYPE=image/jpeg:https://aomori-daibouken.com/wp-content/uploads/2025/03/image-4-7.jpg
END:VEVENT
BEGIN:VEVENT
DTSTART;TZID=Asia/Tokyo:20250312T000000
DTEND;TZID=Asia/Tokyo:20250312T235959
DTSTAMP:20260421T175851
CREATED:20250311T090833Z
LAST-MODIFIED:20250311T090834Z
UID:20852-1741737600-1741823999@aomori-daibouken.com
SUMMARY:弘前市 ハッピードラッグ 弘前和徳店 オープン
DESCRIPTION:営業時間 9:00〜22:00
URL:https://aomori-daibouken.com/event/20852
LOCATION:ハッピードラッグ 弘前和徳店\, 青森県弘前市大字和徳町170
CATEGORIES:弘前市イベント 今日 明日 土手町 2025,弘前市開店
END:VEVENT
BEGIN:VEVENT
DTSTART;TZID=Asia/Tokyo:20250311T100000
DTEND;TZID=Asia/Tokyo:20250311T120000
DTSTAMP:20260421T175851
CREATED:20250311T000345Z
LAST-MODIFIED:20250311T000346Z
UID:20744-1741687200-1741694400@aomori-daibouken.com
SUMMARY:弘前市 ヒロロDEしのの
DESCRIPTION:この投稿をInstagramで見る            しののベース(@sinonobase)がシェアした投稿
URL:https://aomori-daibouken.com/event/20744
LOCATION:ヒロロ(HIRORO)\, 〒036-8003 青森県弘前市駅前町９−２０
CATEGORIES:3月青森イベント,弘前市イベント 今日 明日 土手町 2025
ATTACH;FMTTYPE=image/jpeg:https://aomori-daibouken.com/wp-content/uploads/2025/03/スクリーンショット-2025-03-11-090228.jpg
END:VEVENT
BEGIN:VEVENT
DTSTART;TZID=Asia/Tokyo:20250311T000000
DTEND;TZID=Asia/Tokyo:20250317T235959
DTSTAMP:20260421T175851
CREATED:20250310T232146Z
LAST-MODIFIED:20250310T232147Z
UID:20731-1741651200-1742255999@aomori-daibouken.com
SUMMARY:弘前ロピアチラシ 青森 2025/3/11～3/17
DESCRIPTION:【お知らせ】 \n\n\n\nいつも当店をご利用いただきありがとうございます。駐車場の設備トラブルにより当面の間、第1駐車場が駐車不可になります。お車でお越しの方は恐れ入りますが第2駐車場をご利用ください。 \n\n\n\nお客様にはご不便をおかけいたしますが何卒ご理解賜りますようお願い申し上げます。 \n\n\n\n対象店舗　弘前店
URL:https://aomori-daibouken.com/event/20731
LOCATION:CiiNA CiiNA(シーナシーナ) 弘前\, 〒036-8002 青森県弘前市駅前３丁目2−１
CATEGORIES:弘前ロピアチラシ
ATTACH;FMTTYPE=image/jpeg:https://aomori-daibouken.com/wp-content/uploads/2025/03/image-19.jpg
END:VEVENT
BEGIN:VEVENT
DTSTART;TZID=Asia/Tokyo:20250311T000000
DTEND;TZID=Asia/Tokyo:20250317T235959
DTSTAMP:20260421T175851
CREATED:20250310T231605Z
LAST-MODIFIED:20250310T231606Z
UID:20726-1741651200-1742255999@aomori-daibouken.com
SUMMARY:五所川原 ロピア チラシ 青森 2025/3/11～3/17
DESCRIPTION:
URL:https://aomori-daibouken.com/event/20726
LOCATION:ELM（エルム）\, 〒037-0004 青森県五所川原市唐笠柳藤巻５１７−１
CATEGORIES:五所川原ロピアチラシ
ATTACH;FMTTYPE=image/jpeg:https://aomori-daibouken.com/wp-content/uploads/2025/03/image-17.jpg
END:VEVENT
BEGIN:VEVENT
DTSTART;TZID=Asia/Tokyo:20250311T000000
DTEND;TZID=Asia/Tokyo:20250317T235959
DTSTAMP:20260421T175851
CREATED:20250310T231354Z
LAST-MODIFIED:20250310T231355Z
UID:20721-1741651200-1742255999@aomori-daibouken.com
SUMMARY:青森市 ロピア チラシ 2025/3/11～3/17
DESCRIPTION:
URL:https://aomori-daibouken.com/event/20721
LOCATION:CiiNA CiiNA (シーナシーナ) 青森\, 〒030-0843 青森県青森市浜田１丁目１４−１
CATEGORIES:青森市ロピアチラシ
ATTACH;FMTTYPE=image/jpeg:https://aomori-daibouken.com/wp-content/uploads/2025/03/image-15.jpg
END:VEVENT
BEGIN:VEVENT
DTSTART;TZID=Asia/Tokyo:20250310T190000
DTEND;TZID=Asia/Tokyo:20250310T190000
DTSTAMP:20260421T175851
CREATED:20250311T231056Z
LAST-MODIFIED:20250311T231057Z
UID:20893-1741633200-1741633200@aomori-daibouken.com
SUMMARY:八戸市 鶏だしラーメン 松寛商店 オープン
DESCRIPTION:この投稿をInstagramで見る            餃子バル//MATSUHIRO(@gyouza_bal_matsuhiro)がシェアした投稿
URL:https://aomori-daibouken.com/event/20893
LOCATION:松寛商店\, 〒031-0032 青森県八戸市三日町３８
CATEGORIES:3月青森イベント,八戸市イベント 今日 明日 今週末 2025,八戸市ラーメン開店,八戸市開店
ATTACH;FMTTYPE=image/png:https://aomori-daibouken.com/wp-content/uploads/2025/03/X青森イベント情報のコピー-18.png
END:VEVENT
BEGIN:VEVENT
DTSTART;TZID=Asia/Tokyo:20250310T000000
DTEND;TZID=Asia/Tokyo:20250323T235959
DTSTAMP:20260421T175851
CREATED:20250311T013348Z
LAST-MODIFIED:20250311T013349Z
UID:20766-1741564800-1742774399@aomori-daibouken.com
SUMMARY:青森 マクドナルド クーポン
DESCRIPTION:3/10(月)～3/23(日)まで、「マックフライポテト®」M・Lサイズが特別価格の250円！さらに、3/10(月)～3/16(日)の7日間日替わりで、「プレミアムローストコーヒー」「チキンマックナゲット® 5ピース」など人気商品の100円クーポンを、マクドナルド公式アプリで配信！ \n\n\n\n※表記は税込み価格です。※ポテトは単品でご購入の場合に限ります。※一部店舗(空港、サービスエリア、遊園地等の店舗)およびデリバリーサービスは「マックフライポテトM・Lサイズ 250円」キャンペーン対象外となります。※朝マック®販売店舗では10:30からの販売。 \n\n\n\n\nhttps://www.mcdonalds.co.jp/campaign/tokuninarudo/
URL:https://aomori-daibouken.com/event/20766
LOCATION:マクドナルド\, マクドナルド
CATEGORIES:八戸市クーポン,弘前市クーポン,青森市クーポン・お得情報
ATTACH;FMTTYPE=image/jpeg:https://aomori-daibouken.com/wp-content/uploads/2025/03/image-23.jpg
END:VEVENT
BEGIN:VEVENT
DTSTART;TZID=Asia/Tokyo:20250310T000000
DTEND;TZID=Asia/Tokyo:20250310T235959
DTSTAMP:20260421T175851
CREATED:20250304T090238Z
LAST-MODIFIED:20250304T123121Z
UID:20459-1741564800-1741651199@aomori-daibouken.com
SUMMARY:八戸市 卓トレ八戸店 オープン
DESCRIPTION:八戸市で卓トレ八戸店の新店舗が開店します。 \n\n\n\n〒031-0081 青森県八戸市柏崎１丁目１１ １７YKビル ４階 \n\n\n\n        この投稿をInstagramで見る            🏓卓トレ八戸店🏓(@takutore_hachinohe)がシェアした投稿
URL:https://aomori-daibouken.com/event/20459
LOCATION:卓トレ八戸店\, 〒031-0081 青森県八戸市柏崎１丁目１１ １７YKビル ４階
CATEGORIES:3月青森イベント,八戸市イベント 今日 明日 今週末 2025,八戸市開店
ATTACH;FMTTYPE=image/jpeg:https://aomori-daibouken.com/wp-content/uploads/2025/03/スクリーンショット-2025-03-04-180036.jpg
END:VEVENT
BEGIN:VEVENT
DTSTART;TZID=Asia/Tokyo:20250310T000000
DTEND;TZID=Asia/Tokyo:20250310T235959
DTSTAMP:20260421T175851
CREATED:20250223T233147Z
LAST-MODIFIED:20250318T003330Z
UID:19940-1741564800-1741651199@aomori-daibouken.com
SUMMARY:青森市新町パサージュ広場 ネコ雑貨専門店 ねこオタ プレオープン
DESCRIPTION:ちょっとオープンしてみました pic.twitter.com/q8xPNfaZbY — ハーベストマリアージュ青森 (@aomoriparty) March 10\, 2025 \n\n\n\n青森市浪岡消防団第9分団の皆様、風船ありがとうございます😊 pic.twitter.com/JSVKM3rbxc — ハーベストマリアージュ青森 (@aomoriparty) March 11\, 2025 \n\n\n\n「ねこオタ」です。青森県郷土芸品と猫のコラボを掲げて、お忙しい中製作してもらいました。津軽こぎん刺し商品です。手作りなので一点ものです。 pic.twitter.com/iVVsLHgWJd — ハーベストマリアージュ青森 (@aomoriparty) March 9\, 2025
URL:https://aomori-daibouken.com/event/19940
LOCATION:パサージュ広場\, 〒030-0801 青森県青森市新町１丁目８−５
CATEGORIES:3月青森イベント,青森市イベント 今日 明日 今週末 2025,青森市開店
ATTACH;FMTTYPE=image/jpeg:https://aomori-daibouken.com/wp-content/uploads/2025/02/Gl9JQBtb0AAHqNf.jpg
END:VEVENT
BEGIN:VEVENT
DTSTART;TZID=Asia/Tokyo:20250310T000000
DTEND;TZID=Asia/Tokyo:20250310T235959
DTSTAMP:20260421T175851
CREATED:20250219T002546Z
LAST-MODIFIED:20250304T123335Z
UID:19713-1741564800-1741651199@aomori-daibouken.com
SUMMARY:八戸市 MILK DO dore iku?八戸ラピア店 オープン
DESCRIPTION:2024年2月10日に青森県のおいらせ町のイオン下田に開店した「ミルクドドレイク」が、八戸にも新店舗がオープンし県内2店舗目になります。 \n\n\n\n\n        この投稿をInstagramで見る            ミルクドドレイク  MILK DO dore iku?(@milkdodoreiku)がシェアした投稿 \n\n\n\n\nラピア店限定商品【キャラメルバナナ】もお楽しみに🤤🍌 pic.twitter.com/Y6FxAN6E81 — 八戸ショッピングセンターラピア【公式】 (@sclapia) February 18\, 2025 \n\n\n\n🍩NEW OPEN🍩 \n\n\n\n3月10日OPENMILK DO dore iku?八戸ラピア店 \n\n\n\nミルクドドレイクが青森県に2店舗目の出店決定！皆さん気になる八戸ラピア店限定商品は！ \n\n\n\n【キャラメルバナナ】北海道産の生クリームに濃厚でなめらかなバナナペーストとクリーミーなキャラメルシロップをブレンド八戸ラピア店限定生ドーナッツ \n\n\n\n【店舗情報】MILK DO dore iku?八戸ラピア店 \n\n\n\n【住所】〒031-0801青森県八戸市江陽2丁目14-1 八戸ショッピングセンターラピア店 \n\n\n\n【営業時間】10:00〜18:00 \n\n\n\n【定休日】なし \n\n\n\n八戸の皆様にお会いできるのを楽しみにしております🎵是非お待ちしております🍩✨
URL:https://aomori-daibouken.com/event/19713
LOCATION:八戸ショッピングセンターラピア\, 〒031-0801 青森県八戸市江陽２丁目１４−１
CATEGORIES:3月青森イベント,八戸市イベント 今日 明日 今週末 2025,八戸市開店,青森県グルメイベント
ATTACH;FMTTYPE=image/jpeg:https://aomori-daibouken.com/wp-content/uploads/2025/02/480186211_17955245366913280_8114759053240029904_n.jpg
END:VEVENT
BEGIN:VEVENT
DTSTART;TZID=Asia/Tokyo:20250309T100000
DTEND;TZID=Asia/Tokyo:20250309T160000
DTSTAMP:20260421T175851
CREATED:20250304T021217Z
LAST-MODIFIED:20250304T021218Z
UID:20434-1741514400-1741536000@aomori-daibouken.com
SUMMARY:青森市サンロード青森 青森ケーブルテレビフェア2025
DESCRIPTION:青森市サンロード青森で「青森ケーブルテレビフェア2025」が開催されます。子供が大好きな「わんだふるぷりきゅあ！キャラクターショー」もあります。 \n\n\n\n\n\n\n\n\n \nhttps://www.actv.ne.jp/info_list/information/actfair2025/
URL:https://aomori-daibouken.com/event/20434
LOCATION:サンロード青森\, 〒030-0845 青森県青森市緑３丁目９−２
CATEGORIES:3月青森イベント,サンロードイベント,青森市イベント子供
ATTACH;FMTTYPE=image/png:https://aomori-daibouken.com/wp-content/uploads/2025/03/actfair2025_chirashi_l-1138x1536-1.png
END:VEVENT
BEGIN:VEVENT
DTSTART;TZID=Asia/Tokyo:20250309T100000
DTEND;TZID=Asia/Tokyo:20250309T150000
DTSTAMP:20260421T175851
CREATED:20250305T074902Z
LAST-MODIFIED:20250305T074944Z
UID:20497-1741514400-1741532400@aomori-daibouken.com
SUMMARY:むつ市むつ松木屋 KAMAFUSE MARKET
DESCRIPTION:青森県むつ市むつ松木屋で「KAMAFUSE MARKET」イベントが開催されます。 \n\n\n\n【告知】今週末のイベント出店🎪『KAMAFUSE MARKET』日時:3月9日㈰10:00~15:00会場:青森県 むつ市 むつ松木屋10店舗が集合するKAMAFUSE MARKETです👏是非お越しください💕#青森県 #むつ市 #kamafusemarket pic.twitter.com/qGCmAbX8c1 — うみね工房✾KAMAFUSE MARKET8/11～13 (@uminekoubou) March 3\, 2025
URL:https://aomori-daibouken.com/event/20497
LOCATION:松木屋\, 〒035-0031 青森県むつ市柳町１丁目８−８
CATEGORIES:3月青森イベント,むつ市イベント,青森県クラフトイベント 2025 マルシェ
ATTACH;FMTTYPE=image/jpeg:https://aomori-daibouken.com/wp-content/uploads/2025/03/GlA90GFbQAQsV6Y.jpg
END:VEVENT
BEGIN:VEVENT
DTSTART;TZID=Asia/Tokyo:20250309T100000
DTEND;TZID=Asia/Tokyo:20250309T150000
DTSTAMP:20260421T175851
CREATED:20250227T053604Z
LAST-MODIFIED:20250227T053606Z
UID:20133-1741514400-1741532400@aomori-daibouken.com
SUMMARY:深浦町 みんなであそぼうDAY
DESCRIPTION:2025.3.9（日）深浦町民体育館にて、おさがり会と遊び場やります！！ \n\n\n\n　@ringring201124@runrun.aomori \n\n\n\n学生さんの、学ラン·ワイシャツ·ブラウスも、少しだけ持っていきます　@seifuku.ring \n\n\n\n初めての開催地✨✨お近くの方。どんな感じなのー？って遊びに来てください😊 \n\n\n\nもちろん、小旅行しながらでも各地からお越しくださいねー！ \n\n\n\n不要になった子供服や雑貨、学校用品などもしあったら当日会場にお持ちください。この日だけでなく、各イベントや制服Ringでも随時お預かりしています😍 \n\n\n\n深浦町さん。ご招待いただきありがとうございます💖 \n\n\n\n🔸🔸🔸🔸🔸🔸🔸🔸🔸🔸🔸🔸🔸🔸 \n\n\n\nおさがり会、遊び場共に、スケジュールが合えば青森県内出張可能です。 \n\n\n\n料金等ご相談ください😊 \nhttps://www.instagram.com/ringring201124/
URL:https://aomori-daibouken.com/event/20133
LOCATION:深浦町民体育館\, 〒038-2321 青森県西津軽郡深浦町広戸家野上９５−２０１
CATEGORIES:3月青森イベント,青森県 イベント 子ども
ATTACH;FMTTYPE=image/jpeg:https://aomori-daibouken.com/wp-content/uploads/2025/02/481743981_2550768658452559_7032219384993211115_n.jpg
END:VEVENT
BEGIN:VEVENT
DTSTART;TZID=Asia/Tokyo:20250309T100000
DTEND;TZID=Asia/Tokyo:20250309T150000
DTSTAMP:20260421T175851
CREATED:20250227T050700Z
LAST-MODIFIED:20250227T065437Z
UID:19205-1741514400-1741532400@aomori-daibouken.com
SUMMARY:弘前市 ヒロロマルシェ～ヒロマル～ ハンドメイドクラフトイベント
DESCRIPTION:青森県弘前市のヒロロにてワークショップ・グルメフード・ハンドメイドクラフトイベントが開催されます。 \n\n\n\n\n\n\n\n\n≪ハンドメイド販売≫〇Akimonde／石と革バッグ、ペンケース、各種ケース（メガネ・コイン・カードキー）、キーホルダー、ウォレット、お香立て、石の箸置き、石のガチャ、石のアクセサリーなど \n\n\n\n〇akinko294／オーブン粘土箸置き、ボールペン、ヘアクリップ、トロフィー、缶バッチ、マグネット、バッグ、鏡、ステッカーなど \n\n\n\n〇うつわポータル／陶磁器カップ、陶人形など \n\n\n\n〇加藤研究社／布小物バック、Tシャツ、スニーカーなど \n\n\n\n〇こぎん刺し Kirarian／こぎん刺しヘアゴム、ピアス・イヤリング、ブローチ、ポーチ、ヘアターバン、バックチャームなど \n\n\n\n〇つしま畳店／畳・畳縁小物畳縁がま口、くるみボタン小物、まめ畳、ミニござ、長財布 \n\n\n\n〇こぎん刺し　Tomokogin／こぎん刺しポーチ、ブローチ、イヤリング・ピアス、バッグ、コースター、名刺入れ、ネームストラップなど \n\n\n\n〇SAcHi…..／ワイヤークラフト各種ワイヤークラフト飾り \n\n\n\n〇zakka灯台／アクセサリー雑貨・文具・陶器アクセサリー雑貨、文房具、ポーチ、陶器など \n\n\n\n〇HANDCRAFT☆elma／青森県雑貨・販売：青森県キーホルダー、青森県ブローチ、青森県アクセサリーほか \n\n\n\n〇handmade.ff／デニムリメイク・布小物雑貨前掛けリメイクバッグ、バッグ、ポーチ、クラフトバンド、布小物雑貨など \n\n\n\n〇painter_koto／にがおえ、ねこずきんグッズねこずきんグッズ…バッジ、キーホルダー、マグネット、ポストカード、しおり他　☆にがおえ…お1人様につき1\,200円、ねこずきんグッズオーダー1\,650円～ \n\n\n\n〇madeni／こぎん刺しこぎんスタイ、こぎん帽子、こぎん蝶ネクタイ、こぎんヘアゴム、こぎんバッグ、こぎんキーリング、こぎん靴下、こぎんワッペン、体験キッド、大人のお食事エプロン \n\n\n\n≪ワークショップ≫　※事前予約不可。数に限りがございますのでご了承ください。◆アイシングクッキーポムポム／アイシングクッキー☆アイシングクッキー作り：500円　対象：6歳以上　所要時間約15分・販売：アイシングクッキー、クッキー缶 \n\n\n\n◆Everyday　Gift／フェルト・刺繍☆ミモザ刺繍のブローチ：1\,800円　所要時間60分～・販売：ヘアゴム、ブローチ、サンキャッチャーなど \n\n\n\n◆Octo／本格スノードーム☆本格的なスノードームで独特な世界観をつくれます！基本料金1コ1\,500円～・販売：snowdomeキット（サイズS・M）、材料パーツ \n\n\n\n◆こけス工房／木工（こけし雑貨）☆こけスの絵付け体験…こけスの駒にミニロクロ・マーカーを使って、自由に絵付けをしてもらいます。所要時間：約30分、体験料600円・販売：こけスセット、こけし雑貨、小枝工作など \n\n\n\n◆cocoPri／ドライフラワー・ボタニカルアクセサリー☆本物のお花で作るキーホルダー　1\,650円・販売：ドライフラワー雑貨、ボタニカルアクセサリー \n\n\n\n◆Come to Ringo／シーグラスアート・ハンドメイドアクセサリー☆シーグラスアート…海の宝石シーグラス、貝殻、流木を使用したオリジナルエコアートの制作。小フレーム500円、中フレーム800円、大フレーム1\,000円・販売：シーグラスアート、ハンドメイドアクセサリー、ポニーフック、ネックレス、イヤリング、ピアス \n\n\n\n◆sora／キャンドル・犬のおやつ☆ハーバリウム作り！…たくさんのお花の中からお好きな花を選び瓶の中に好みにアレンジしていきます。1\,000円～・販売：キャンドル、キャンドルサシェ、犬のおやつ \n\n\n\n◆TANIKU522＆DENIMA／リメイク缶・多肉植物・多肉植物寄植え・小物雑貨・デニムリメイク☆多肉寄植え体験…1\,100円～。お好きな鉢・多肉を選んで＋500円で体験可能・販売：多肉植物、リメイク缶、デニムリメイクなど \n\n\n\n◆petit atelier KDK／リボン雑貨☆オリジナロゼット…お好きな柄、リボン・パーツでオリジナルのロゼットキーホルダーを作ろう！800円☆オリジナルフォトフレームデコ…お好きなリボンパーツとホイップで、おいしいそうでかわいいフォトフレームを作ろう！1\,200円・販売：キッズアクセサリー、ヘアゴム、バレッタ、クリップ、ロゼット、ウェットティッシュケースなど \n\n\n\n◆Bloomy／ガラスビーズ雑貨☆サンキャッチャー…1\,000円・販売：サンキャッチャー、リング、ブレスレット、ネックレス、耳飾りなど \n\n\n\n◆mammy-mell／レロト雑貨☆お好きなパーツを選んで、自分だけの作品を作ります…しゃかしゃか♡移動ポケット900円、しゃかしゃか♡ペンケース1\,000円、マジカル☆ペン800円、じゃららんキーホルダー800円・販売：ポーチ、がまぐち、ショルダー紐、バッグ、キーホルダー、マグネット、ブローチ、ヘアゴム、財布、巾着、ボールペン、ピンクッションなど \n\n\n\n◆「Maluta marker.／ペイントアート☆イロイロな絵を描きます　※ボディーのみのペイントアートです。300円～1\,200円 \n\n\n\n◆＊munimuni＊／タイル雑貨☆タイルワークショップ…ヘアゴム600円、キーホルダー700円、コンパクトミラー1\,000円、小物入れ1\,200円、タイルアート1\,000円、グリーティングカード600円～・販売：アクセサリー、マグネット、キーチャーム、ヘアゴム、タイルケーキ、タイルプレート、鍋敷き、タイルトレー、コースター、大判タイルなど \n\n\n\n◆yacopin art／アルコールインクアート☆タイルアルコールインクアート1\,500円～・販売：アート、トレイ、キャニスター、花瓶など \n\n\n\n◆Leather　Hearts／革製品☆レザークラフト体験：子どもから大人まで、みんなで楽しめるワークショップ。お好きな色の革を選んでストラップや巾着を作ります。手縫いやカシメの体験も可能。世界でたった1つだけの、特別な作品が作れます♪800円～・販売：革製品、革小物 \n\n\n\n≪FOOD≫□Boulangerie 新月…パン・焼菓子□Pinguo…キンパ、台湾カステラ、わらび餅ドリンク□HARB＆SPICE　CAFÉ MINERAL…□たねゆい食堂…お弁当・たまごサンド、レモネード、レモネードソーダ、アイスコーヒー□food atelier Hacchi…米粉シュークリーム、米粉ロール、カスタードプリン、糀チーズケーキ、米粉クッキー、米粉パウンドケーキ、生ドーナツ \n\n\n\n【特設ブース】中南地域米粉生産利用推進協議会…米粉を使ったお菓子の試食、米粉サンプル無料提供グルテンフリー食材として、近年スーパーでも見かけることが増えた「米粉」。実は小麦粉の代わりにお菓子やパン作りにも使える米粉用の品種が全国で開発されています。青森県でも、2023年に米粉用品種「あおもりっこ」が誕生！県内各地でも活用するお店が増えてきました。今回は、そんな米粉の魅力をお伝えし、皆さんにより身近に感じていただけるようPRを行います。 \n\n\n\n【駐車場について】ヒロロ立体駐車場及び市営駐車場（中央口・城東口）をご利用の方は3時間無料認証を受けることができます。お買い物金額に応じた近隣駐車場サービスは対象外となります。 \nhttps://www.hirorosquare.jp/event_detail.html?eid=43667&ym=202503
URL:https://aomori-daibouken.com/event/19205
LOCATION:ヒロロ(HIRORO)\, 〒036-8003 青森県弘前市駅前町９−２０
CATEGORIES:3月青森イベント,弘前クラフトイベント,弘前市イベント 今日 明日 土手町 2025,青森マルシェ2025,青森県クラフトイベント 2025 マルシェ,青森県グルメイベント
ATTACH;FMTTYPE=image/jpeg:https://aomori-daibouken.com/wp-content/uploads/2025/02/event_img_1_00043667.jpg
END:VEVENT
BEGIN:VEVENT
DTSTART;TZID=Asia/Tokyo:20250309T100000
DTEND;TZID=Asia/Tokyo:20250309T150000
DTSTAMP:20260421T175851
CREATED:20250208T053834Z
LAST-MODIFIED:20250227T055246Z
UID:19079-1741514400-1741532400@aomori-daibouken.com
SUMMARY:弘前市 ゼロカラマルシェマルシェ&やさしさマルシェ合同開催
DESCRIPTION:いよいよ明日！　今年最初のゼロカラマルシェマルシェとやさしさマルシェ2月9日(日)合同開催します🤗 \n\n\n\n🎪ゼロカラマルシェ　🍀出店者一覧🍀 \n\n\n\n・ciel ～シェル～・b-plus・ねこぴず工房・くろーばー・Handmade_SHii の・足もみSachiko・かおりのせんせいKANA・handmade eight・fleur・Hand works ChaCha・sunny craftband・Ange・どうぶつ占い　しばけん先生・peter pan・ハハトコ・Pleace of light 豆ちび16店舗 \n\n\n\n場所 : 公益フォレストホール(弘前市泉野3丁目6-1) \n\n\n\n開催時間 : 10時～15時 \n\n\n\n駐車場 : 無料 \n\n\n\nやさしさマルシェと合わせると40店舗以上になります🤩✨ \n\n\n\n外にはキッチンカーも出店してます🤗 \n\n\n\nバレンタイン💝のプレゼントや自分へのご褒美🎀疲れた身体をマッサージでリフレッシュ✨etc… \n\n\n\nワクワクが沢山集まったゼロカラマルシェに遊びにこいへ～🎪✨ \nhttps://www.instagram.com/zerokara_marche/\n\n\n\n\n🌟2月9日はやさしさマルシェ🌟 \n\n\n\n2月9日（日）公益フォレストホールにて10時〜15時まで開催‼️今回はお馴染みのフルート🪈演奏会🎶もあります😊　お楽しみに💖 \n\n\n\n⬇️出店予定 \n\n\n\n◯アロ魔女　ロジェ◯足圧、足もみＢ＆P◯savon mou（石けん作りのワークショップ）◯hand made .ff◯さとのはな◯さ・らいあ◯Handmadeうにとらん◯住友生命◯藤田農園◯ヒナタ珈琲◯HeaI the worId◯笑子村◯勾玉セラピー∞Karin∞◯心と身体のケア専門店naturel（ナチュレル）◯アイハ◯占いのmany　any　smile◯ナチュラルリース◯ｋ−sugar◯ユキパン◯food　atelier Hacchi◯mamachan◯PetitPomme◯Marshe.cookies◯にこにこ健康クラブ◯パワーストーンセラピーBluebird◯そうbeeず◯絵本作家あかねさん \n\n\n\n🟢キッチンカー⚪︎キッチンてるてる⚪︎マヨたこ弘前店⚪︎サンディ \n\n\n\n◇◇◇◇◇◇◇◇◇◇◇◇◇◇◇◇◇◇◇◇◇◇◇◇◇◇やさしさマルシェとは❓️2021年11月〜ほぼ毎月開催しているイベントです🌟物販（お菓子等も含む）＆ワークショップやマッサージ等の施術、占いやセラピー等多岐にわたる出店者さんが集まっています。◇◇◇◇◇◇◇◇◇◇◇◇◇◇◇◇◇◇◇◇◇◇◇◇◇◇ \n\n\n\n✨キッチンカー募集中です‼️お待ちしています😆是非お誘い合わせの上、お越しくださいませ💓 \nhttps://www.instagram.com/yasashisamarushe2022/
URL:https://aomori-daibouken.com/event/19079
LOCATION:公益フォレストホール\, 〒036-8164 青森県弘前市泉野３丁目６−１
CATEGORIES:2月青森イベント,弘前クラフトイベント,弘前市イベント 今日 明日 土手町 2025,弘前市キッチンカーイベント2025,青森マルシェ2025
ATTACH;FMTTYPE=image/jpeg:https://aomori-daibouken.com/wp-content/uploads/2025/02/476580728_17902516878099612_244058041401710599_n.jpg
END:VEVENT
BEGIN:VEVENT
DTSTART;TZID=Asia/Tokyo:20250309T000000
DTEND;TZID=Asia/Tokyo:20250309T235959
DTSTAMP:20260421T175851
CREATED:20250307T043406Z
LAST-MODIFIED:20250307T065048Z
UID:20632-1741478400-1741564799@aomori-daibouken.com
SUMMARY:青森市 アメリカ屋サンロード青森店 閉店
DESCRIPTION:青森市 アメリカ屋サンロード青森店 閉店になります。 \n\n\n\n小学校時代は八戸湊高台店でお年玉で福袋を購入して全身コーデ。高校生の時はEDWINやLEVI’Sのジーパンを購入させて頂き、青春時代に大変お世話になりました。ちなみにジーパンはウェストが入らなくなったので、ショルダーバッグや座布団カバーにリメイクされ今でも活用されています。 \n\n\n\nありがとうございました。 \n\n\n\n        この投稿をInstagramで見る            アメリカ屋サンロード青森店(@amerikaya_sunroad)がシェアした投稿
URL:https://aomori-daibouken.com/event/20632
LOCATION:サンロード青森\, 〒030-0845 青森県青森市緑３丁目９−２
CATEGORIES:3月青森イベント,サンロードイベント,青森市イベント 今日 明日 今週末 2025,青森市閉店
ATTACH;FMTTYPE=image/jpeg:https://aomori-daibouken.com/wp-content/uploads/2025/03/スクリーンショット-2025-03-07-131505.jpg
END:VEVENT
BEGIN:VEVENT
DTSTART;TZID=Asia/Tokyo:20250308T100000
DTEND;TZID=Asia/Tokyo:20250308T100000
DTSTAMP:20260421T175851
CREATED:20250307T054039Z
LAST-MODIFIED:20250307T054040Z
UID:20638-1741428000-1741428000@aomori-daibouken.com
SUMMARY:青森市古川 365スイーツショップ 再オープンキャンペーン
DESCRIPTION:待っててくれてありがとう！3/8（土）10時からもっと楽しい365スイーツが始まります✨ \n\n\n\n諸事情により、2月からしばらく休業しておりました💦この度、365スイーツショップ青森店はパワーアップして3月8日（土）いよいよ営業再開します！ \n\n\n\n休業中にいただいた「早く食べたい！」の声にお応えして、3つのうれしいお届けをご用意しました🌸 \n\n\n\n🍎復活を祝して「365スイーツ復活SALE」🍎3/31まで！全品100円OFF！ \n\n\n\n🍎 新登場「プレミアムアサイーボール」🍎全国で大ヒット中のアサイーボールを青森で！朝食にもぴったりのNEW定番メニュー🎵 \n\n\n\n🍎 品切れだった大人気商品を仕入強化🍎・完売続きだった大人気「極みパフェ」・お土産やプレゼントに最適な「ケーキ缶・パンケーキ缶」全6種──在庫強化で、満タンです！ \nhttps://www.instagram.com/365sweets.aomori/
URL:https://aomori-daibouken.com/event/20638
LOCATION:365スイーツショップ青森本店\, 〒030-0862 青森県青森市古川１丁目１５−５ オフィスビル木村 1階
CATEGORIES:3月青森イベント,青森市イベント 今日 明日 今週末 2025,青森市クーポン・お得情報,青森市開店
ATTACH;FMTTYPE=image/jpeg:https://aomori-daibouken.com/wp-content/uploads/2025/03/482950517_642582178420923_8681674399164793517_n.jpg
END:VEVENT
BEGIN:VEVENT
DTSTART;TZID=Asia/Tokyo:20250308T000000
DTEND;TZID=Asia/Tokyo:20250309T235959
DTSTAMP:20260421T175851
CREATED:20250307T004535Z
LAST-MODIFIED:20250307T004537Z
UID:20614-1741392000-1741564799@aomori-daibouken.com
SUMMARY:むつ市 ツインプラザむつ店体験型イベント ととのう
DESCRIPTION:青森県むつ市のツインプラザむつ店にてイベントが開催されます。テントサウナ体験（3/8のみ）・キッチンカー・からだのリフレッシュがあります。 \n\n\n\n        この投稿をInstagramで見る            青森トヨタ ツインプラザむつ店(公式)(@toyota_mutsu)がシェアした投稿
URL:https://aomori-daibouken.com/event/20614
LOCATION:トヨタツインプラザむつ店（青森トヨタ・ネッツトヨタ青森）\, 〒035-0041 青森県むつ市金曲２丁目２−１８
CATEGORIES:3月青森イベント,むつ市イベント,むつ市キッチンカーイベント2025
ATTACH;FMTTYPE=image/jpeg:https://aomori-daibouken.com/wp-content/uploads/2025/03/スクリーンショット-2025-03-07-094154.jpg
END:VEVENT
BEGIN:VEVENT
DTSTART;TZID=Asia/Tokyo:20250308T000000
DTEND;TZID=Asia/Tokyo:20250309T235959
DTSTAMP:20260421T175851
CREATED:20250304T020517Z
LAST-MODIFIED:20250305T083525Z
UID:20424-1741392000-1741564799@aomori-daibouken.com
SUMMARY:青森市アスパム 鹿児島フェアin青森
DESCRIPTION:青森市アスパムで「鹿児島フェアin青森」のグルメとステージイベントが開催されます。 \n\n\n\n\n\n\n			\n				\n			\n		\n\n\n\n\n			\n				\n			\n		\n\n\n\n\n \nhttps://www.zennoh.or.jp/am/topics/2025/103868.html\n\n\n\n同時開催イベント\n\n\n\n\n\n青森市アスパム マチコトバ 週末マルシェ青森市アスパムにて週末マルシェの「Thank you Marche」ハンドメイドクラフトイベント＆グルメイベントが開催されます。同時開催イベント青森市アスパムイベント今日以降aomori-daibouken.com\n\n\n\n\n\n\n青森市アスパム 津軽三味線音色頒布会 土曜日・日曜日・祝日コロナ禍で休止していた「津軽三味線音色頒布会」について、このたび内容を一部リニューアルし、再開します。アスパム館内に響き渡る津軽三味線の音色をお楽しみください。再開日令和7年1月4日（土）11：30～...aomori-daibouken.com\n\n\n\n\n\n\n\n\n\n\n\n\n\n\n青森市アスパムイベント今日以降今後の イベント はありません。
URL:https://aomori-daibouken.com/event/20424
LOCATION:青森県観光物産館アスパム\, 安方1－1－40\, 青森市\, 青森県\, 日本
CATEGORIES:3月青森イベント,アスパムイベント 今日 青森市 2025 新町,青森県グルメイベント
ATTACH;FMTTYPE=image/jpeg:https://aomori-daibouken.com/wp-content/uploads/2025/03/スクリーンショット-2025-03-04-110536.jpg
END:VEVENT
BEGIN:VEVENT
DTSTART;TZID=Asia/Tokyo:20250308T000000
DTEND;TZID=Asia/Tokyo:20250309T235959
DTSTAMP:20260421T175851
CREATED:20250227T052531Z
LAST-MODIFIED:20250305T083626Z
UID:20128-1741392000-1741564799@aomori-daibouken.com
SUMMARY:青森市アスパム マチコトバ 週末マルシェ
DESCRIPTION:青森市アスパムにて週末マルシェの「Thank you Marche」ハンドメイドクラフトイベント＆グルメイベントが開催されます。 \n\n\n\n\n\n\n			\n				\n			\n		\n\n\n\n\n			\n				\n			\n		\n\n\n\n\n \n\n\n\n\n同時開催イベント\n\n\n\n\n\n青森市アスパム 鹿児島フェアin青森青森市アスパムで「鹿児島フェアin青森」のグルメとステージイベントが開催されます。同時開催イベント青森市アスパムイベント今日以降aomori-daibouken.com\n\n\n\n\n\n\n青森市アスパム 津軽三味線音色頒布会 土曜日・日曜日・祝日コロナ禍で休止していた「津軽三味線音色頒布会」について、このたび内容を一部リニューアルし、再開します。アスパム館内に響き渡る津軽三味線の音色をお楽しみください。再開日令和7年1月4日（土）11：30～...aomori-daibouken.com\n\n\n\n\n\n\n\n\n\n\n\n\n\n\n青森市アスパムイベント今日以降今後の イベント はありません。
URL:https://aomori-daibouken.com/event/20128
LOCATION:青森県観光物産館アスパム\, 安方1－1－40\, 青森市\, 青森県\, 日本
CATEGORIES:3月青森イベント,アスパムイベント 今日 青森市 2025 新町,青森市クラフトイベント2025 ハンドメイド,青森県グルメイベント
ATTACH;FMTTYPE=image/jpeg:https://aomori-daibouken.com/wp-content/uploads/2025/02/スクリーンショット-2025-03-04-110810.jpg
END:VEVENT
BEGIN:VEVENT
DTSTART;TZID=Asia/Tokyo:20250308T000000
DTEND;TZID=Asia/Tokyo:20250309T235959
DTSTAMP:20260421T175851
CREATED:20250227T045020Z
LAST-MODIFIED:20250304T122024Z
UID:20090-1741392000-1741564799@aomori-daibouken.com
SUMMARY:八戸市ラピア てづくりマルシェ ハンドメイドイベント みちのくリサイクル
DESCRIPTION:青森県八戸市のラピアでハンドメイドイベントが開催されます。 \n\n\n\n\n\n			\n				\n			\n		\n\n\n\n\n			\n				\n			\n		\n\n\n\n \n\n\n\n開催日時2025年3月8日(土)~9日(日) 10:00~17:00場所1F　フェスタプラザ\n\n\n\n \nhttp://www.sc-lapia.co.jp/eventnews/post-32827-2-3-4-7/
URL:https://aomori-daibouken.com/event/20090
LOCATION:八戸ショッピングセンターラピア\, 〒031-0801 青森県八戸市江陽２丁目１４−１
CATEGORIES:3月青森イベント,八戸 ハンドメイドイベント2025 クラフト,八戸市イベント 今日 明日 今週末 2025
ATTACH;FMTTYPE=image/jpeg:https://aomori-daibouken.com/wp-content/uploads/2025/02/20250216122358_page-0001-1086x1536-2.jpg
END:VEVENT
END:VCALENDAR