BEGIN:VCALENDAR
VERSION:2.0
PRODID:-//青森大冒険-イベントカレンダー情報とブログ- - ECPv6.15.20//NONSGML v1.0//EN
CALSCALE:GREGORIAN
METHOD:PUBLISH
X-ORIGINAL-URL:https://aomori-daibouken.com
X-WR-CALDESC:青森大冒険-イベントカレンダー情報とブログ- のイベント
REFRESH-INTERVAL;VALUE=DURATION:PT1H
X-Robots-Tag:noindex
X-PUBLISHED-TTL:PT1H
BEGIN:VTIMEZONE
TZID:Asia/Tokyo
BEGIN:STANDARD
TZOFFSETFROM:+0900
TZOFFSETTO:+0900
TZNAME:JST
DTSTART:20240101T000000
END:STANDARD
END:VTIMEZONE
BEGIN:VEVENT
DTSTART;TZID=Asia/Tokyo:20250329T000000
DTEND;TZID=Asia/Tokyo:20250330T235959
DTSTAMP:20260421T084409
CREATED:20250105T035704Z
LAST-MODIFIED:20250323T225549Z
UID:16361-1743206400-1743379199@aomori-daibouken.com
SUMMARY:青森市アスパム 津軽三味線音色頒布会 土曜日・日曜日・祝日
DESCRIPTION:コロナ禍で休止していた「津軽三味線音色頒布会」について、このたび内容を一部リニューアルし、再開します。アスパム館内に響き渡る津軽三味線の音色をお楽しみください。 \n\n\n\n\n\n\n\n\n\n\n\n再開日令和7年1月4日（土）11：30～ \n\n\n\n再開以降の日時令和7年1月から3月の土曜日・日曜日・祝日（1）11：30～ （2）13：30～ （3）14：30～　各回15分程度 \n\n\n\n場所1階フォレステージ \n\n\n\n鑑賞料無料 \n\n\n\n出演弘前大学津軽三味線サークルの皆様、青森大学津軽三味線部「あおしゃみ」の皆様 \n\n\n\n問合せ先青森県観光物産館アスパム　TEL：017-735-5311 \n\n\n\n※他のイベント開催状況や諸事情により、会場・出演者の変更や休止となる場合がございます。予めご了解ください。 \nhttps://www.aomori-kanko.or.jp/aspam/event/syamisen.html\n\n\n\n3/30 ワラッセ 第2回定期演奏会\n\n\n\n\n\n青森市ワラッセ 津軽三味線 第2回定期演奏会 青森大学三味線部「あおしゃみ」aomori-daibouken.com\n\n\n\n\n\n\n\n\n\n\n\n\n\n\n青森市アスパムイベント今日以降今後の イベント はありません。
URL:https://aomori-daibouken.com/event/16361
LOCATION:青森県観光物産館アスパム\, 安方1－1－40\, 青森市\, 青森県\, 日本
CATEGORIES:3月青森イベント,アスパムイベント 今日 青森市 2025 新町
ATTACH;FMTTYPE=image/jpeg:https://aomori-daibouken.com/wp-content/uploads/2025/01/8GRRRL7w.jpg
END:VEVENT
BEGIN:VEVENT
DTSTART;TZID=Asia/Tokyo:20250329T000000
DTEND;TZID=Asia/Tokyo:20250329T235959
DTSTAMP:20260421T084409
CREATED:20250325T010013Z
LAST-MODIFIED:20250325T010015Z
UID:21273-1743206400-1743292799@aomori-daibouken.com
SUMMARY:八戸市 八戸公園こどもの国 大型遊具広場 オープン
DESCRIPTION:第3期大型遊具広場整備工事のため、アクティブゾーンのご利用を制限しておりましたが、令和7年3月29日（土曜日）よりご利用いただけます。 \n\n\n\n令和4年度より整備しておりました「いかずきんズキャッスルコンビ」が完成し、さらに新たな遊具として「タワーネット」も整備いたしました。 \n\n\n\nルールを守って、楽しくご利用ください。 \n\n\n\nなお、芝生養生のため一部囲いをしておりますので、囲い内には入らないようお願いいたします。 \nhttps://www.city.hachinohe.aomori.jp/soshikikarasagasu/koenryokuchika/koen/3884.html
URL:https://aomori-daibouken.com/event/21273
LOCATION:八戸公園こどもの国\, 〒031-0012 青森県八戸市十日市天摩３３−２
CATEGORIES:3月青森イベント,八戸市イベント 今日 明日 今週末 2025,青森県 イベント 子ども
ATTACH;FMTTYPE=image/jpeg:https://aomori-daibouken.com/wp-content/uploads/2025/03/1-1.jpg
END:VEVENT
BEGIN:VEVENT
DTSTART;TZID=Asia/Tokyo:20250328T000000
DTEND;TZID=Asia/Tokyo:20250328T235959
DTSTAMP:20260421T084409
CREATED:20250328T011107Z
LAST-MODIFIED:20250328T011108Z
UID:21413-1743120000-1743206399@aomori-daibouken.com
SUMMARY:弘前市ヒロロ カプセルトイ専門店 オープン
DESCRIPTION:カプセルトイ専門店がヒロロ2階にオープン！ \n\n\n\n人気キャラクターからマニア必見のアイテムまで随時500種類を超えるアイテムを取り揃えております。 \n\n\n\n大人も子どももみんなでカプセルトイを楽しもう! \nhttp://www.hiroro.co.jp/snews_details.html?id=9300
URL:https://aomori-daibouken.com/event/21413
LOCATION:ヒロロ(HIRORO)\, 〒036-8003 青森県弘前市駅前町９−２０
CATEGORIES:3月青森イベント,弘前市イベント 今日 明日 土手町 2025,弘前市開店
ATTACH;FMTTYPE=image/jpeg:https://aomori-daibouken.com/wp-content/uploads/2025/03/shopnews_img_1_00009300.jpg
END:VEVENT
BEGIN:VEVENT
DTSTART;TZID=Asia/Tokyo:20250328T000000
DTEND;TZID=Asia/Tokyo:20250328T235959
DTSTAMP:20260421T084409
CREATED:20250328T002825Z
LAST-MODIFIED:20250328T002827Z
UID:21390-1743120000-1743206399@aomori-daibouken.com
SUMMARY:青森市古川 ドラッグミナミ 閉店
DESCRIPTION:仕事帰りに気づいた💦青森市ニコニコ通り、THREEの向かい、フクシスポーツ1階のドラッグミナミが閉店するそうで、あれこれセールしてました pic.twitter.com/o4WNYm0cHm — ｶｵﾘｺ (@k1004k_kaori) March 26\, 2025
URL:https://aomori-daibouken.com/event/21390
LOCATION:ドラッグミナミ\, 〒030-0862 青森県青森市古川１丁目１４−５ フクシスポーツビル 1F
CATEGORIES:3月青森イベント,青森市イベント 今日 明日 今週末 2025,青森市閉店
ATTACH;FMTTYPE=image/png:https://aomori-daibouken.com/wp-content/uploads/2025/03/X青森イベント情報のコピー-44.png
END:VEVENT
BEGIN:VEVENT
DTSTART;TZID=Asia/Tokyo:20250328T000000
DTEND;TZID=Asia/Tokyo:20250328T235959
DTSTAMP:20260421T084409
CREATED:20250327T223725Z
LAST-MODIFIED:20250328T025715Z
UID:21361-1743120000-1743206399@aomori-daibouken.com
SUMMARY:青森市ガーラタウン #C-pla mini カプセルトイ専門店 未来屋書店 青森西店 オープン
DESCRIPTION:
URL:https://aomori-daibouken.com/event/21361
LOCATION:ガーラタウン\, 〒038-0006 青森県青森市三好２丁目３−１９
CATEGORIES:3月青森イベント,青森市イベント 今日 明日 今週末 2025,青森市開店
ATTACH;FMTTYPE=image/png:https://aomori-daibouken.com/wp-content/uploads/2025/03/X青森イベント情報のコピー-46.png
END:VEVENT
BEGIN:VEVENT
DTSTART;TZID=Asia/Tokyo:20250327T100000
DTEND;TZID=Asia/Tokyo:20250327T100000
DTSTAMP:20260421T084409
CREATED:20250317T115859Z
LAST-MODIFIED:20250317T115925Z
UID:21070-1743069600-1743069600@aomori-daibouken.com
SUMMARY:八戸市 ほっかほっか亭 南類家店 プレオープン
DESCRIPTION:住所 \n\n\n\n青森県八戸市類家4-21-2 \n\n\n\n営業時間 \n\n\n\n09:00～21:30 \n\n\n\n※3/31からの営業時間です \n\n\n\n下記日程でオープン予定です \n\n\n\nプレオープン \n\n\n\nプレ期間　3/27 ～ 3/30 \n\n\n\n営業時間　10:00～14:00 \n\n\n\nプレオープンキャンペーン \n\n\n\n『のり弁当』をご注文で『のり唐弁当480円 390円』へグレードアップ！90円お得！ \n\n\n\nお支払方法 \n\n\n\n現金　PayPay　 \nhttps://www.hhtmj.com/city/?c_id=198
URL:https://aomori-daibouken.com/event/21070
LOCATION:ほっかほっか亭 南類家店\, 〒031-0001 青森県八戸市類家４丁目２１−２
CATEGORIES:3月青森イベント,八戸市イベント 今日 明日 今週末 2025,八戸市開店
ATTACH;FMTTYPE=image/png:https://aomori-daibouken.com/wp-content/uploads/2025/03/X青森イベント情報のコピー-31.png
END:VEVENT
BEGIN:VEVENT
DTSTART;TZID=Asia/Tokyo:20250327T090000
DTEND;TZID=Asia/Tokyo:20250327T090000
DTSTAMP:20260421T084409
CREATED:20250325T041601Z
LAST-MODIFIED:20250326T012001Z
UID:21303-1743066000-1743066000@aomori-daibouken.com
SUMMARY:青森市 ロピア お得イベント 保冷バッグロピア券付き販売
DESCRIPTION:この投稿をInstagramで見る            シーナシーナ青森(@ciina_ciina_aomori_official)がシェアした投稿
URL:https://aomori-daibouken.com/event/21303
LOCATION:CiiNA CiiNA (シーナシーナ) 青森\, 〒030-0843 青森県青森市浜田１丁目１４−１
CATEGORIES:3月青森イベント,青森市イベント 今日 明日 今週末 2025,青森市クーポン・お得情報,青森市ロピアチラシ
ATTACH;FMTTYPE=image/jpeg:https://aomori-daibouken.com/wp-content/uploads/2025/03/486047484_17878507005270804_6162725708925195713_n.jpg
END:VEVENT
BEGIN:VEVENT
DTSTART;TZID=Asia/Tokyo:20250325T000000
DTEND;TZID=Asia/Tokyo:20250331T235959
DTSTAMP:20260421T084409
CREATED:20250325T042025Z
LAST-MODIFIED:20250325T042026Z
UID:21307-1742860800-1743465599@aomori-daibouken.com
SUMMARY:弘前ロピアチラシ 青森 2025/3/25～3/31
DESCRIPTION:
URL:https://aomori-daibouken.com/event/21307
LOCATION:CiiNA CiiNA(シーナシーナ) 弘前\, 〒036-8002 青森県弘前市駅前３丁目2−１
CATEGORIES:弘前ロピアチラシ
ATTACH;FMTTYPE=image/jpeg:https://aomori-daibouken.com/wp-content/uploads/2025/03/image-4-18.jpg
END:VEVENT
BEGIN:VEVENT
DTSTART;TZID=Asia/Tokyo:20250325T000000
DTEND;TZID=Asia/Tokyo:20250331T235959
DTSTAMP:20260421T084409
CREATED:20250325T040852Z
LAST-MODIFIED:20250325T040853Z
UID:21295-1742860800-1743465599@aomori-daibouken.com
SUMMARY:青森市 ロピア チラシ 2025/3/25～3/31
DESCRIPTION:
URL:https://aomori-daibouken.com/event/21295
LOCATION:CiiNA CiiNA (シーナシーナ) 青森\, 〒030-0843 青森県青森市浜田１丁目１４−１
CATEGORIES:青森市ロピアチラシ
ATTACH;FMTTYPE=image/jpeg:https://aomori-daibouken.com/wp-content/uploads/2025/03/image-4-14.jpg
END:VEVENT
BEGIN:VEVENT
DTSTART;TZID=Asia/Tokyo:20250325T000000
DTEND;TZID=Asia/Tokyo:20250331T235959
DTSTAMP:20260421T084409
CREATED:20250325T040653Z
LAST-MODIFIED:20250325T040654Z
UID:21290-1742860800-1743465599@aomori-daibouken.com
SUMMARY:五所川原 ロピア チラシ 青森 2025/3/25～3/31
DESCRIPTION:
URL:https://aomori-daibouken.com/event/21290
LOCATION:ELM（エルム）\, 〒037-0004 青森県五所川原市唐笠柳藤巻５１７−１
CATEGORIES:五所川原ロピアチラシ
ATTACH;FMTTYPE=image/jpeg:https://aomori-daibouken.com/wp-content/uploads/2025/03/image-4-12.jpg
END:VEVENT
BEGIN:VEVENT
DTSTART;TZID=Asia/Tokyo:20250324T000000
DTEND;TZID=Asia/Tokyo:20250330T235959
DTSTAMP:20260421T084409
CREATED:20250319T231947Z
LAST-MODIFIED:20250319T231948Z
UID:21208-1742774400-1743379199@aomori-daibouken.com
SUMMARY:埼玉県さいたま市大宮駅 青森・函館産直市 物産展
DESCRIPTION:2025年3月24日(月)～30日(日)に大宮駅で「青森・函館産直市」を開催します！青森・北海道の特産品や旬の味覚、郷土雑貨が勢揃い。イベントや観光情報も充実し、道南及び北東北の魅力を満喫できます。ぜひ大宮駅で青森・函館の美味しさと魅力を体感してください！ \n\n\n\n【会場】JR大宮駅改札外　西口イベントスペース＆ステンドグラス前 \n\n\n\n【日時】3月24日(月)17:00頃～20:003月25日(火)～3月29日(土)10:00～20:003月30日(日)10:00～17:00 \n\n\n\n青森・函館の魅力が伝わる商品を販売します！ \n\n\n\n「青森・函館産直市」では青森、函館の魅力たっぷりの商品をたくさんご用意しています！ \n\n\n\n\n\n\n\n青森の名産品であるリンゴを使った絶品アップルパイ、函館の名産品であるイカを使用した塩辛などの特産品をはじめ、青函エリアのお土産品を多数お持ちいたします。 \n\n\n\n\n\n\n\n【主催】JR盛岡支社【運営】(株)JR東日本青森商業開発 \n\n\n\n【出店店舗一覧】ヤマモト食品：ねぶた漬柏崎青果：ニンニクなど熊谷食品：つけものなど赤羽屋磯辺商店：おつまみ、生鮮珍味工房なるみ：日用品松緑酒造：お酒おきな屋：お菓子など桃川酒造：お酒株式会社布目：いか塩辛、生鮮珍味など北海道観光物産興社：お菓子など \n\n\n\n津軽伝統野菜「大鰐温泉もやし」販売\n\n\n\n\n\n\n\n津軽地域の伝統野菜である「大鰐温泉もやし」を3月27日(木)に限定販売いたします。「大鰐温泉もやし」は青森県中南部大鰐町の特産品で、シャキシャキとした食感が特徴です。 \n\n\n\n独特なうまみを持つ「大鰐温泉もやし」をこの機会にぜひご賞味ください。東北新幹線を利用した列車輸送「はこビュン」でとれ立てを皆様にお届けします。 \n\n\n\n大鰐温泉もやしの詳細はこちらから \n\n\n\n青森県産　希少種りんご「美丘」の販売\n\n\n\n\n\n\n\n青森県内でのみ栽培されている、生産量の少ない希少種りんご「美丘」も3月27日(木)に限定販売いたします。「美丘」は貯蔵性が高く、ある程度貯蔵されてからの方が美味しくなるりんごです。旬は収穫を終えた1月から3月ごろまでとされています。 \n\n\n\n東北新幹線を利用した列車輸送「はこビュン」で旬のりんごをお届けします。 \n\n\n\n美丘の詳細はこちらから \n\n\n\n当日のできたてをお届け！「アップルパイ」\n\n\n\n\n\n\n\n2025年3月28日(金)のみの限定販売！今や世界に誇る、青森県産のリンゴを使用した美味しいアップルパイを持参いたします。東北新幹線を利用した列車輸送「はこビュン」で出来立てを皆様にお届けします。 \n\n\n\n「パティスリーヴェルヴェンヌ」津軽生まれのふじを使用した、窯出しアップルパイは芳醇なバターの香りとシャキッとしたリンゴの食感が口いっぱいに広がります。（数量限定） \n\n\n\n「BRICK A-FACTORY」弘前市の人気洋菓子店「ボンジュール」の監修するアップルパイは上に乗った大きなリンゴが特徴で、リンゴ本来の美味しさを生かしたアップルパイです。（数量限定） \n\n\n\nパティスリーヴェルヴェンヌのアップルパイの詳細はこちらから \n\n\n\n\n\n\n\n青函エリアの観光情報を発信\n\n\n\n\n\n\n\n青函エリアは魅力がいっぱいです。函館近海の新鮮な海産物や、雪深い津軽地域独特の光景、世界的にも貴重な縄文遺跡群など語り切れないほどです。ブースでは観光パンフレットの配布も行っております。魅力あふれる青函エリアにぜひお越しください！ \n\n\n\n\n\n\n\nさらに青森県弘前市の名物、弘前公園「桜」の枝の配布をいたします！津軽の長い冬の終わりを告げる、満開の桜の花が皆さまの心に春を運びます。なお、桜の枝配布は3月27日(木)、28日(金)の14時より限定100本のみの予定となります。 \n\n\n\n青森・函館に行くならeチケットで！\n\n\n\n北東北・北海道には新幹線で！新幹線など列車のきっぷも「えきねっと」から予約、購入するほうが便利でお得です！ \n\n\n\n「新幹線eチケットサービス」は、東北・北海道、上越、北陸、山形、秋田の各新幹線のきっぷを予約・購入できる他、交通系ICカードと紐付けして乗車することで、きっぷを受け取る手間なく、スムーズにご乗車いただる便利なチケットレスサービスです。「乗車券」と「特急券」がセットになっており、指定席が一律200円引きで利用できます。JR東日本のインターネット予約サイト「えきねっと」で購入することが可能です。 \n\n\n\nさらに「新幹線eチケット（トクだ値）」「特急トクだ値」などもっとおトクなきっぷもございますのでぜひご利用ください！※最新の内容はホームページにてご確認ください。 \n\n\n\n青森・函館の魅力を感じに、「産直市」へお越しください！\n\n\n\n\n\n\n\n青森・函館の美味しい食べ物や魅力を知ったら、行きたくなること間違いなし!!大宮駅での「青森・函館産直市」にぜひお越しください！皆さまのお越しをお待ちしております。 \n\n\n\n【日時】3月24日(月)17:00頃～20:003月25日(火)～3月29日 (土)10:00～20:003月30日(日)10:00～17:00【場所】JR大宮駅改札外　西口イベントスペース＆ステンドグラス前 \n\n\n\n※2025年3月6日時点の情報です。※掲載内容は予告なく中止・変更となる場合がございます。※イラスト・画像はすべてイメージです。 \nhttps://media.jreast.co.jp/articles/3066
URL:https://aomori-daibouken.com/event/21208
LOCATION:大宮駅\, 〒330-0853 埼玉県さいたま市大宮区錦町
CATEGORIES:青森 物産展 アンテナショップ フェア2025
ATTACH;FMTTYPE=image/jpeg:https://aomori-daibouken.com/wp-content/uploads/2025/03/retina_コメント_2025-03-18_183259.jpg
END:VEVENT
BEGIN:VEVENT
DTSTART;TZID=Asia/Tokyo:20250324T000000
DTEND;TZID=Asia/Tokyo:20250324T235959
DTSTAMP:20260421T084409
CREATED:20250306T071700Z
LAST-MODIFIED:20250315T034446Z
UID:20571-1742774400-1742860799@aomori-daibouken.com
SUMMARY:八戸市ラピア イタリアン・トマトカフェジュニア 閉店
DESCRIPTION:
URL:https://aomori-daibouken.com/event/20571
LOCATION:八戸ショッピングセンターラピア\, 〒031-0801 青森県八戸市江陽２丁目１４−１
CATEGORIES:3月青森イベント,八戸市イベント 今日 明日 今週末 2025,八戸市閉店
ATTACH;FMTTYPE=image/jpeg:https://aomori-daibouken.com/wp-content/uploads/2025/03/141e4c2b9165c2cbc15c640ae11785b8.jpg
END:VEVENT
BEGIN:VEVENT
DTSTART;TZID=Asia/Tokyo:20250323T110000
DTEND;TZID=Asia/Tokyo:20250323T150000
DTSTAMP:20260421T084409
CREATED:20250107T050510Z
LAST-MODIFIED:20250304T122220Z
UID:16550-1742727600-1742742000@aomori-daibouken.com
SUMMARY:道の駅ゆーさ浅虫 おさがり会 RUNRUN～みんなであそぼう～2025
DESCRIPTION:この投稿をInstagramで見る            RingRing(おさがり会)＠青森(@ringring201124)がシェアした投稿 \n\n\n\n\n道の駅ゆ～さ浅虫〒039-3501 青森県青森市浅虫蛍谷３４１−１９
URL:https://aomori-daibouken.com/event/16550
LOCATION:道の駅ゆ～さ浅虫\, 〒039-3501 青森県青森市浅虫蛍谷３４１−１９\, 青森市\, 青森県\, 039-3501
CATEGORIES:3月青森イベント,浅虫
ATTACH;FMTTYPE=image/jpeg:https://aomori-daibouken.com/wp-content/uploads/2025/01/472510729_1679824129248088_8067048218596626443_n.jpg
END:VEVENT
BEGIN:VEVENT
DTSTART;TZID=Asia/Tokyo:20250323T100000
DTEND;TZID=Asia/Tokyo:20250323T170000
DTSTAMP:20260421T084409
CREATED:20250319T080855Z
LAST-MODIFIED:20250319T123729Z
UID:21191-1742724000-1742749200@aomori-daibouken.com
SUMMARY:八戸市 第二回キッチンカーグルメフェス
DESCRIPTION:青森県八戸市のフラット八戸で「第二回キッチンカーグルメフェス」が開催されます。 \n\n\n\n今週末3月23日FLATHACHINOHEにて八戸DIMEホーム戦が開催されます🏀そして❗️同時開催‼️第二回八戸キッチンカーグルメフェス再来です‼️皆様、是非とも会場へお越し下さいませ☺️#八戸DIME #八戸ダイム #キッチンカーグルメフェス #フラット八戸 #flathachinohe pic.twitter.com/qwj409WLr8 — ゴーゴーカレー八戸パーク【青森県唯一】 (@gogohachinohe) March 18\, 2025
URL:https://aomori-daibouken.com/event/21191
LOCATION:FLAT HACHINOHE\, 〒039-1101 青森県八戸市尻内町三条目７−７
CATEGORIES:3月青森イベント,八戸市イベント 今日 明日 今週末 2025,八戸市キッチンカーイベント2025,青森県グルメイベント
ATTACH;FMTTYPE=image/jpeg:https://aomori-daibouken.com/wp-content/uploads/2025/03/GmTU5C5a4AAHVFe.jpg
END:VEVENT
BEGIN:VEVENT
DTSTART;TZID=Asia/Tokyo:20250323T100000
DTEND;TZID=Asia/Tokyo:20250323T170000
DTSTAMP:20260421T084409
CREATED:20250107T024217Z
LAST-MODIFIED:20250311T075927Z
UID:16532-1742724000-1742749200@aomori-daibouken.com
SUMMARY:八戸ラピア JOYFUL EVENT
DESCRIPTION:八戸ラピア にて「JOYFUL EVENT」 ハンドメイドイベントが開催されます。 \n\n\n\n        この投稿をInstagramで見る            みか🍀イベント開催する人(@joyful._.event)がシェアした投稿
URL:https://aomori-daibouken.com/event/16532
LOCATION:八戸ショッピングセンターラピア\, 〒031-0801 青森県八戸市江陽２丁目１４−１
CATEGORIES:3月青森イベント,八戸 ハンドメイドイベント2025 クラフト,八戸市イベント 今日 明日 今週末 2025
ATTACH;FMTTYPE=image/jpeg:https://aomori-daibouken.com/wp-content/uploads/2025/01/476255197_17945901833944869_1863544787123701996_n.jpg
END:VEVENT
BEGIN:VEVENT
DTSTART;TZID=Asia/Tokyo:20250323T100000
DTEND;TZID=Asia/Tokyo:20250323T160000
DTSTAMP:20260421T084409
CREATED:20250311T073031Z
LAST-MODIFIED:20250317T011038Z
UID:20834-1742724000-1742745600@aomori-daibouken.com
SUMMARY:つがる市イオンモール柏 FunFunマルシェ
DESCRIPTION:青森県つがる市イオンモール柏で「FunFunマルシェ」のクラフトハンドメイドイベントが開催されます。 \n\n\n\n\n\n\n\n\n\n\n\n\nFunFunマルシェ #4 \n\n\n\n前回大好評だったハンドメイドSHOPが36店舗も集まったイベントです。可愛い楽しいワークショップもあるよ♪ \n\n\n\n《SHOP LIST》・NATURE-FLOW・陽日和・SAcHi…..・ほわいと えれふぁんと・Ange・花音・fish.made3103・ふ～’sfam。・和 left handmade・ヘンテコ屋★かなぶー・M☆LCのんた・Hand-swenのKOMOさん。・mammy-mell・b-plus・Laugh Laugh crayon・from M・minomushi_handmade・Handmade_SHiiの・rope・ちょこるい・DREAMS・kaokichi0426・ハンドメイドsmile・fu_a nature・A.U.N・mugiko・lovekuma_emily・Filice・bloomy・とき笑商店・Carina・cue・＊munimuni＊・はにゃ☆はにゃ・HAPPY HAPPY DECO SWEETS・Jewel \n\n\n\n《ワークショップ》※金額は材料等で異なるため、各店舗にご確認ください。・ほわいとえれふぁんと・花音・ヘンテコ屋★かなぶー・Hand-swenのKOMOさん。・mammy-mell・Laugh LAugh crayon・Handmade_SHiiの・ちょこるい・fu_a nature・lovekuma_emily・とき笑商店・Carina・はにゃ☆はにゃ・HAPPY HAPPY DECO SWEETS \n\n\n\n〔Information〕@jewel_handmade_ \n\n\n\n日程2025/03/23 (日)時間10：00～16：00場所１F　マクドナルド隣特設会場\nhttps://tsugarukashiwa-aeonmall.com/news/event/2176
URL:https://aomori-daibouken.com/event/20834
LOCATION:イオンモールつがる柏\, 〒038-3107 青森県つがる市柏稲盛幾世４１
CATEGORIES:3月青森イベント,つがる市イベント,青森県クラフトイベント 2025 マルシェ
ATTACH;FMTTYPE=image/jpeg:https://aomori-daibouken.com/wp-content/uploads/2025/03/photo1.jpg
END:VEVENT
BEGIN:VEVENT
DTSTART;TZID=Asia/Tokyo:20250323T100000
DTEND;TZID=Asia/Tokyo:20250323T150000
DTSTAMP:20260421T084409
CREATED:20250318T010319Z
LAST-MODIFIED:20250318T010321Z
UID:21118-1742724000-1742742000@aomori-daibouken.com
SUMMARY:鶴田町 わんわんマルシェin TSURUTA LABO
DESCRIPTION:青森県北津軽郡鶴田町にて「わんわんマルシェin TSURUTA LABO」のイベントが開催されます。ワンちゃんに関連するクラフトだけでなく、愛犬と楽しめる食事スペース、ドッグランやキッチンカーもあります！ \n\n\n\nマナーシート着用必須で、参加費が必要です。詳細はインスタにてご確認お願い致します。 \n\n\n\n        この投稿をInstagramで見る            K.T🐾🐾House(@ozakimitsuyoshi)がシェアした投稿
URL:https://aomori-daibouken.com/event/21118
LOCATION:鶴田町地域活性化支援センター TSURUTA LABO(ツルタラボ)\, 〒038-3543 青森県北津軽郡鶴田町妙堂崎杉元７５
CATEGORIES:3月青森イベント,青森マルシェ2025,青森県クラフトイベント 2025 マルシェ
ATTACH;FMTTYPE=image/jpeg:https://aomori-daibouken.com/wp-content/uploads/2025/03/481938583_17964096419850869_3540605399631931780_n.jpg
END:VEVENT
BEGIN:VEVENT
DTSTART;TZID=Asia/Tokyo:20250323T100000
DTEND;TZID=Asia/Tokyo:20250323T150000
DTSTAMP:20260421T084409
CREATED:20250313T010200Z
LAST-MODIFIED:20250313T010202Z
UID:20915-1742724000-1742742000@aomori-daibouken.com
SUMMARY:つがる市 子ども食堂フェスティバル
DESCRIPTION:青森県つがる市生涯学習交流センターで「松の館 子ども食堂フェスティバル」のイベントが開催されます。ワークショップやキッチンカーなどの飲食もあります。 \n\n\n\n        この投稿をInstagramで見る            新ねぷた集団わらはんど/みんなhappyになれる祭り団体を創り上げる若者達(@neputa.warahando)がシェアした投稿
URL:https://aomori-daibouken.com/event/20915
LOCATION:つがる市 生涯学習交流センター 松の館\, 〒038-3138 青森県つがる市木造若緑５２
CATEGORIES:3月青森イベント,つがる市イベント,青森県キッチンカーイベント2025
ATTACH;FMTTYPE=image/jpeg:https://aomori-daibouken.com/wp-content/uploads/2025/03/483191240_18065869777902191_7157319534804596941_n.jpg
END:VEVENT
BEGIN:VEVENT
DTSTART;TZID=Asia/Tokyo:20250323T090000
DTEND;TZID=Asia/Tokyo:20250323T140000
DTSTAMP:20260421T084409
CREATED:20241202T061143Z
LAST-MODIFIED:20250312T001916Z
UID:13444-1742720400-1742738400@aomori-daibouken.com
SUMMARY:むつ市 むつ来さまい館 フリーマーケット
DESCRIPTION:青森県むつ市のむつ来さまい館にて、フリーマーケットイベントが月に一度開催されています。 \n\n\n\n\n\n\n\n\n毎月第四週日曜日に開催しています。◆会場／むつ来さまい館内※都合により、日程変更や中止となる場合がありますので当館までご確認下さい。◆時間／9：00~14：00 \n\n\n\n令和6年度フリーマーケット(冬季)実施要綱　◆出店料／１区画（2×2ｍ）￥1\,000※当日お支払いとなります。　　机、いすは無料で貸し出しいたします。（1区画につき机2台まで）　　販売台（ワゴン）は限定10台で、お申し込みの先着順となります。 \n\n\n\nむつおもちゃ病院定期開院こわれたおもちゃを診療してもらいませんか？受付時間／９：００～１１：００（むつ来さまい館内）おもちゃドクターがこわれたおもちゃを診療してくれます。診療は無料ですが、部品代がかかることがあります。また、即日修理がかなわない場合は入院となり、翌月の引き渡しとなります。（入院代１００円かかります）むつ市役所　出張ごみ相談ブース　　ごみの相談に関する相談をしてみませんか？受付時間／9:00～14:00むつ市役所　環境政策課のご協力により、フリーマーケット会場内にて「出張ごみ相談ブース」を開設しています。不要なものの処分方法にお困りの方、ぜひ相談にお越しください。親切に教えていただくことができますよ！※令和6年9月より、不要な衣類の回収は行いませんのでご注意　ください。\nhttp://kasamaikan.info/pg3635638.html
URL:https://aomori-daibouken.com/event/13444
LOCATION:むつ来さまい館\, 〒035-0034 青森県むつ市田名部町１０−１\, むつ市
CATEGORIES:むつ市イベント,青森お得情報,青森県フリーマーケット,青森長期開催イベント
ATTACH;FMTTYPE=image/jpeg:https://aomori-daibouken.com/wp-content/uploads/2024/12/img20241029152545679451-1.jpg
END:VEVENT
BEGIN:VEVENT
DTSTART;TZID=Asia/Tokyo:20250323T000000
DTEND;TZID=Asia/Tokyo:20250323T235959
DTSTAMP:20260421T084409
CREATED:20250319T233704Z
LAST-MODIFIED:20250319T233705Z
UID:21212-1742688000-1742774399@aomori-daibouken.com
SUMMARY:五所川原市エルム バンバンたちがやってくる！
DESCRIPTION:五所川原市エルム こどもイベント
URL:https://aomori-daibouken.com/event/21212
LOCATION:ELM（エルム）\, 〒037-0004 青森県五所川原市唐笠柳藤巻５１７−１
CATEGORIES:3月青森イベント,五所川原市イベント,青森県 イベント 子ども
ATTACH;FMTTYPE=image/jpeg:https://aomori-daibouken.com/wp-content/uploads/2025/03/master.jpg
END:VEVENT
BEGIN:VEVENT
DTSTART;TZID=Asia/Tokyo:20250323T000000
DTEND;TZID=Asia/Tokyo:20250323T235959
DTSTAMP:20260421T084409
CREATED:20250318T005041Z
LAST-MODIFIED:20250318T005042Z
UID:21113-1742688000-1742774399@aomori-daibouken.com
SUMMARY:弘前市ヒロロ スポーツ用品おさがり会＆スポーツレクリエーション体験祭り
DESCRIPTION:参加無料！《スポーツ用品おさがり会》開催します！！ \n\n\n\n日時：令和7年3月23日　10：00～15：00　※なくなり次第終了会場：ヒロロ3階 多世代交流室2 \n\n\n\n子どもたちがスポーツ活動をしてきて不要になったスポーツ用品やウエアなどを寄付してもらい、希望者に無料で配布します！「違うスポーツをやることになった」「成長してサイズアウトしてしまった」などで不要になったスポーツ用品が次世代の誰かの夢につながるリユースイベントです。スポーツを通じて地域のみなさんで支え合う社会をつくっていきましょう！ \n\n\n\n●事前回収日　・3/17（月）～ヒロロ3階弘前市民文化交流館窓口の向かいに回収BOXを設置します！　　※箱の大きさは80cm×80cm程度です。入りきらない大きさや量を持込み場合は事前にご連絡ください。　・3/22（土）　多世代交流室２ 13：00～19：00 \n\n\n\n【お持込みいただけるもの】未就学児～中学生までのスポーツ用品限定例）・学校の運動着（学校名を記載した紙をつけてください）　　・スポーツバッグ、スパイク、ボールなどの用具　　・スポーツウエア、スキーウエアや帽子など※折りたたみ不可で80cmを超えるもの（スキー板等）や、手荷物以上の　量をお持ちいただく場合は搬入方法が異なります。　必ず事前にご連絡ください。 \n\n\n\n【お持込みいただけないもの】・しみ、汚れ、ほつれ、破れ、毛玉が広範囲にわたるもの・サイズが不明のもの・破損、部品が不足しているもの・大人用のもの \n\n\n\nーーーーーーーーーーーーーーーーーーーーーーーーーーーーーーーーーーーーーーーー〈お願いとご連絡〉・クリーニング、洗濯済のものに限ります。・あらかじめサイズごとに仕分けをした状態でお持ちいただきますよう、ご協力ください。・袋ごと、箱ごと受取ります。不要な紙袋や箱に入れてお持ちください。・上下セットの者はピンなどでつないでください。・転売目的の参加は固くお断りします。　転売目的と見受けられる場合はお声がけすることがございます。・破損や汚れの状態によっては受け取りをお断りする場合がございます。 \n\n\n\n主催：弘前市民文化交流館　指定管理者協力：みらいねっと弘前 \n\n\n\n★同時開催《新生活スポーツトライ》もぜひご参加ください♪ \nhttps://www.hirorosquare.jp/event_detail.html?eid=50398&ym=202503
URL:https://aomori-daibouken.com/event/21113
LOCATION:ヒロロ(HIRORO)\, 〒036-8003 青森県弘前市駅前町９−２０
CATEGORIES:3月青森イベント,弘前市イベント 今日 明日 土手町 2025,弘前市クーポン,青森県 イベント 子ども
ATTACH;FMTTYPE=image/jpeg:https://aomori-daibouken.com/wp-content/uploads/2025/03/スクリーンショット-2025-03-18-094902.jpg
END:VEVENT
BEGIN:VEVENT
DTSTART;TZID=Asia/Tokyo:20250322T110000
DTEND;TZID=Asia/Tokyo:20250322T170000
DTSTAMP:20260421T084409
CREATED:20250321T223912Z
LAST-MODIFIED:20250321T223913Z
UID:21235-1742641200-1742662800@aomori-daibouken.com
SUMMARY:東京都中央区日本橋 SAKURA FES NIHONBASHI 2025 × 東北絆まつり
DESCRIPTION:ついに明日開催！⁰SAKURA FES NIHONBASHI 2025 × 東北絆まつり東北を代表する6つの祭りが日本橋に集結勇壮華麗な祭りの演舞やPRのほか、青森市・秋田市・盛岡市・山形市・仙台市・福島市の観光PRブースも出展します✨日時：3月22日(土)11:00～17:00⁰場所：仲通り(コレド室町1とコレド室町2の間) pic.twitter.com/CtVxxmEVT6 — 【公式】東北絆まつり (@tohoku_kizuna) March 21\, 2025
URL:https://aomori-daibouken.com/event/21235
LOCATION:日本橋\, 日本橋
ATTACH;FMTTYPE=image/jpeg:https://aomori-daibouken.com/wp-content/uploads/2025/03/GmiX4hLaEAQYPfL.jpg
END:VEVENT
BEGIN:VEVENT
DTSTART;TZID=Asia/Tokyo:20250322T100000
DTEND;TZID=Asia/Tokyo:20250322T140000
DTSTAMP:20260421T084409
CREATED:20250311T074651Z
LAST-MODIFIED:20250311T074652Z
UID:20845-1742637600-1742652000@aomori-daibouken.com
SUMMARY:藤崎町 RUNRUN～みんなであそぼう～
DESCRIPTION:青森県の藤崎町で「RUNRUN～みんなであそぼう～」の子供イベントが開催されます。 \n\n\n\n        この投稿をInstagramで見る            藤崎町地域おこし協力隊　工藤光(ひかる)(@fujisaki_hikaru910_kosodate)がシェアした投稿
URL:https://aomori-daibouken.com/event/20845
LOCATION:常盤生涯学習文化会館\, 〒038-1214 青森県南津軽郡藤崎町常盤三西田３５−１
CATEGORIES:3月青森イベント,藤崎町イベント今日2025,青森県 イベント 子ども
ATTACH;FMTTYPE=image/jpeg:https://aomori-daibouken.com/wp-content/uploads/2025/03/479489441_17885788572199012_4193682298898899854_n.jpg
END:VEVENT
BEGIN:VEVENT
DTSTART;TZID=Asia/Tokyo:20250322T000000
DTEND;TZID=Asia/Tokyo:20250323T235959
DTSTAMP:20260421T084409
CREATED:20250318T085802Z
LAST-MODIFIED:20250318T085807Z
UID:21178-1742601600-1742774399@aomori-daibouken.com
SUMMARY:弘前市 土手町まつり
DESCRIPTION:https://applewave.co.jp/\n\n\n\n\n\n弘前市 土手町まつり観覧者募集締め切りaomori-daibouken.com
URL:https://aomori-daibouken.com/event/21178
LOCATION:土手町コミュニティパーク コミュニケーションプラザ\, 〒036-8182 青森県弘前市土手町３１
CATEGORIES:3月青森イベント,弘前市イベント 今日 明日 土手町 2025
ATTACH;FMTTYPE=image/jpeg:https://aomori-daibouken.com/wp-content/uploads/2025/03/event-202503221038.jpg
END:VEVENT
BEGIN:VEVENT
DTSTART;TZID=Asia/Tokyo:20250322T000000
DTEND;TZID=Asia/Tokyo:20250323T235959
DTSTAMP:20260421T084409
CREATED:20250311T070730Z
LAST-MODIFIED:20250316T003225Z
UID:20830-1742601600-1742774399@aomori-daibouken.com
SUMMARY:八戸市八食センター くりやランド大感謝祭
DESCRIPTION:青森県八戸市八食センターで「くりやランド大感謝祭」が開催されます。工作ワークショップ・サイエンスショー・キャラクターショーなどの子供が遊べるイベントがあります。 \n\n\n\n\n\n\n\n\n \nhttps://www.849net.com/event/2025/03/post-146.html
URL:https://aomori-daibouken.com/event/20830
LOCATION:八食センター\, 〒039-1161 青森県八戸市河原木神才２２−２
CATEGORIES:3月青森イベント,八食センターイベント,青森県 イベント 子ども
ATTACH;FMTTYPE=image/jpeg:https://aomori-daibouken.com/wp-content/uploads/2025/03/4d7f61759ec0e92027662d0548292b9a7e987a6d.jpg
END:VEVENT
BEGIN:VEVENT
DTSTART;TZID=Asia/Tokyo:20250321T000000
DTEND;TZID=Asia/Tokyo:20250322T235959
DTSTAMP:20260421T084409
CREATED:20250318T030941Z
LAST-MODIFIED:20250318T030942Z
UID:21143-1742515200-1742687999@aomori-daibouken.com
SUMMARY:大阪府大阪市 青森・岩手えぇもんショップ 六ヶ所村特産品販売会 物産展
DESCRIPTION:
URL:https://aomori-daibouken.com/event/21143
LOCATION:青森 岩手 えぇもんショップ\, 〒530-0003 大阪府大阪市北区堂島１丁目２−6号 地下街
CATEGORIES:青森 物産展 アンテナショップ フェア2025
ATTACH;FMTTYPE=image/jpeg:https://aomori-daibouken.com/wp-content/uploads/2025/03/image-4-9.jpg
END:VEVENT
BEGIN:VEVENT
DTSTART;TZID=Asia/Tokyo:20250320T110000
DTEND;TZID=Asia/Tokyo:20250320T180000
DTSTAMP:20260421T084409
CREATED:20250311T225121Z
LAST-MODIFIED:20250311T225134Z
UID:20886-1742468400-1742493600@aomori-daibouken.com
SUMMARY:平内町 ストウ酒商 屋台de昼呑み
DESCRIPTION:青森県東津軽郡平内町 ストウ酒商で「屋台de昼呑み」のキッチンカーグルメイベントが開催されます。 \n\n\n\n        この投稿をInstagramで見る            トモダチ　キッチンカー(@tianzhongtomodachi)がシェアした投稿
URL:https://aomori-daibouken.com/event/20886
LOCATION:（有）ストウ酒商 リカーバザール柳屋小湊支店\, 〒039-3321 青森県東津軽郡平内町小湊新道４６−１５７
CATEGORIES:3月青森イベント,平内町イベント,青森県キッチンカーイベント2025,青森県グルメイベント
ATTACH;FMTTYPE=image/jpeg:https://aomori-daibouken.com/wp-content/uploads/2025/03/483966826_18061396795969512_7266967176260523009_n.jpg
END:VEVENT
BEGIN:VEVENT
DTSTART;TZID=Asia/Tokyo:20250320T110000
DTEND;TZID=Asia/Tokyo:20250320T160000
DTSTAMP:20260421T084409
CREATED:20250315T024031Z
LAST-MODIFIED:20250315T024032Z
UID:20986-1742468400-1742486400@aomori-daibouken.com
SUMMARY:青森市 cureフリーマーケット
DESCRIPTION:この投稿をInstagramで見る            open space cure（クーレ）(@cure_openspace)がシェアした投稿
URL:https://aomori-daibouken.com/event/20986
LOCATION:オープンスペースクーレ\, 〒030-0842 青森県青森市浦町奥野６０４−１
CATEGORIES:青森市イベント 今日 明日 今週末 2025,青森市フリーマーケット
ATTACH;FMTTYPE=image/jpeg:https://aomori-daibouken.com/wp-content/uploads/2025/03/484243103_18034173428627598_1344152493058358464_n.jpg
END:VEVENT
BEGIN:VEVENT
DTSTART;TZID=Asia/Tokyo:20250320T110000
DTEND;TZID=Asia/Tokyo:20250320T110000
DTSTAMP:20260421T084409
CREATED:20250307T070552Z
LAST-MODIFIED:20250307T071050Z
UID:20647-1742468400-1742468400@aomori-daibouken.com
SUMMARY:八戸市 PANICE-ぱないす ジェラートとパンの店 オープン
DESCRIPTION:この投稿をInstagramで見る            PANICE.hachinohe(@panice.hachinohe)がシェアした投稿
URL:https://aomori-daibouken.com/event/20647
LOCATION:Aileron West Village (エルロン ウェスト ビレッジ)\, 〒039-1101 青森県八戸市尻内町内矢沢１２
CATEGORIES:3月青森イベント,八戸市イベント 今日 明日 今週末 2025,八戸市開店
ATTACH;FMTTYPE=image/jpeg:https://aomori-daibouken.com/wp-content/uploads/2025/03/スクリーンショット-2025-03-07-160413.jpg
END:VEVENT
BEGIN:VEVENT
DTSTART;TZID=Asia/Tokyo:20250320T090000
DTEND;TZID=Asia/Tokyo:20250320T120000
DTSTAMP:20260421T084409
CREATED:20250311T062520Z
LAST-MODIFIED:20250311T062521Z
UID:20813-1742461200-1742472000@aomori-daibouken.com
SUMMARY:青森県龍飛 たっぴ鮮魚市2025
DESCRIPTION:青森県龍飛にて「たっぴ鮮魚市2025」のグルメイベントが開催されます。 \n\n\n\n\n\n\n\n\n毎年ご好評いただいている「たっぴ鮮魚市」を、今年も開催します！！（随時更新） \n\n\n\n外ヶ浜町ならではの食・旬の味覚を味わい尽くそう\n\n\n\n「日本有数の冬景色」と「地元グルメ」で皆さんをお待ちしております。 \n\n\n\n開催日時・会場\n\n\n\n【開催日時】2025年3月20日（祝・木）午前9時00分から正午まで \n\n\n\n【会場】龍飛漁港および龍飛地区会館（会場図(75KB)） \n\n\n\n【住所】青森県東津軽郡外ヶ浜町字三厩龍浜 \n\n\n\nたっぴ鮮魚市【龍飛漁港会場】\n\n\n\n活魚・鮮魚販売　※なくなり次第終了\n\n\n\n「アンコウ」「ヤリイカ」「ミズダコ」など地元で獲れた新鮮な鮮魚を販売します。 \n\n\n\n※時化の場合、内容の変更または販売中止となる場合がございます。 \n\n\n\n\n\n\n\n陸奥湾産「ベビーホタテ唐揚げ串」振る舞い【先着200本】\n\n\n\n【ホタテを食べて応援しよう！】 \n\n\n\n陸奥湾で養殖された柔らかく甘みのあるベビーホタテをぜひご賞味ください。 \n\n\n\n\n\n\n\n青森名物「棒パン」【さくら商店】\n\n\n\n\n\n\n\nお子様は無料！（中学生以下） \n\n\n\n大人の方は200円 \n\n\n\n※お汁粉の振る舞いもやります！ \n\n\n\nたっぴdeめじゃーフェア【龍飛地区会館会場】\n\n\n\n地場産品の売り出し【共催：龍飛ブランド振興会】\n\n\n\n他では入手困難な龍飛岬マツカワ加工品などを大売出し！ \n\n\n\n龍飛岬マツカワの「じゃっぱ汁（あら汁）」を無料で大盤振る舞い！ \n\n\n\n\n\n\n\n【出店予定】※2月20日現在 \n\n\n\n●カンパーニュ（米粉シフォンケーキなど） \n\n\n\n●はただ酒店（厳選された青森の地酒など） \n\n\n\n●野口珈琲店（自家焙煎コーヒーなど） \n\n\n\n●（株）LaLaKi（龍飛岬マツカワ加工品など） \n\n\n\n●お好み鯛（鯛の魚粉とホタテ入り）（道の駅たいらだて） \n\n\n\n【体験コーナー】 \n\n\n\n●コーンホール（アメリカ生まれのパーティーゲーム） \n\n\n\n※会場は龍飛漁港になります。 \nhttps://www.town.sotogahama.lg.jp/oshirase/news/tappisenngyo2025.html
URL:https://aomori-daibouken.com/event/20813
LOCATION:龍飛漁港\, 青森県東津軽郡外ヶ浜町字三厩龍浜
CATEGORIES:3月青森イベント,青森県グルメイベント
ATTACH;FMTTYPE=image/jpeg:https://aomori-daibouken.com/wp-content/uploads/2025/03/image-24.jpg
END:VEVENT
END:VCALENDAR