BEGIN:VCALENDAR
VERSION:2.0
PRODID:-//青森大冒険-イベントカレンダー情報とブログ- - ECPv6.15.20//NONSGML v1.0//EN
CALSCALE:GREGORIAN
METHOD:PUBLISH
X-WR-CALNAME:青森大冒険-イベントカレンダー情報とブログ-
X-ORIGINAL-URL:https://aomori-daibouken.com
X-WR-CALDESC:青森大冒険-イベントカレンダー情報とブログ- のイベント
REFRESH-INTERVAL;VALUE=DURATION:PT1H
X-Robots-Tag:noindex
X-PUBLISHED-TTL:PT1H
BEGIN:VTIMEZONE
TZID:Asia/Tokyo
BEGIN:STANDARD
TZOFFSETFROM:+0900
TZOFFSETTO:+0900
TZNAME:JST
DTSTART:20240101T000000
END:STANDARD
END:VTIMEZONE
BEGIN:VEVENT
DTSTART;TZID=Asia/Tokyo:20250406T100000
DTEND;TZID=Asia/Tokyo:20250406T160000
DTSTAMP:20260420T234050
CREATED:20250404T090000Z
LAST-MODIFIED:20250404T090000Z
UID:21580-1743933600-1743955200@aomori-daibouken.com
SUMMARY:黒石市松の湯交流館「さわやかマルシェwithダンボール工作展」
DESCRIPTION:青森県黒石市松の湯交流館で「さわやかマルシェwithダンボール工作展」のハンドメイド雑貨やワークショップ、パンや焼菓子などが出店するイベントが開催されます。 \n\n\n\n        この投稿をInstagramで見る            さわやかマルシェwithダンボール工作展@青森県弘前市(@sawayaka_danboru)がシェアした投稿
URL:https://aomori-daibouken.com/event/21580
LOCATION:松の湯交流館\, 〒036-0377 青森県黒石市中町３３
CATEGORIES:★青森県メインイベント,青森マルシェ2025,青森県クラフトイベント 2025 マルシェ,黒石市イベント
ATTACH;FMTTYPE=image/jpeg:https://aomori-daibouken.com/wp-content/uploads/2025/04/483820233_4009401345941637_891163604222866189_n.jpg
END:VEVENT
BEGIN:VEVENT
DTSTART;TZID=Asia/Tokyo:20250406T100000
DTEND;TZID=Asia/Tokyo:20250406T160000
DTSTAMP:20260420T234050
CREATED:20250404T090000Z
LAST-MODIFIED:20250404T090000Z
UID:21584-1743933600-1743955200@aomori-daibouken.com
SUMMARY:青森市浪岡AIサイン「春だよ！全員集合」
DESCRIPTION:青森市浪岡AIサインで「春だよ！全員集合」のワークショップやキッチンカーなどのイベントが開催されます。 \n\n\n\n        この投稿をInstagramで見る            Coffeeいまい(@coffee.imai)がシェアした投稿
URL:https://aomori-daibouken.com/event/21584
LOCATION:㈱エーアイサイン\, 〒038-1331 青森県青森市浪岡大字女鹿沢西花岡８２−１
CATEGORIES:★青森県メインイベント,浪岡イベント,青森市キッチンカーイベント2025,青森市クラフトイベント2025 ハンドメイド
ATTACH;FMTTYPE=image/jpeg:https://aomori-daibouken.com/wp-content/uploads/2025/04/スクリーンショット-2025-04-04-132010.jpg
END:VEVENT
BEGIN:VEVENT
DTSTART;TZID=Asia/Tokyo:20250406T093000
DTEND;TZID=Asia/Tokyo:20250406T163000
DTSTAMP:20260420T234050
CREATED:20250404T090000Z
LAST-MODIFIED:20250404T090000Z
UID:21576-1743931800-1743957000@aomori-daibouken.com
SUMMARY:三沢市トヨタツインプラザ三沢 春のわくわくワークショップ
DESCRIPTION:青森県三沢市トヨタツインプラザ三沢「春のわくわくワークショップ」は伝統的な手芸から最新のハンドメイド技法まで、様々なワークショップが楽しめるイベントです。キッチンカーの出店もあります。 \n\n\n\n        この投稿をInstagramで見る            雪うさぎ(しろたえ・多肉植物寄せ植え販売)(@yukiusagi.shirotae)がシェアした投稿
URL:https://aomori-daibouken.com/event/21576
LOCATION:トヨタツインプラザ三沢（青森トヨタ・ネッツトヨタ青森）\, 〒033-0035 青森県三沢市松原町２丁目３１−２５７０
CATEGORIES:★青森県メインイベント,三沢市キッチンカーイベント2025,青森県クラフトイベント 2025 マルシェ
ATTACH;FMTTYPE=image/jpeg:https://aomori-daibouken.com/wp-content/uploads/2025/04/485865253_18006640940737526_1855075166411142389_n.jpg
END:VEVENT
BEGIN:VEVENT
DTSTART;TZID=Asia/Tokyo:20250406T093000
DTEND;TZID=Asia/Tokyo:20250406T160000
DTSTAMP:20260420T234050
CREATED:20250404T090000Z
LAST-MODIFIED:20250404T090000Z
UID:21619-1743931800-1743955200@aomori-daibouken.com
SUMMARY:八戸市八食センター スマイルシアター
DESCRIPTION:この投稿をInstagramで見る            なきむしスマイル@おいらせ町(@nakimushisumairu)がシェアした投稿
URL:https://aomori-daibouken.com/event/21619
LOCATION:八食センター\, 〒039-1161 青森県八戸市河原木神才２２−２
CATEGORIES:4月青森イベント,★青森県メインイベント,八戸市イベント 今日 明日 今週末 2025,青森県 イベント 子ども
ATTACH;FMTTYPE=image/jpeg:https://aomori-daibouken.com/wp-content/uploads/2025/04/485881155_1687609681866982_1735580550586232576_n.jpg
END:VEVENT
BEGIN:VEVENT
DTSTART;TZID=Asia/Tokyo:20250406T083000
DTEND;TZID=Asia/Tokyo:20250406T113000
DTSTAMP:20260420T234050
CREATED:20250314T090000Z
LAST-MODIFIED:20250404T045312Z
UID:20354-1743928200-1743939000@aomori-daibouken.com
SUMMARY:八戸市ラピア フリーマーケット みちのくリサイクル
DESCRIPTION:青森県八戸市ラピアでみちのくリサイクルのフリーマーケットイベントが開催されます。  \n\n\n\n\n★フリーマーケットスケジュール★ \n\n\n\n今年度のフリマシーズンがスタートしますよ♪♪ \n\n\n\n4/6（日）8時半～11時半モーニングフリーマーケットinラピア参加料：車出店 2000円 手持ち出店 1500円 \n\n\n\n4/27（日）9時～12時フリーマーケットinイオンスタイル八戸城下参加料：手持ち出店 1800円 \n\n\n\n4/29（火・祝）10時～14時八戸公園春まつりフリーマーケット①参加料：手持ち出店 2000円 \n\n\n\n5/4（日・祝）10時～14時八戸公園春まつりフリーマーケット②参加料：手持ち出店 2000円 \n\n\n\nご参加お待ちしております(º∀º)∫ \n\n\n\n※ お住いが50km以上離れている方は遠距離割引500円が適用されます。(当日住所の分かるものをご提示下さい)※ 高校生の方は学割500円割引が適用されます。※当日参加は、別途500円頂きます。満席の場合は参加出来ないので予約をオススメします。 \n\n\n\nお問合せ、参加予約はこちら↓↓↓まで。連絡先：090-3529-6915 \nhttps://jmty.jp/aomori/eve-free/article-1gcqmu?uiaid=want_eve\n\n\n\n        この投稿をInstagramで見る            ディーシーポプュラー（さきちゃん）(@d.c_popular)がシェアした投稿
URL:https://aomori-daibouken.com/event/20354
LOCATION:八戸ショッピングセンターラピア\, 〒031-0801 青森県八戸市江陽２丁目１４−１
CATEGORIES:4月青森イベント,八戸市イベント 今日 明日 今週末 2025,八戸市フリーマーケット2025
ATTACH;FMTTYPE=image/jpeg:https://aomori-daibouken.com/wp-content/uploads/2025/03/487511212_17940873086982587_6206218706530661782_n.jpg
END:VEVENT
BEGIN:VEVENT
DTSTART;TZID=Asia/Tokyo:20250405T110000
DTEND;TZID=Asia/Tokyo:20250405T150000
DTSTAMP:20260420T234050
CREATED:20250404T090000Z
LAST-MODIFIED:20250404T090000Z
UID:21572-1743850800-1743865200@aomori-daibouken.com
SUMMARY:東北町小川原湖交流センター わくわくキッズDays
DESCRIPTION:宝湖館が遊び場に変身！！！一日限りのわくわくキッズDay、親子で楽しむイベントが盛りだくさんの一日、ぜひお越しください✨予約が必要なコンテンツもありますので、ご注意ください。日付：4月5日㈯　11：00～場所：小川原湖交流センター宝湖館（道の駅となり） pic.twitter.com/LnzydtMzAj — 道の駅おがわら湖　湖遊館 (@michi_Ogawarako) March 21\, 2025
URL:https://aomori-daibouken.com/event/21572
LOCATION:小川原湖交流センター「宝湖館」\, 〒039-2401 青森県上北郡東北町上野南谷地１３１
CATEGORIES:★青森県メインイベント
ATTACH;FMTTYPE=image/jpeg:https://aomori-daibouken.com/wp-content/uploads/2025/04/GmcxgOHbcAAo4_s.jpg
END:VEVENT
BEGIN:VEVENT
DTSTART;TZID=Asia/Tokyo:20250405T070000
DTEND;TZID=Asia/Tokyo:20251220T090000
DTSTAMP:20260420T234050
CREATED:20250415T034402Z
LAST-MODIFIED:20250507T053819Z
UID:21935-1743836400-1766221200@aomori-daibouken.com
SUMMARY:青森市中央卸売市場 水産の朝市2025
DESCRIPTION:2025年（令和7年）の水産の朝市！はパワーアップ！ \n\n\n\n今までの第三土曜日に加え、第一土曜日（商品販売のみ）も開催します。 \n\n\n\n普段は一般販売を行っていない鮮魚・冷凍加工品・塩干品をお買い物することができます。 \n\n\n\n多くの皆さんのご来場を心よりお待ちしています。開催日 \n\n\n\n2025年4月5日（土曜日） 、4月19日（土曜日） 、5月3日（土曜日） 、5月17日（土曜日） 、6月7日（土曜日） 、6月21日（土曜日） 、7月5日（土曜日） 、7月19日（土曜日） 、9月6日（土曜日） 、10月4日（土曜日） 、11月1日（土曜日） 、12月6日（土曜日） 、12月20日（土曜日） \n\n\n\n○商品の販売のみ・4月5日、5月3日、6月7日、7月5日、9月6日、10月4日、11月1日、12月6日※振る舞いの実施はありませんので、ご注意ください。○商品の販売、振る舞いの実施・4月19日、5月17日、6月21日、7月19日、12月20日開催時間 \n\n\n\n午前7時 から 午前9時 まで \n\n\n\n※中央卸売市場には「水産の朝市！」開催日も、買出人（小売店や飲食店のかた）が仕入れに来ています。一般のかたの7時以前の買い物は、ご遠慮いただくようお願いします。開催場所 \n\n\n\n青森市中央卸売市場 \n\n\n\n \nhttps://www.city.aomori.aomori.jp/sangyo_koyou/oroshiurishijou/1004341/1004342.html
URL:https://aomori-daibouken.com/event/21935
LOCATION:青森市中央卸売市場\, 〒030-0137 青森県青森市卸町１−１
CATEGORIES:2025青森ゴールデンウィークイベント GW,青森市イベント 今日 明日 今週末 2025,青森市クーポン・お得情報,青森県グルメイベント,青森長期開催イベント
ATTACH;FMTTYPE=image/jpeg:https://aomori-daibouken.com/wp-content/uploads/2025/04/b584b0eb6e8219bf206190c2a9486738-1.jpg
END:VEVENT
BEGIN:VEVENT
DTSTART;TZID=Asia/Tokyo:20250405T000000
DTEND;TZID=Asia/Tokyo:20251231T235959
DTSTAMP:20260420T234050
CREATED:20250416T061323Z
LAST-MODIFIED:20250416T061324Z
UID:21989-1743811200-1767225599@aomori-daibouken.com
SUMMARY:青森市アスパム 津軽三味線音色頒布会（観覧無料）土日祝日開催
DESCRIPTION:令和7年4月5日より、土曜日・日曜日・祝日に開① 11：30～ ②13：30～ ③）14：30～　（各回15分程度）場所1階フォレステージ出演青森大学津軽三味線部「あおしゃみ」、弘前大学津軽三味線サークル、JAI5（ジャイゴ）※青森県内大学生による津軽三味線ユニット \n\n\n\n※諸事情により、演奏日・会場・時間の変更や、休止となる場合がございます。ご了承ください。 \nhttps://www.aomori-kanko.or.jp/aspam/event/063.html
URL:https://aomori-daibouken.com/event/21989
LOCATION:青森県観光物産館アスパム\, 安方1－1－40\, 青森市\, 青森県\, 日本
CATEGORIES:2025青森ゴールデンウィークイベント GW,青森市,青森市ゴールデンウィークイベント2025,青森長期開催イベント
ATTACH;FMTTYPE=image/jpeg:https://aomori-daibouken.com/wp-content/uploads/2025/04/1.jpg
END:VEVENT
BEGIN:VEVENT
DTSTART;TZID=Asia/Tokyo:20250405T000000
DTEND;TZID=Asia/Tokyo:20250406T235959
DTSTAMP:20260420T234050
CREATED:20250404T090000Z
LAST-MODIFIED:20250404T090000Z
UID:20872-1743811200-1743983999@aomori-daibouken.com
SUMMARY:十和田市 道の駅とわだ とわだクラフトFESTA
DESCRIPTION:青森県十和田市の道の駅とわだで「とわだクラフトFESTA」で78店舗のクラフトハンドメイド・キッチンカーなどのグルメイベントが開催されます。 \n\n\n\n        この投稿をInstagramで見る            とわだクラフトFESTA since2023(@to.wa.da)がシェアした投稿
URL:https://aomori-daibouken.com/event/20872
LOCATION:道の駅とわだ\, 〒034-0051 青森県十和田市伝法平窪３７−２
CATEGORIES:4月青森イベント,十和田市イベント,十和田市キッチンカーイベント2025,青森県クラフトイベント 2025 マルシェ,青森県道の駅イベント
ATTACH;FMTTYPE=image/jpeg:https://aomori-daibouken.com/wp-content/uploads/2025/03/483785551_17994456110782034_816440000013439229_n.jpg
END:VEVENT
BEGIN:VEVENT
DTSTART;TZID=Asia/Tokyo:20250405T000000
DTEND;TZID=Asia/Tokyo:20250406T235959
DTSTAMP:20260420T234050
CREATED:20250404T090000Z
LAST-MODIFIED:20250404T090000Z
UID:21628-1743811200-1743983999@aomori-daibouken.com
SUMMARY:八戸市TwiNplaza八戸店 SPRING FESTIVAL
DESCRIPTION:この投稿をInstagramで見る            ツインプラザ八戸店(公式)(@twinplazahachinohe)がシェアした投稿
URL:https://aomori-daibouken.com/event/21628
LOCATION:トヨタツインプラザ八戸（青森トヨタ・ネッツトヨタ青森）\, 〒039-1101 青森県八戸市尻内町島田８−４
CATEGORIES:4月青森イベント,5月青森イベント,★青森県メインイベント,八戸 ハンドメイドイベント2025 クラフト,八戸市イベント 今日 明日 今週末 2025,八戸市キッチンカーイベント2025
ATTACH;FMTTYPE=image/jpeg:https://aomori-daibouken.com/wp-content/uploads/2025/04/486153614_17927825865022762_2316771889288506752_n.jpg
END:VEVENT
BEGIN:VEVENT
DTSTART;TZID=Asia/Tokyo:20250405T000000
DTEND;TZID=Asia/Tokyo:20250406T235959
DTSTAMP:20260420T234050
CREATED:20241216T045629Z
LAST-MODIFIED:20250325T121114Z
UID:14212-1743811200-1743983999@aomori-daibouken.com
SUMMARY:八戸市 キッチンカーかしわ屋「CAFE 柏家」オープンイベント グルメハンドメイド
DESCRIPTION:この投稿をInstagramで見る            CAFE 柏家 -KASHIWAYA-(@cafe.kashiwaya)がシェアした投稿 \n\n\n\n\nキッチンカーも継続して販売します。 \n\n\n \nかしわ屋\n\n		\n		\n			\n				\n			\n			\n				\n			\n		\n\nかしわ屋は、青森県産のりんごを使った「からあげ」を中心に、ヤンニョムチキンやフライドポテト、揚げジャガ。チョコバナナ、りんご飴などのスイーツまで販売するキッチンカーです。 \n時期によってはシャインマスカット飴の販売もあり、スイーツ系は冷蔵庫から取り出して販売するので冷えた状態で食べられさっぱりしますよ。\n  \n「冷めても美味しい」のキャッチコピーが目に止まる、りんごを使った鶏の唐揚げは1つが大きいので食べごたえがありました。 \n\n\n青森のキッチンカー「かしわ屋」まるで屋台のようなメニューがたくさん！どのメニューにしようかと誰でも悩むであろうキッチンカー「かしわ屋」。パックからはみ出たから揚げに二度見！気になったので買って食べてみました。「かしわ屋」とはかしわ屋（＠kashiwa_ya）は青森県内...aomori-daibouken.com2025.02.07\n\n \n\n\n\n\nハンドメイド委託販売併設するようです。DREAMS @handmade_dreams.7
URL:https://aomori-daibouken.com/event/14212
LOCATION:CAFE 柏家 -KASHIWAYA-\, 青森県八戸市河原木簀子渡２−７
CATEGORIES:4月青森イベント,八戸 ハンドメイドイベント2025 クラフト,八戸市イベント 今日 明日 今週末 2025,八戸市開店,青森県グルメイベント
ATTACH;FMTTYPE=image/jpeg:https://aomori-daibouken.com/wp-content/uploads/2024/12/485827471_17864230281358413_6094845047914864109_n.jpg
END:VEVENT
BEGIN:VEVENT
DTSTART;TZID=Asia/Tokyo:20250404T000000
DTEND;TZID=Asia/Tokyo:20250406T235959
DTSTAMP:20260420T234050
CREATED:20250403T110000Z
LAST-MODIFIED:20250403T110000Z
UID:21568-1743724800-1743983999@aomori-daibouken.com
SUMMARY:弘前市ツインプラザ弘前 MARCA MARCHE
DESCRIPTION:弘前市ツインプラザ弘前で「MARCA MARCHE」のイベントが開催されます。クラフトやキッチンカーなどの出店があります。 \n\n\n\n        この投稿をInstagramで見る            ツインプラザ弘前（公式）(@twin_plazahirosaki)がシェアした投稿
URL:https://aomori-daibouken.com/event/21568
LOCATION:トヨタツインプラザ弘前（青森トヨタ・ネッツトヨタ青森）\, 〒036-8052 青森県弘前市堅田２丁目2−１
CATEGORIES:★青森県メインイベント,弘前市イベント 今日 明日 土手町 2025,弘前市キッチンカーイベント2025,青森県クラフトイベント 2025 マルシェ
ATTACH;FMTTYPE=image/jpeg:https://aomori-daibouken.com/wp-content/uploads/2025/04/488035312_17876682690294271_6512546811254701595_n.jpg
END:VEVENT
BEGIN:VEVENT
DTSTART;TZID=Asia/Tokyo:20250403T000000
DTEND;TZID=Asia/Tokyo:20250403T235959
DTSTAMP:20260420T234050
CREATED:20250428T091328Z
LAST-MODIFIED:20250428T091329Z
UID:22416-1743638400-1743724799@aomori-daibouken.com
SUMMARY:青森市新町パサージュ広場「夢ちゃんラーメン」オープン
DESCRIPTION:この投稿をInstagramで見る            夢ちゃんラーメン　#ちゃん系　#ラーメン　#青森市(@yumechanramen_aomori)がシェアした投稿
URL:https://aomori-daibouken.com/event/22416
LOCATION:パサージュ広場\, 〒030-0801 青森県青森市新町１丁目８−５
CATEGORIES:青森市イベント 今日 明日 今週末 2025,青森市ラーメン開店,青森市開店
END:VEVENT
BEGIN:VEVENT
DTSTART;TZID=Asia/Tokyo:20250403T000000
DTEND;TZID=Asia/Tokyo:20250403T235959
DTSTAMP:20260420T234050
CREATED:20250403T045113Z
LAST-MODIFIED:20250428T030343Z
UID:21611-1743638400-1743724799@aomori-daibouken.com
SUMMARY:むつ市海老川町 ファミリーマートさとう 閉店
DESCRIPTION:むつ市海老川町のローカルスーパー「ファミリーマートさとう」が閉店しました。大間店は去年の2月に閉店していました。 \n\n\n\n\n\n【速報】「ファミリーマートさとう（むつ市）」が“突然”事業停止…自己破産申請へ　負債総額は8億8千万円か（2025年4月3日掲載）｜青森放送NEWS NNN日本テレビのニュースサイト「日テレNEWS NNN」は政治、経済、国際、社会、スポーツ、カルチャー・エンタメ・芸能、ライフなど、ニュース速報のほか天気、地震、津波、台風など防災・気象情報を配信していま...news.ntv.co.jp
URL:https://aomori-daibouken.com/event/21611
LOCATION:ファミリーマートさとう\, ファミリーマートさとう
CATEGORIES:むつ市閉店,青森県閉店
ATTACH;FMTTYPE=image/png:https://aomori-daibouken.com/wp-content/uploads/2025/04/アイキャッチ-2025-04-03T135031.843.png
END:VEVENT
BEGIN:VEVENT
DTSTART;TZID=Asia/Tokyo:20250403T000000
DTEND;TZID=Asia/Tokyo:20250403T235959
DTSTAMP:20260420T234050
CREATED:20250328T002057Z
LAST-MODIFIED:20250403T050928Z
UID:21384-1743638400-1743724799@aomori-daibouken.com
SUMMARY:八戸市湊町 階上蕎麦 創作そばバルぱいせん 4/3オープン
DESCRIPTION:創作そばバルぱいせん \n\n\n\n4月3日オープン予定！階上早生蕎麦を使った創作料理を陸奥湊の周辺でやります！ランチは蕎麦屋ディナーは早生蕎麦粉を使った創作料理、洋食などをやります。ノンアルドリンクやお酒の種類も豊富蕎麦と丼の弁当や蕎麦だけ、丼ものだけなどの依頼なども承ります！(前日の14時頃までにご予約お願い致します) \nhttps://www.instagram.com/paisen8.1.9/
URL:https://aomori-daibouken.com/event/21384
LOCATION:階上蕎麦 創作そばバルぱいせん\, 〒031-0812 青森県八戸市湊町柳町５２
CATEGORIES:八戸市イベント 今日 明日 今週末 2025,八戸市開店
ATTACH;FMTTYPE=image/png:https://aomori-daibouken.com/wp-content/uploads/2025/03/X青森イベント情報のコピー-43.png
END:VEVENT
BEGIN:VEVENT
DTSTART;TZID=Asia/Tokyo:20250402T090000
DTEND;TZID=Asia/Tokyo:20250403T090000
DTSTAMP:20260420T234050
CREATED:20250402T003209Z
LAST-MODIFIED:20250402T003510Z
UID:21554-1743584400-1743670800@aomori-daibouken.com
SUMMARY:八甲田十和田ゴールドライン通行止め
DESCRIPTION:八甲田十和田ゴールドラインが降雪及び路面凍結のため通行止めとなっているようです。 \n\n\n\n\n\nきのう開通のゴールドラインが通行止め（2025年4月2日掲載）｜青森放送NEWS NNN日本テレビのニュースサイト「日テレNEWS NNN」は政治、経済、国際、社会、スポーツ、カルチャー・エンタメ・芸能、ライフなど、ニュース速報のほか天気、地震、津波、台風など防災・気象情報を配信していま...news.ntv.co.jp
URL:https://aomori-daibouken.com/event/21554
LOCATION:八甲田十和田ゴールドライン\, 八甲田十和田ゴールドライン
CATEGORIES:★青森県メインイベント
END:VEVENT
BEGIN:VEVENT
DTSTART;TZID=Asia/Tokyo:20250401T000000
DTEND;TZID=Asia/Tokyo:20250430T235959
DTSTAMP:20260420T234050
CREATED:20250331T221622Z
LAST-MODIFIED:20250331T221641Z
UID:21501-1743465600-1746057599@aomori-daibouken.com
SUMMARY:青森 業務スーパー25周年ニコニコ感謝セール チラシ
DESCRIPTION:https://www.gyomusuper.jp/sale/
URL:https://aomori-daibouken.com/event/21501
LOCATION:業務スーパー\, 業務スーパー
CATEGORIES:八戸市クーポン,弘前市クーポン,青森お得情報,青森市クーポン・お得情報
ATTACH;FMTTYPE=image/jpeg:https://aomori-daibouken.com/wp-content/uploads/2025/04/sale_kantolocal_hokkaido_01_2504.jpg
END:VEVENT
BEGIN:VEVENT
DTSTART;TZID=Asia/Tokyo:20250401T000000
DTEND;TZID=Asia/Tokyo:20250410T235959
DTSTAMP:20260420T234050
CREATED:20250203T011538Z
LAST-MODIFIED:20250409T233107Z
UID:18481-1743465600-1744329599@aomori-daibouken.com
SUMMARY:弘前市シーナシーナ弘前 銀座惣菜店 弘前店 4月初旬オープン予定
DESCRIPTION:青森県弘前市シーナシーナ弘前 銀座惣菜店 弘前店 4月初旬開店予定 \n\n\n\n「銀座惣菜店」は、株式会社KSフロンティアが運営する炭火焼き鳥、鶏惣菜、お弁当の専門店です。全ての商品は手作りで、焼き鳥は炭火焼で串の刺し方にもこだわり、秘伝の手作りタレを使用しています。 \n\n\n\n店舗はショッピングセンターやスーパーを中心に出店しており、茨城・千葉・埼玉・東京を中心に全国で60店舗以上を展開しています \n\n\n\n\n仕事内容＼2025年4月初旬 オープニング予定✨／ \n\n\n\n調理・キッチン業務を担当してもらいます！・食材の串刺し・串を焼く・炭の火起こし準備などをお任せ。 \n\n\n\n-職場について-社員とアルバイトの連携◎わからないことや困りごとがすぐに相談できる環境です！同じくアルバイトの先輩も多くいるので、初バイトの人も安心して働けます。 \n\n\n\n-【株式会社サイプレス】について-「築地食堂源ちゃん」「ABURI百貫」「伊吹や製麵」「銀座惣菜店」などの飲食店を全国に約120店舗展開中の会社です！ \nhttps://townwork.net/viewjob/jobid_c11fdfbe0687efd1/
URL:https://aomori-daibouken.com/event/18481
LOCATION:CiiNA CiiNA(シーナシーナ) 弘前\, 〒036-8002 青森県弘前市駅前３丁目2−１
CATEGORIES:弘前市イベント 今日 明日 土手町 2025,弘前市開店
END:VEVENT
BEGIN:VEVENT
DTSTART;TZID=Asia/Tokyo:20250401T000000
DTEND;TZID=Asia/Tokyo:20250407T235959
DTSTAMP:20260420T234050
CREATED:20250331T231621Z
LAST-MODIFIED:20250331T231622Z
UID:21525-1743465600-1744070399@aomori-daibouken.com
SUMMARY:五所川原 ロピア チラシ 青森 2025/4/1～4/7
DESCRIPTION:
URL:https://aomori-daibouken.com/event/21525
LOCATION:ELM（エルム）\, 〒037-0004 青森県五所川原市唐笠柳藤巻５１７−１
CATEGORIES:五所川原ロピアチラシ
ATTACH;FMTTYPE=image/jpeg:https://aomori-daibouken.com/wp-content/uploads/2025/04/image-5.jpg
END:VEVENT
BEGIN:VEVENT
DTSTART;TZID=Asia/Tokyo:20250401T000000
DTEND;TZID=Asia/Tokyo:20250407T235959
DTSTAMP:20260420T234050
CREATED:20250331T231420Z
LAST-MODIFIED:20250331T231422Z
UID:21520-1743465600-1744070399@aomori-daibouken.com
SUMMARY:青森市 ロピア チラシ 2025/4/1～4/7
DESCRIPTION:
URL:https://aomori-daibouken.com/event/21520
LOCATION:CiiNA CiiNA (シーナシーナ) 青森\, 〒030-0843 青森県青森市浜田１丁目１４−１
CATEGORIES:青森市ロピアチラシ
ATTACH;FMTTYPE=image/jpeg:https://aomori-daibouken.com/wp-content/uploads/2025/04/image-3.jpg
END:VEVENT
BEGIN:VEVENT
DTSTART;TZID=Asia/Tokyo:20250401T000000
DTEND;TZID=Asia/Tokyo:20250407T235959
DTSTAMP:20260420T234050
CREATED:20250331T230726Z
LAST-MODIFIED:20250331T231701Z
UID:21515-1743465600-1744070399@aomori-daibouken.com
SUMMARY:弘前 ロピア チラシ 青森 2025/4/1～4/7
DESCRIPTION:
URL:https://aomori-daibouken.com/event/21515
LOCATION:CiiNA CiiNA(シーナシーナ) 弘前\, 〒036-8002 青森県弘前市駅前３丁目2−１
CATEGORIES:弘前ロピアチラシ
ATTACH;FMTTYPE=image/jpeg:https://aomori-daibouken.com/wp-content/uploads/2025/04/image-1.jpg
END:VEVENT
BEGIN:VEVENT
DTSTART;TZID=Asia/Tokyo:20250401T000000
DTEND;TZID=Asia/Tokyo:20250407T235959
DTSTAMP:20260420T234050
CREATED:20250318T080816Z
LAST-MODIFIED:20250331T030123Z
UID:21170-1743465600-1744070399@aomori-daibouken.com
SUMMARY:青森市さくら野百貨店 青森本店「みちのく物産展」
DESCRIPTION:青森市さくら野百貨店 青森本店で「みちのく物産展」のグルメイベントが開催されます。 \n\n\n\n\n \n\n\n\n\n\n\n\n \n\n\n\n\n\n\n\n \nhttps://sakurano-dept.jp/aomori/
URL:https://aomori-daibouken.com/event/21170
LOCATION:さくら野百貨店 青森本店\, 〒030-8574 青森県青森市新町１丁目１３−２
CATEGORIES:4月青森イベント,★青森県メインイベント,青森市イベント 今日 明日 今週末 2025,青森県グルメイベント
ATTACH;FMTTYPE=image/jpeg:https://aomori-daibouken.com/wp-content/uploads/2025/03/image-4-10.jpg
END:VEVENT
BEGIN:VEVENT
DTSTART;TZID=Asia/Tokyo:20250401T000000
DTEND;TZID=Asia/Tokyo:20250402T235959
DTSTAMP:20260420T234050
CREATED:20250317T113617Z
LAST-MODIFIED:20250402T005607Z
UID:21055-1743465600-1743638399@aomori-daibouken.com
SUMMARY:八戸市 カレーハウスCoCo壱番屋八戸類家店 オープンキャンペーン
DESCRIPTION:⠀⠀/／📢新店OPEN情報（青森県）🎊⠀⠀\＼本日4月1日（火）に #八戸類家店 がOPEN❗️OPENを記念して、店内飲食またはテイクアウトをご利用でカレーをご注文のお客さまにココイチオリジナルスプーン🥄をプレゼント🎁プレゼント期間は1日（火）・2日（水）の2日間👏… pic.twitter.com/snJXuhfN0S — カレーハウスCoCo壱番屋公式（ココイチ） (@curryichibanya) April 1\, 2025 \n\n\n\n\n \n\n\n\n住所青森県八戸市類家五丁目30番11号(  Googleマップ )営業時間11:00〜22:00（ラストオーダー）悪天候、店舗の事情によりやむなく営業時間終了前に閉店する場合もございます。電話番号0178-38-5095FAX番号–座席数36駐車場18\n\n\n\n \nhttps://tenpo.ichibanya.co.jp/map/3232/
URL:https://aomori-daibouken.com/event/21055
LOCATION:カレーハウス CoCo壱番屋 八戸類家店\, 〒031-0001 青森県八戸市類家５丁目３０−１１
CATEGORIES:4月青森イベント,八戸市イベント 今日 明日 今週末 2025,八戸市クーポン,八戸市開店
ATTACH;FMTTYPE=image/jpeg:https://aomori-daibouken.com/wp-content/uploads/2025/03/Gna-8kCaMAA2EJ3.jpg
END:VEVENT
BEGIN:VEVENT
DTSTART;TZID=Asia/Tokyo:20250401T000000
DTEND;TZID=Asia/Tokyo:20250401T235959
DTSTAMP:20260420T234050
CREATED:20250331T110100Z
LAST-MODIFIED:20250401T090914Z
UID:21408-1743465600-1743551999@aomori-daibouken.com
SUMMARY:八甲田十和田ゴールドライン開通 雪の回廊
DESCRIPTION:【2025年】八甲田の雪の回廊はいつもと違う！いつまで雪の壁道路は見れる？ついにやってきた！八甲田「雪の回廊」の季節。案内人2024年～2025年にかけて、青森市の冬はものすごい豪雪に見舞われました。雪かきしてもすぐ積もる...を繰り返し、やっと終わった冬。八甲田は例年より...aomori-daibouken.com2025.12.10
URL:https://aomori-daibouken.com/event/21408
LOCATION:八甲田十和田ゴールドライン\, 八甲田十和田ゴールドライン
CATEGORIES:4月青森イベント
ATTACH;FMTTYPE=image/jpeg:https://aomori-daibouken.com/wp-content/uploads/2025/03/アイキャッチ-2025-04-01T180806.678.jpg
END:VEVENT
BEGIN:VEVENT
DTSTART;TZID=Asia/Tokyo:20250401T000000
DTEND;TZID=Asia/Tokyo:20250401T235959
DTSTAMP:20260420T234050
CREATED:20250331T110000Z
LAST-MODIFIED:20250424T232050Z
UID:16445-1743465600-1743551999@aomori-daibouken.com
SUMMARY:八戸市 こどもの国遊園地 4月1日オープン
DESCRIPTION:八戸公園(こどもの国・八戸植物公園)のイベント情報|八戸市八戸公園公式Facebookは下記URLよりお進み下さい。www.city.hachinohe.aomori.jp
URL:https://aomori-daibouken.com/event/16445
LOCATION:八戸公園こどもの国\, 〒031-0012 青森県八戸市十日市天摩３３−２
CATEGORIES:4月青森イベント,八戸市イベント 今日 明日 今週末 2025
ATTACH;FMTTYPE=image/jpeg:https://aomori-daibouken.com/wp-content/uploads/2025/03/2024h-parkopn.jpg
END:VEVENT
BEGIN:VEVENT
DTSTART;TZID=Asia/Tokyo:20250401T000000
DTEND;TZID=Asia/Tokyo:20250401T235959
DTSTAMP:20260420T234050
CREATED:20250331T110000Z
LAST-MODIFIED:20250424T232141Z
UID:19779-1743465600-1743551999@aomori-daibouken.com
SUMMARY:浅虫水族館・三沢航空科学館・三内丸山遺跡・白神山地ビジターセンター 高校生以下無料
DESCRIPTION:青森県の子育て支援の一環で4/1から青森市浅虫水族館・三沢航空科学館と三内丸山遺跡、白神山地ビジターセンターが高校生以下無料となります。
URL:https://aomori-daibouken.com/event/19779
LOCATION:青森県営浅虫水族館\, 〒039-3501 青森県青森市浅虫馬場山１−２５
CATEGORIES:4月青森イベント,青森市イベント 今日 明日 今週末 2025,青森市イベント子供
ATTACH;FMTTYPE=image/jpeg:https://aomori-daibouken.com/wp-content/uploads/2025/02/X青森イベント情報のコピーのコピー.jpg
END:VEVENT
BEGIN:VEVENT
DTSTART;TZID=Asia/Tokyo:20250401T000000
DTEND;TZID=Asia/Tokyo:20250401T235959
DTSTAMP:20260420T234050
CREATED:20250331T050725Z
LAST-MODIFIED:20250331T050727Z
UID:21488-1743465600-1743551999@aomori-daibouken.com
SUMMARY:道の駅なみおかアップルヒル「漁師の店」オープン
DESCRIPTION:
URL:https://aomori-daibouken.com/event/21488
LOCATION:道の駅 なみおか アップルヒル\, 〒038-1331 青森県青森市浪岡大字女鹿沢野尻２−３
CATEGORIES:浪岡イベント,青森市開店,青森県道の駅イベント
ATTACH;FMTTYPE=image/jpeg:https://aomori-daibouken.com/wp-content/uploads/2025/03/487409189_1140438931213417_943091807914392873_n.jpg
END:VEVENT
BEGIN:VEVENT
DTSTART;TZID=Asia/Tokyo:20250401T000000
DTEND;TZID=Asia/Tokyo:20250401T235959
DTSTAMP:20260420T234050
CREATED:20250328T001442Z
LAST-MODIFIED:20250331T011219Z
UID:21378-1743465600-1743551999@aomori-daibouken.com
SUMMARY:八戸市 肴・めし・酒 炭薫(すみか) オープン
DESCRIPTION:【開店情報】青森県八戸市の 「肴・めし・酒　炭薫(すみか)」さんが 4/1オープンしました！今回は   青森県八戸市一番町1丁目2-24 に 「肴・めし・酒　炭薫(すみか)」さんが 2025.4.1オープンしたので ご紹介したいと思います。www.8megblog.com
URL:https://aomori-daibouken.com/event/21378
LOCATION:肴・めし・酒　炭薫(すみか)\, 青森県八戸市一番町1丁目2-24
ATTACH;FMTTYPE=image/png:https://aomori-daibouken.com/wp-content/uploads/2025/03/X青森イベント情報のコピー-42.png
END:VEVENT
BEGIN:VEVENT
DTSTART;TZID=Asia/Tokyo:20250401T000000
DTEND;TZID=Asia/Tokyo:20250401T235959
DTSTAMP:20260420T234050
CREATED:20250328T001021Z
LAST-MODIFIED:20250331T011120Z
UID:21372-1743465600-1743551999@aomori-daibouken.com
SUMMARY:八戸市 しゃぶしゃぶ‼︎ ぐらむ IZAKAYAR オープン
DESCRIPTION:この投稿をInstagramで見る            しゃぶしゃぶ!! ぐらむ(@glam_izakayar_)がシェアした投稿
URL:https://aomori-daibouken.com/event/21372
LOCATION:しゃぶしゃぶ‼︎ ぐらむ IZAKAYAR\, 八戸市長横町8-2ジャスマック八戸館1F
CATEGORIES:八戸市イベント 今日 明日 今週末 2025,八戸市開店
ATTACH;FMTTYPE=image/jpeg:https://aomori-daibouken.com/wp-content/uploads/2025/03/482147144_17843687025430316_7456976372851503812_n.jpg
END:VEVENT
BEGIN:VEVENT
DTSTART;TZID=Asia/Tokyo:20250401T000000
DTEND;TZID=Asia/Tokyo:20250401T235959
DTSTAMP:20260420T234050
CREATED:20250325T125500Z
LAST-MODIFIED:20250331T011055Z
UID:21328-1743465600-1743551999@aomori-daibouken.com
SUMMARY:五所川原市 ごはんやダイニングルーム絆 オープン
DESCRIPTION:五所川原市元そあん食堂跡地にできるカレー屋の店名がごはんやダイニングルーム絆と本日判明しました‼️4月1日にオープンします‼️営業時間が11時〜20時までのようです#五所川原市 https://t.co/iSMEc73EIi pic.twitter.com/1cd0Y2bK14 — イブさん (@0NA1w8hZYWY8Fh8) March 25\, 2025
URL:https://aomori-daibouken.com/event/21328
LOCATION:ごはんやダイニングルーム絆\, 〒037-0033 青森県五所川原市鎌谷町１６２
CATEGORIES:五所川原市イベント,五所川原開店
ATTACH;FMTTYPE=image/png:https://aomori-daibouken.com/wp-content/uploads/2025/03/X青森イベント情報のコピー-38.png
END:VEVENT
END:VCALENDAR