BEGIN:VCALENDAR
VERSION:2.0
PRODID:-//青森大冒険-イベントカレンダー情報とブログ- - ECPv6.15.20//NONSGML v1.0//EN
CALSCALE:GREGORIAN
METHOD:PUBLISH
X-WR-CALNAME:青森大冒険-イベントカレンダー情報とブログ-
X-ORIGINAL-URL:https://aomori-daibouken.com
X-WR-CALDESC:青森大冒険-イベントカレンダー情報とブログ- のイベント
REFRESH-INTERVAL;VALUE=DURATION:PT1H
X-Robots-Tag:noindex
X-PUBLISHED-TTL:PT1H
BEGIN:VTIMEZONE
TZID:Asia/Tokyo
BEGIN:STANDARD
TZOFFSETFROM:+0900
TZOFFSETTO:+0900
TZNAME:JST
DTSTART:20240101T000000
END:STANDARD
END:VTIMEZONE
BEGIN:VEVENT
DTSTART;TZID=Asia/Tokyo:20250426T000000
DTEND;TZID=Asia/Tokyo:20250506T235959
DTSTAMP:20260420T061512
CREATED:20250417T002612Z
LAST-MODIFIED:20250425T005555Z
UID:22052-1745625600-1746575999@aomori-daibouken.com
SUMMARY:八戸市八食センター「八食春まつり2025」
DESCRIPTION:GWは八食へGO！春を満喫できる市場でお祭り気分♪楽しいイベントも盛りだくさん‼ \n\n\n\n☆八食春まつり期間中、縁日でおなじみの遊戯に挑戦してお買物券をゲットしよう！【期間】4/26（土）・4/27（日）・4/29（火･祝）5/3（土･祝）～5/6（火･振）　　　　※4/28（月）・4/30（水）・5/1（木）・5/2（金）は除く【時間】10：00～17：00　※最終日は16：00まで【場所】市場棟1階　催事ホール \n\n\n\n【遊び方】※お一人様1回限り　①受付で参加料（500円）を払いスタンプカードを受け取る。　②縁日の遊戯3種類にチャレンジ！　③結果に応じてスタンプを押印し、スタンプの数によってガラポン抽選の回数が決定。（1回～3回）　④当たりが出たらお買物券2\,000円分進呈！　はずれてもお買物券500円分進呈！【遊戯内容】　・スーパーボールすくい　・輪投げ　・射的◎また、春祭り会場はGW期間中、春祭り休憩所に大変身！　八食センター館内でお買い上げいただいた商品をお花見気分でお召し上がりいただけます！　※休憩スペースは平日も開放致します。 \n\n\n\n☆特殊車両展示＆体験会　日替わりで様々な特殊車両が八食に集結！【期間】4/26（土）・4/27（日）・4/29（火･祝）5/3（土･祝）・5/6（火･振）【場所】厨スタジアム前バス専用駐車場・4/26（土）救急車・消防車 10：00～12：00・4/27（日）パトカー・鑑識体験 10：00～12：00・4/29（火･祝）1/2トラック(パジェロ) 10：00～12：00・5/3 （土･祝）ホイールローダー 9：00～18：00・5/6 （火･祝）なんぶちぇりバス 10：00～14：00 \n\n\n\n協力：八戸消防署 尻内分遣所・八戸警察署・自衛隊 青森地方協力本部 八戸地域事務所・　　　有限会社サカシタ・南部バス \n\n\n\n\n\n\n\n\n\n\n\n☆八食センター×なきむしスマイル『GWスペシャルステージ ～Golden Smile Beat～』　青森県内で活動するアーティスト、団体による多彩なステージパフォーマンス！　屋外ウッドデッキでは「青空マーケット ～Golden Smile Market」も同時開催！　※「青空マーケット」は天候により中止となる場合がございます。【期間】5/4（日）・5/5（月･祝）【時間】10：00～16：00【場所】スペシャルステージ/ 厨スタジアム1階　くりや広場　　　　 青空マーケット / 厨スタジアム1階　屋外ウッドデッキ \n\n\n\n★★出演者情報★★◇5/4（日）•Foot Step / ジャズ、HIPHOPダンス•ギュゼルオリエンタルダンス / ベリーダンス•ウルトラキッズチアーズ / キッズチアダンス•Navillera / K-POPダンス・Jazz Funkダンス•FK［フミくん］ / Vocal&ダンス•sunday dance club / rhythmダンス•ハラウ ナ マモ オ トゥリパ 日本校八戸 / ポリネシアンダンス•S＆C / K-POPダンス•MOB / HIPHOP・K-POPダンス \n\n\n\n◇5/5（月･祝）•ザ・火～取るズ☆ / バンド演奏•ストロベリームーン / アイドル•西あき彦 / 演歌•FUMIYA / Vocal&ダンス•竹内晃 / 弾き語り•DANCE☆Revolution / HIPHOPダンス•Dandelion / HIPHOPダンス•Tiep♡Tiep / Bellydance&fusion \n\n\n\n\n\n\n\nステージ、青空マーケット詳細はこちら2025GWステージ.pdf2025GW青空マーケット.pdf \n\n\n\n☆大切な人似顔絵展　市内幼稚園、保育園の園児たちが、大切な人を描いた絵を展示しております！【期間】4/18（金）～5/6（火･振）【時間】9：00～18：00　※最終日は15：30まで【場所】厨スタジアム2階　くりやホール \n\n\n\n八食GWイベントの詳細はこちら2025八食GW.pdf \nhttps://www.849net.com/event/2025/04/2025.html
URL:https://aomori-daibouken.com/event/22052
LOCATION:八食センター\, 〒039-1161 青森県八戸市河原木神才２２−２
CATEGORIES:2025青森ゴールデンウィークイベント GW,2025青森春祭り・青森県桜まつりイベント,4月青森イベント,5月青森イベント
ATTACH;FMTTYPE=image/jpeg:https://aomori-daibouken.com/wp-content/uploads/2025/04/230a124b3d712d622a3977dec71e6de85b64003f.jpg
END:VEVENT
BEGIN:VEVENT
DTSTART;TZID=Asia/Tokyo:20250426T000000
DTEND;TZID=Asia/Tokyo:20250506T235959
DTSTAMP:20260420T061512
CREATED:20250417T001917Z
LAST-MODIFIED:20250425T005507Z
UID:19255-1745625600-1746575999@aomori-daibouken.com
SUMMARY:五所川原市 津軽金山焼 春の陶器祭り
DESCRIPTION:この投稿をInstagramで見る            津軽金山焼(@kanayamayaki)がシェアした投稿
URL:https://aomori-daibouken.com/event/19255
LOCATION:津軽金山焼\, 〒037-0011 青森県五所川原市金山千代鶴５−７９
CATEGORIES:2025青森ゴールデンウィークイベント GW,2025青森春祭り・青森県桜まつりイベント,4月青森イベント,5月青森イベント,五所川原市イベント,青森県 イベント 子ども
ATTACH;FMTTYPE=image/jpeg:https://aomori-daibouken.com/wp-content/uploads/2025/04/487951927_18456836779075491_147429098400349348_n.jpg
END:VEVENT
BEGIN:VEVENT
DTSTART;TZID=Asia/Tokyo:20250426T000000
DTEND;TZID=Asia/Tokyo:20250506T235959
DTSTAMP:20260420T061512
CREATED:20250410T010503Z
LAST-MODIFIED:20250418T064556Z
UID:21776-1745625600-1746575999@aomori-daibouken.com
SUMMARY:青森市 アスパム春まつり2025 アオモリキッチンカーフェスティバル＆春マルシェ＆アスパムシーフェス
DESCRIPTION:ゴールデンウイークに青森市で「アスパム春まつり2025」のイベントが開催されます。キッチンカーなどのグルメの他、クラフトハンドメイド・ワークショップ・スイーツが集まります。 \n\n\n\nアスパム春まつりの情報でました🌸うちは5月5日のみの参加になります💦ご都合つく方はぜひ遊びにお越しくださいませ😊✨️お会い出来るのを楽しみにしております🙌 pic.twitter.com/7C4ZVWLYlp — ふわふわの │ fuwafuwano (@fuwafuwano2) April 9\, 2025
URL:https://aomori-daibouken.com/event/21776
LOCATION:青森県観光物産館アスパム\, 安方1－1－40\, 青森市\, 青森県\, 日本
CATEGORIES:2025青森ゴールデンウィークイベント GW,2025青森春祭り・青森県桜まつりイベント,4月青森イベント,5月青森イベント,★青森県メインイベント,アスパムイベント 今日 青森市 2025 新町,アスパムキッチンカーイベント2025,青森市キッチンカーイベント2025,青森県グルメイベント
ATTACH;FMTTYPE=image/jpeg:https://aomori-daibouken.com/wp-content/uploads/2025/04/GoFZF18b0AAnDK3.jpg
END:VEVENT
BEGIN:VEVENT
DTSTART;TZID=Asia/Tokyo:20250426T000000
DTEND;TZID=Asia/Tokyo:20250505T235959
DTSTAMP:20260420T061512
CREATED:20250416T074122Z
LAST-MODIFIED:20250416T074247Z
UID:22012-1745625600-1746489599@aomori-daibouken.com
SUMMARY:青森市さくら野百貨店青森本店「日本全国うまいもの市」
DESCRIPTION:https://sakurano-dept.sakura.ne.jp/aomori/news_detail.html?post=4341
URL:https://aomori-daibouken.com/event/22012
LOCATION:さくら野百貨店 青森本店\, 〒030-8574 青森県青森市新町１丁目１３−２
CATEGORIES:2025青森ゴールデンウィークイベント GW,4月青森イベント,5月青森イベント,★青森県メインイベント,青森市イベント 今日 明日 今週末 2025,青森市ゴールデンウィークイベント2025,青森県グルメイベント
ATTACH;FMTTYPE=image/jpeg:https://aomori-daibouken.com/wp-content/uploads/2025/04/スクリーンショット-2025-04-16-163100-1.jpg
END:VEVENT
BEGIN:VEVENT
DTSTART;TZID=Asia/Tokyo:20250426T000000
DTEND;TZID=Asia/Tokyo:20250429T235959
DTSTAMP:20260420T061512
CREATED:20250417T003502Z
LAST-MODIFIED:20250425T005831Z
UID:22060-1745625600-1745971199@aomori-daibouken.com
SUMMARY:青森市サンロード青森「ジャンボダンボール迷路」
DESCRIPTION:https://www.sunroad.or.jp/cardboard-maze2025/
URL:https://aomori-daibouken.com/event/22060
LOCATION:サンロード青森\, 〒030-0845 青森県青森市緑３丁目９−２
CATEGORIES:2025青森ゴールデンウィークイベント GW,4月青森イベント,青森市イベント子供,青森市ゴールデンウィークイベント2025
ATTACH;FMTTYPE=image/jpeg:https://aomori-daibouken.com/wp-content/uploads/2025/04/cardboard-maze1.jpg
END:VEVENT
BEGIN:VEVENT
DTSTART;TZID=Asia/Tokyo:20250426T000000
DTEND;TZID=Asia/Tokyo:20250427T235959
DTSTAMP:20260420T061512
CREATED:20250417T003212Z
LAST-MODIFIED:20250425T005621Z
UID:22056-1745625600-1745798399@aomori-daibouken.com
SUMMARY:青森市ねぶたの家 ワ・ラッセ 西の広場「青函FES（アオハコフェス）」
DESCRIPTION:https://www.aomori-life.jp/kyouryokutai/42627.html\n\n\n\n\n（1）日時 \n\n\n\n2025/4/26（土）～ 4/27（日）4/26　11:00～18:004/27　09:00～17:00 \n\n\n\n（2）場所 \n\n\n\nねぶたの家 ワ・ラッセ 西の広場 \n\n\n\n（3）主催 \n\n\n\n東日本旅客鉄道㈱盛岡支社 \n\n\n\n（4）運営 \n\n\n\n㈱JR東日本青森商業開発 \n\n\n\n（5）協力 \n\n\n\n青森ウォーターフロント活性化協議会みなとまち・あおもり誕生400年実行委員会AOMORI春フェスティバル実行委員会青森市地域おこし協力隊員（髙木） \n\n\n\n　　　2_出店者 \n\n\n\n飲食ブースでは、青森と函館の肉・海鮮・野菜等の特産品を使ったフード、地酒、ビール、ワイン等のドリンクを販売します。クラフトブースでは青森の伝統工芸品の販売や製作体験を実施します。 \n\n\n\n\n\n\n\n※商品イメージ画像 \n\n\n\n【函館】●飲食出店ブース 2店 \n\n\n\nはこだて鹿△(鹿串)、函館朝市北菓り(海鮮お好み焼き、北海道生ビール、北海道産じゃがいもの塩煮、たい焼き) \n\n\n\n【青森】●飲食出店ブース 10市町村 17店 \n\n\n\n・青森市：酒のかさい(県産日本酒/26日のみ)、地酒庵さとう(県産日本酒/27日のみ)、A-FACTORYシードル工房(生シードル)、MUNCH LUNCH BENCH(八甲田牛タコス)、COYOTE RANCH(八甲田牛グルメ)、焼そば屋しょう太(自家製麺を使った焼きそば)、Bagle&Cafe Pommiel＆新郷村ふるさと活性化公社(手作りベーコンベーグル) \n\n\n\n・平内町：A.S.PROJECT(平内町のホタテ焼き) \n\n\n\n・外ヶ浜町：野口珈琲店(自家焙煎のコーヒー)、道の駅たいらだて(鯛焼き) \n\n\n\n・弘前市：hirosaki craft wines(ナチュールワイン)＆はなうた(クラフトビール) \n\n\n\n・藤崎町：ふじさき食彩テラス(ときわにんにくを使ったもつ鍋) \n\n\n\n・五所川原市：十三湖のしじみ漁師 しじみっちゃん(シジミスープ) \n\n\n\n・野辺地町：パン工房ビリオン(野辺地帆立カレーパン) \n\n\n\n・六戸町：六戸町観光協会(青森シャモロックの手羽唐揚げ)、 \n\n\n\n・田子町：よっしーの田子たこ焼き(たっこにんにくを使ったたこ焼き) \n\n\n\n●クラフト出店ブース 4市町5店 \n\n\n\n・青森市：あおもり藍工房、青森ひばショップ イアモク \n\n\n\n・弘前市：津軽塗 イシオカ工芸 \n\n\n\n・黒石市：こけス工房 \n\n\n\n・平内町：ひらない暮らし北限椿舎 \n\n\n\n※各商品は無くなり次第終了となります。 \n\n\n\n※出店内容は変更・中止になる場合がございます。予めご了承ください。 \n\n\n\n\n\n\n\n3_各種イベントその他ねぶたの家 ワ・ラッセ 西の広場では様々なイベントが開催されます！ \n\n\n\n４/26　13:00～14:00 \n\n\n\n春フェス前日祭 \n\n\n\n\n\n\n\n4/27　10:00から開催される「AOMORI春フェスティバル」のプレイベントとして、よさこいの演舞を行います。音楽に合わせて舞い踊る、躍動感あふれる姿をお楽しみいただけます！ \n\n\n\n\n\n\n\n4/27　09:00～09:20 \n\n\n\nみなとまち・あおもり誕生400年キックオフイベント \n\n\n\n\n\n\n\nねぶたの家 ワ・ラッセ 西の広場：式典会場 \n\n\n\n青森ベイブリッジ：400人で出航テーププロジェクト会場 \n\n\n\nみなとまち・あおもり誕生400年を記念し、イベントを開催！ \n\n\n\n式典ではジョナゴールド・りんご娘・青森山田高等学校吹奏楽部のステージパフォーマンスも披露。 \n\n\n\nキックオフ宣言では、青森市民有志による「400人で出航テーププロジェクト」を開催。青森市の歴史の中でも印象深い青函連絡船の出航風景を再現し、港町青森のベイエリアを紙テープで彩ります！ \n\n\n\n「400人で出航テーププロジェクト」の参加申し込みはこちらから。 \n\n\n\n\n\n【R7事業】みなとまち・あおもり誕生400年キックオフイベント「400人で出航テーププロジェクト」【定員に達したため、募集は終了しました】 – みなとまち・あおもり誕生400年minatomachi-aomori400th.jp\n\n\n\n\n\n\n\n\n4/27　10:00～16:00 \n\n\n\n第18回AOMORI春フェスティバル \n\n\n\n\n\n\n\n青森市中心市街地のゴールデンウィーク期間中における賑わいづくりのため、大迫力の「ねぶた」と「よさこい」のコラボレーションをテーマに、エリア一帯で数多くの企画を行うお祭りです。 \n\n\n\n中心街区にて「大型ねぶた」「よさこい演舞」などによるオープニングパレードをはじめ、各種音楽イベント、グルメコーナー等で春の青森駅周辺を盛り上げます。 \n\n\n\n\n\n\n\n4/27　15:00～16:00 \n\n\n\nRINGO MUSIC スペシャルライブ \n\n\n\n\n\n\n\n2日間のイベントのトリとして、RINGO MUSICが贈るスペシャルライブを開催いたします。青森発のポップシンガー「ジョナゴールド」とダンス＆ボーカルユニット「りんご娘」がステージを彩り、心躍る音楽のひとときをお届けします。 \n\n\n\n※画像は全てイメージです。 \n\n\n\n※実施内容は変更・中止になる場合がございます。予めご了承ください。 \nhttps://jre-abc.com/2025/04/04/%e9%9d%92%e6%a3%ae%e3%81%a8%e5%87%bd%e9%a4%a8%e3%82%92%e7%b5%90%e3%81%b6%e3%80%8c%e9%9d%92%e5%87%bdfes%ef%bc%88%e3%82%a2%e3%82%aa%e3%83%8f%e3%82%b3%e3%83%95%e3%82%a7%e3%82%b9%ef%bc%89%e3%80%8d/
URL:https://aomori-daibouken.com/event/22056
LOCATION:ねぶたの家ワ・ラッセ西の広場\, 〒030-0803 青森県青森市安方１丁目
CATEGORIES:2025青森春祭り・青森県桜まつりイベント,4月青森イベント,青森市ゴールデンウィークイベント2025
ATTACH;FMTTYPE=image/jpeg:https://aomori-daibouken.com/wp-content/uploads/2025/04/3e503da3d35464ff89ff8b2faff8d87d63e92102.jpg
END:VEVENT
BEGIN:VEVENT
DTSTART;TZID=Asia/Tokyo:20250426T000000
DTEND;TZID=Asia/Tokyo:20250427T235959
DTSTAMP:20260420T061512
CREATED:20250416T052245Z
LAST-MODIFIED:20250416T052348Z
UID:21979-1745625600-1745798399@aomori-daibouken.com
SUMMARY:八戸市 華堂マルシェin白山台ロゼリア
DESCRIPTION:この投稿をInstagramで見る            華堂(@cadeau0327)がシェアした投稿 \n\n\n\n\n        この投稿をInstagramで見る            華堂(@cadeau0327)がシェアした投稿
URL:https://aomori-daibouken.com/event/21979
LOCATION:八戸ニュータウン ローズガーデン\, 八戸ニュータウン ローズガーデン
CATEGORIES:2025青森ゴールデンウィークイベント GW,4月青森イベント,八戸 ハンドメイドイベント2025 クラフト,八戸市イベント 今日 明日 今週末 2025,八戸市フリーマーケット2025,青森マルシェ2025,青森県クラフトイベント 2025 マルシェ
ATTACH;FMTTYPE=image/jpeg:https://aomori-daibouken.com/wp-content/uploads/2025/04/488002408_979291147723659_6033365618653050898_n.jpg
END:VEVENT
BEGIN:VEVENT
DTSTART;TZID=Asia/Tokyo:20250426T000000
DTEND;TZID=Asia/Tokyo:20250427T235959
DTSTAMP:20260420T061512
CREATED:20250416T024133Z
LAST-MODIFIED:20250416T024251Z
UID:20119-1745625600-1745798399@aomori-daibouken.com
SUMMARY:八戸市YSアリーナ であときハッピーデイ2025春
DESCRIPTION:ゴールデンウイークに青森県八戸にてイベント「であときハッピーデイ2025春」が開催されます。ステージ・ハンドメイドクラフト・キッチンカーなど大集結します。 \n\n\n\n出店者情報などはインスタで確認できます。 \n\n\n\nhttps://www.instagram.com/deatoki_happy_day \n\n\n\n🌸4/26（土）27（日）開幕🌸であときハッピーデイSPRING2025✨出演・出展２日間総勢160組以上✨🔶一般ご来場事前アンケート実施中　https://t.co/WPTTR8TZiD🔶ご出展・フリーマーケット出店のお申込みはこちら（Aエリア・Bエリア・キッチンカーは〆切りました）　https://t.co/JGVKFUaIVI pic.twitter.com/I7bxTxj2h1 — 笑顔になれる場所✨であとき｜ネイルスクール・ケアサロン・会員制ラウンジ (@deatoki20230201) April 6\, 2025
URL:https://aomori-daibouken.com/event/20119
LOCATION:長根屋内スケート場（YSアリーナ八戸）\, 〒031-0073 青森県八戸市売市輿遊下３−３
CATEGORIES:2025青森ゴールデンウィークイベント GW,4月青森イベント,★青森県メインイベント,八戸 ハンドメイドイベント2025 クラフト,八戸市イベント 今日 明日 今週末 2025,八戸市キッチンカーイベント2025,八戸市フリーマーケット2025,八戸市祭り,青森県 イベント 子ども
ATTACH;FMTTYPE=image/jpeg:https://aomori-daibouken.com/wp-content/uploads/2025/04/Gn17VyDagAAgPvv.jpg
END:VEVENT
BEGIN:VEVENT
DTSTART;TZID=Asia/Tokyo:20250426T000000
DTEND;TZID=Asia/Tokyo:20250427T235959
DTSTAMP:20260420T061512
CREATED:20250415T052929Z
LAST-MODIFIED:20250418T061949Z
UID:21961-1745625600-1745798399@aomori-daibouken.com
SUMMARY:八戸市 蕪嶋まつり2025
DESCRIPTION:ステージプログラム \n\n\n\n4月26日(土)ステージプログラム \n\n\n\n10:00　開会宣言10:00　鮫中学校吹奏楽10:30　中城さつき 歌謡ステージ11:00　若柳貴久永社中11:30　吉岡リサ 歌謡ステージ12:00　うみねこ鳴き声大会13:00　前川原チカ子 歌謡ステージ13:30　正調八戸小唄 京宏会13:50　天野よし子 タヒチアンダンス14:10　正一バンド14:20　鮫踊り愛好会14:40　SJB16 歌謡ステージ15:00　終了予定 \n\n\n\n4月27日(日)ステージプログラム \n\n\n\n10:00　八水大漁太鼓10:20　うぐいす保育園10:40　さめ保育園11:00　かもめ幼稚園11:20　花邑一弥 歌謡ステージ11:50　はちのへよさこい絲の会12:00　実行委員長挨拶12:10　みこし運行12:30　浦安の舞12:50　鮫神楽13:20　小西礼子 歌謡ステージ13:50　練武会空手教室 円心会14:10　市川紅雀一門会14:30　久保京子 歌謡ステージ15:00　終了予定 \n\n\n\n※プログラムの内容は変更になる場合があります。ご了承下さい。 \n\n\n\n交通案内\n\n\n\n\n\n\n\n \nhttps://visithachinohe.com/spot/kabushima-jinja/
URL:https://aomori-daibouken.com/event/21961
LOCATION:蕪嶋神社\, 〒031-0841 青森県八戸市鮫町鮫５６−２
CATEGORIES:2025青森ゴールデンウィークイベント GW,2025青森春祭り・青森県桜まつりイベント,4月青森イベント,★青森県メインイベント,八戸市イベント 今日 明日 今週末 2025,八戸市祭り
ATTACH;FMTTYPE=image/webp:https://aomori-daibouken.com/wp-content/uploads/2025/04/2025kabushimamatsuri.webp
END:VEVENT
BEGIN:VEVENT
DTSTART;TZID=Asia/Tokyo:20250426T000000
DTEND;TZID=Asia/Tokyo:20250427T235959
DTSTAMP:20260420T061512
CREATED:20250415T024434Z
LAST-MODIFIED:20250415T024436Z
UID:21923-1745625600-1745798399@aomori-daibouken.com
SUMMARY:平川市猿賀公園 ぷらすマルシェin平川さくらまつり2025
DESCRIPTION:人気のクラフトイベントが開催！\n\n\n\n平川さくらまつり恒例のクラフトイベント！たくさんのクラフト雑貨やワークショップを楽しめる他、おいしい飲食店もたくさん集まります♪今回はこれまでで一番の出店数です！春の香が漂う園内を散策しながら楽しもう♪ \n\n\n\n\n\n\n\n\n\n\n\n※出展者、出展内容は予告なく変更する場合がございます。 \n\n\n\n臨時駐車場\n\n\n\nぷらすマルシェ開催日は猿賀公園駐車場は混雑する可能性があります。以下は臨時駐車場となりますのでぜひご利用ください。 \n\n\n\n・さるか交流館（平川市猿賀遠林1番地2） \nhttps://hirakawa-kankou.com/2025/03/20/puramaru2025/
URL:https://aomori-daibouken.com/event/21923
LOCATION:猿賀公園\, 〒036-0242 青森県平川市猿賀石林
CATEGORIES:2025青森ゴールデンウィークイベント GW,4月青森イベント,平川市イベント,青森県キッチンカーイベント2025,青森県クラフトイベント 2025 マルシェ
ATTACH;FMTTYPE=image/jpeg:https://aomori-daibouken.com/wp-content/uploads/2025/04/6c9cbdb75bab1d3d17a9867610098339-724x1024-1.jpg
END:VEVENT
BEGIN:VEVENT
DTSTART;TZID=Asia/Tokyo:20250426T000000
DTEND;TZID=Asia/Tokyo:20250427T235959
DTSTAMP:20260420T061512
CREATED:20250414T042451Z
LAST-MODIFIED:20250414T042453Z
UID:21817-1745625600-1745798399@aomori-daibouken.com
SUMMARY:十和田市駒っこ広場 フリーマーケット
DESCRIPTION:官庁街通り \n\n\n\nフリーマーケット \n\n\n\n4月19日(土)~ 20日(日)、26日(土)~ 27日(日)10:00 ~ 15:00 \n\n\n\n駒っこ広場 \nhttps://towada-harumatsuri.info/
URL:https://aomori-daibouken.com/event/21817
LOCATION:駒っこ広場\, 〒034-0083 青森県十和田市西三番町１
CATEGORIES:青森県フリーマーケット
ATTACH;FMTTYPE=image/jpeg:https://aomori-daibouken.com/wp-content/uploads/2025/04/フリーマーケット.jpg
END:VEVENT
BEGIN:VEVENT
DTSTART;TZID=Asia/Tokyo:20250426T000000
DTEND;TZID=Asia/Tokyo:20250426T235959
DTSTAMP:20260420T061512
CREATED:20250418T004308Z
LAST-MODIFIED:20250418T075603Z
UID:22126-1745625600-1745711999@aomori-daibouken.com
SUMMARY:六ヶ所村 食べ処 六旬亭（ろくしゅんてい）オープン
DESCRIPTION:📣＼OPEN！／その名も―― 《食べ処 六旬亭（ろくしゅんてい）》 \n\n\n\n🗓️【オープン日】4月26日（土）⏰【営業時間】10:00〜15:30（L.O.15:00）📍【場所】特産品販売所 六旬館 内🔁【定休日】不定休 \n\n\n\n👨‍🍳 気になるメニューは…・詳細は決まり次第お知らせいたします。 \n\n\n\n地元の味を気軽に楽しめる、心あたたまるお食事処。お買い物ついでに、ぜひお立ち寄りください！ \n\n\n\n\nhttps://6shunkan.com/topics-4703
URL:https://aomori-daibouken.com/event/22126
LOCATION:六ヶ所村特産品販売所 六旬館\, 〒039-3213 青森県上北郡六ヶ所村鷹架道ノ下５６１−６
CATEGORIES:2025青森ゴールデンウィークイベント GW,六ヶ所イベント,青森県開店
ATTACH;FMTTYPE=image/png:https://aomori-daibouken.com/wp-content/uploads/2025/04/食処-OPEN告知-300x212-1.png
END:VEVENT
BEGIN:VEVENT
DTSTART;TZID=Asia/Tokyo:20250426T000000
DTEND;TZID=Asia/Tokyo:20250426T235959
DTSTAMP:20260420T061512
CREATED:20250417T001815Z
LAST-MODIFIED:20250425T005339Z
UID:20102-1745625600-1745711999@aomori-daibouken.com
SUMMARY:青森市 恐竜ラボ！キング・オブ・ハンターズ from DINO-A-LIVE ～青森公演～
DESCRIPTION:スケジュール \n\n\n\n開場：各公演45分前（予定） \n\n\n\n公演日時：2025年04月26日(土)　  10:30 / 13:30 / 16:30 \n\n\n\n公演時間：約60分 \nhttps://kyoryulabo.com/index.html
URL:https://aomori-daibouken.com/event/20102
LOCATION:リンクステーションホール青森\, 〒030-0812 青森県青森市堤町１丁目４−１
CATEGORIES:4月青森イベント,青森市イベント子供,青森市ゴールデンウィークイベント2025
ATTACH;FMTTYPE=image/jpeg:https://aomori-daibouken.com/wp-content/uploads/2025/02/thumb.jpg
END:VEVENT
BEGIN:VEVENT
DTSTART;TZID=Asia/Tokyo:20250426T000000
DTEND;TZID=Asia/Tokyo:20250426T235959
DTSTAMP:20260420T061512
CREATED:20250407T001326Z
LAST-MODIFIED:20250425T005257Z
UID:21663-1745625600-1745711999@aomori-daibouken.com
SUMMARY:五所川原市 青森県立梵珠少年自然の家「春を楽しむサンday」
DESCRIPTION:ゴールデンウイークの4/26に青森県五所川原市 青森県立梵珠少年自然の家で「春を楽しむサンday」の子どもイベントが開催されます。
URL:https://aomori-daibouken.com/event/21663
LOCATION:青森県立梵珠少年自然の家\, 〒037-0611 五所川原市大字神山字殊ノ峰117-602
CATEGORIES:五所川原市イベント,青森県 イベント 子ども
ATTACH;FMTTYPE=image/jpeg:https://aomori-daibouken.com/wp-content/uploads/2025/04/R7sundaytirasi.jpg
END:VEVENT
BEGIN:VEVENT
DTSTART;TZID=Asia/Tokyo:20250425T000000
DTEND;TZID=Asia/Tokyo:20250506T235959
DTSTAMP:20260420T061512
CREATED:20250428T024704Z
LAST-MODIFIED:20250428T025551Z
UID:22379-1745539200-1746575999@aomori-daibouken.com
SUMMARY:青森市新町『THREE生誕祭2025』
DESCRIPTION:THREEの2さいのバースデーは「カワイイ」と「おいしい」が大渋滞の12日間！ \n\n\n\n複合商業施設THREEは2025年4月25日で、オープン2周年を迎えます。THREEの2さいをお祝いする今年の生誕祭は「カワイイ」と「おいしい」が大大大渋滞！！！ \n\n\n\n一緒に12日間のパーティーを全力で楽しんで、唯一無二の思い出をつくりましょう😉 \n\n\n\n\n\n\n\n \n\n\n\n\n\n\n\n \nhttps://www.three-aomori.jp/20250425-three-2nd-anniversary/
URL:https://aomori-daibouken.com/event/22379
LOCATION:THREE(スリー)\, 〒030-0801 青森県青森市新町１丁目７−１
CATEGORIES:2025青森春祭り・青森県桜まつりイベント,4月青森イベント,5月青森イベント,青森市イベント 今日 明日 今週末 2025,青森市ゴールデンウィークイベント2025,青森市祭り,青森県グルメイベント
ATTACH;FMTTYPE=image/jpeg:https://aomori-daibouken.com/wp-content/uploads/2025/04/image-36.jpg
END:VEVENT
BEGIN:VEVENT
DTSTART;TZID=Asia/Tokyo:20250425T000000
DTEND;TZID=Asia/Tokyo:20250506T235959
DTSTAMP:20260420T061512
CREATED:20250428T024154Z
LAST-MODIFIED:20250428T025204Z
UID:22373-1745539200-1746575999@aomori-daibouken.com
SUMMARY:青森市新町THREE『ときめく春のキッチンカーフェス』
DESCRIPTION:4/25㊍～5/6㊋㊗の期間中、屋外キッチンカースペースにて『ときめく春のキッチンカーフェス』を開催いたします。 \n\n\n\nTHREE初登場も含め、全39店舗が日替わりで出店いたします！ \n\n\n\n\n\n\n\n\n\n\n\n※営業時間は各店SNSをご確認ください。 \n\n\n\n※都合により、掲載内容が変更となる場合がございます。ご了承ください。 \n\n\n\n\nhttps://www.three-aomori.jp/food-truck-fes-2025spring/\n\n\n\n\n\n青森市新町『THREE生誕祭2025』THREEの2さいのバースデーは「カワイイ」と「おいしい」が大渋滞の12日間！複合商業施設THREEは2025年4月25日で、オープン2周年を迎えます。THREEの2さいをお祝いする今年の生誕祭は「カ...aomori-daibouken.com
URL:https://aomori-daibouken.com/event/22373
LOCATION:THREE(スリー)\, 〒030-0801 青森県青森市新町１丁目７−１
CATEGORIES:青森市イベント 今日 明日 今週末 2025,青森市キッチンカーイベント2025
ATTACH;FMTTYPE=image/jpeg:https://aomori-daibouken.com/wp-content/uploads/2025/04/c3ef6c93a0db19639a615e2f548d1c01.jpg
END:VEVENT
BEGIN:VEVENT
DTSTART;TZID=Asia/Tokyo:20250425T000000
DTEND;TZID=Asia/Tokyo:20250506T235959
DTSTAMP:20260420T061512
CREATED:20250416T075005Z
LAST-MODIFIED:20250416T075006Z
UID:22018-1745539200-1746575999@aomori-daibouken.com
SUMMARY:弘前市 さくら野百貨店 弘前店「北海道物産展」
DESCRIPTION:https://sakurano-dept.jp/hirosaki/news_detail.html?post=5775
URL:https://aomori-daibouken.com/event/22018
LOCATION:さくら野百貨店 弘前店\, 〒036-8092 青森県弘前市城東北３丁目１０−１
CATEGORIES:2025青森ゴールデンウィークイベント GW,4月青森イベント,5月青森イベント,★青森県メインイベント,弘前市イベント 今日 明日 土手町 2025,青森県グルメイベント
ATTACH;FMTTYPE=image/jpeg:https://aomori-daibouken.com/wp-content/uploads/2025/04/スクリーンショット-2025-04-16-164550.jpg
END:VEVENT
BEGIN:VEVENT
DTSTART;TZID=Asia/Tokyo:20250425T000000
DTEND;TZID=Asia/Tokyo:20250425T235959
DTSTAMP:20260420T061512
CREATED:20250427T124713Z
LAST-MODIFIED:20250429T131155Z
UID:22316-1745539200-1745625599@aomori-daibouken.com
SUMMARY:青森市 若竹 閉店
DESCRIPTION:詳細は不明ですが、大盛メニューで有名な若竹さんが閉店との情報がありました。 \n\n\n\nhttps://www.facebook.com/groups/493856554089417/posts/3342164379258606
URL:https://aomori-daibouken.com/event/22316
LOCATION:お食事処 若竹\, 〒030-0843 青森県青森市浜田玉川２４６−１９
CATEGORIES:青森市イベント 今日 明日 今週末 2025,青森市ラーメン閉店,青森市閉店
ATTACH;FMTTYPE=image/png:https://aomori-daibouken.com/wp-content/uploads/2025/04/アイキャッチ-2025-04-27T214158.041.png
END:VEVENT
BEGIN:VEVENT
DTSTART;TZID=Asia/Tokyo:20250425T000000
DTEND;TZID=Asia/Tokyo:20250425T235959
DTSTAMP:20260420T061512
CREATED:20250328T003619Z
LAST-MODIFIED:20250331T011909Z
UID:21400-1745539200-1745625599@aomori-daibouken.com
SUMMARY:弘前市ヒロロ WEGO弘前ヒロロ店 オープン
DESCRIPTION:青森県弘前市ヒロロに「WEGO弘前ヒロロ店」がゴールデンウイーク中にオープンするようです。 \n\n\n\n開店情報です‼️弘前市ヒロロ1階にWEGO弘前ヒロロ店が4月25日オープンします‼️青森県では五所川原市エルムに続いて県内2店舗目となり、弘前市初出店です‼️最近ヒロロに新しい店情報が増えてます今後も動きがあり次第また投稿します‼️#青森県　#弘前市　#WEGO #弘前市初出店　#弘前開店情報 pic.twitter.com/Eo0OluwVKh — イブさん (@0NA1w8hZYWY8Fh8) March 24\, 2025
URL:https://aomori-daibouken.com/event/21400
LOCATION:ヒロロ(HIRORO)\, 〒036-8003 青森県弘前市駅前町９−２０
CATEGORIES:2025青森ゴールデンウィークイベント GW,弘前市イベント 今日 明日 土手町 2025,弘前市開店
ATTACH;FMTTYPE=image/png:https://aomori-daibouken.com/wp-content/uploads/2025/03/X青森イベント情報のコピー-45.png
END:VEVENT
BEGIN:VEVENT
DTSTART;TZID=Asia/Tokyo:20250425T000000
DTEND;TZID=Asia/Tokyo:20250425T235959
DTSTAMP:20260420T061512
CREATED:20250326T004258Z
LAST-MODIFIED:20250331T011827Z
UID:21335-1745539200-1745625599@aomori-daibouken.com
SUMMARY:八戸市ゴーゴーカレー 八戸パーク ピアドゥ移転オープン
DESCRIPTION:【🦍✨移転のお知らせ✨🦍】いつもゴーゴーカレー八戸パークをご利用いただき、誠にありがとうございます🙇‍♂️イオン様グランドオープンに合わせてピアドゥフードコートへ移転することとなりました🙇‍♂️（続） pic.twitter.com/t8wh1uKhJb — ゴーゴーカレー八戸パーク【青森県唯一】 (@gogohachinohe) March 24\, 2025
URL:https://aomori-daibouken.com/event/21335
LOCATION:ピアドゥ（Pia Do）\, 〒031-0071 青森県八戸市沼館４丁目７−１１２
CATEGORIES:八戸市イベント 今日 明日 今週末 2025,八戸市開店
ATTACH;FMTTYPE=image/jpeg:https://aomori-daibouken.com/wp-content/uploads/2025/03/Gm18UUbbAAAZgfD.jpg
END:VEVENT
BEGIN:VEVENT
DTSTART;TZID=Asia/Tokyo:20250425T000000
DTEND;TZID=Asia/Tokyo:20250425T235959
DTSTAMP:20260420T061512
CREATED:20250203T013326Z
LAST-MODIFIED:20250228T074618Z
UID:18492-1745539200-1745625599@aomori-daibouken.com
SUMMARY:五所川原市エルム マツモトキヨシ オープン
DESCRIPTION:青森県五所川原市エルム マツモトキヨシ オープン \n\n\n\n\n\n\n\n\n \nhttps://elm-no-machi.jp/pages/?p=newOpen
URL:https://aomori-daibouken.com/event/18492
LOCATION:ELM（エルム）\, 〒037-0004 青森県五所川原市唐笠柳藤巻５１７−１
CATEGORIES:五所川原市イベント,五所川原開店
END:VEVENT
BEGIN:VEVENT
DTSTART;TZID=Asia/Tokyo:20250425T000000
DTEND;TZID=Asia/Tokyo:20250425T235959
DTSTAMP:20260420T061512
CREATED:20241202T020910Z
LAST-MODIFIED:20250331T011754Z
UID:13363-1745539200-1745625599@aomori-daibouken.com
SUMMARY:青森市 シーナシーナ青森 無印良品 オープン
DESCRIPTION:2025/03/20 \n\n\n\nはじめまして 「無印良品 シーナシーナ青森」です。   \n\n\n\n2025年4月25日(金)青森県青森市のCiiNA CiiNA 青森1階に無印良品  シーナシーナ青森がオープンします。  \n\n\n\n無印良品は、衣服雑貨・生活雑貨・食品など、日常生活に欠かせない商品をたくさん取り揃えております。 これまで無印良品をご愛用くださっている方も、初めての方も、ぜひ足を運んでいただけたら嬉しいです。青森市にお住いのみなさまの暮らしのお役に立てるよう、スタッフ一同オープンに向けて準備をしております。  \n\n\n\nおたより配信では、店舗からのお知らせ・商品やサービスの紹介・イベント情報など、 無印良品でのお買い物に役立つ情報を皆様にお届けします。  \n\n\n\nぜひ、MUJI passportアプリのダウンロードと、「無印良品 シーナシーナ青森」の店舗フォローよろしくお願いします。  \nhttps://www.muji.com/jp/ja/shop/061624/articles/info/1583055
URL:https://aomori-daibouken.com/event/13363
LOCATION:CiiNA CiiNA (シーナシーナ) 青森\, 〒030-0843 青森県青森市浜田１丁目１４−１
CATEGORIES:青森市イベント 今日 明日 今週末 2025,青森市開店
ATTACH;FMTTYPE=image/avif:https://aomori-daibouken.com/wp-content/uploads/2024/12/061624_250320_01_00_0.avif
END:VEVENT
BEGIN:VEVENT
DTSTART;TZID=Asia/Tokyo:20250425T000000
DTEND;TZID=Asia/Tokyo:20250425T235959
DTSTAMP:20260420T061512
CREATED:20241007T052823Z
LAST-MODIFIED:20250424T084340Z
UID:10143-1745539200-1745625599@aomori-daibouken.com
SUMMARY:八戸市 イオンスタイル オープン
DESCRIPTION:青森県八戸市 イトーヨーカードー八戸沼館店跡地 ピアドゥのイオンスタイルは4/25オープン \n\n\n\n食品のほか、衣料品、布団や食器など暮らしの品を取り扱う。 \n\n\n\n\n\nhttps://aeontohoku.co.jp/stores/hachinohenumadate
URL:https://aomori-daibouken.com/event/10143
LOCATION:ピアドゥ\, 〒031-0071 青森県八戸市沼館４丁目７−１１１
CATEGORIES:八戸市イベント 今日 明日 今週末 2025,八戸市開店
ATTACH;FMTTYPE=image/jpeg:https://aomori-daibouken.com/wp-content/uploads/2024/10/ASnumadateGO_1000_1000.jpg
END:VEVENT
BEGIN:VEVENT
DTSTART;TZID=Asia/Tokyo:20250424T000000
DTEND;TZID=Asia/Tokyo:20250429T235959
DTSTAMP:20260420T061512
CREATED:20250417T010703Z
LAST-MODIFIED:20250424T005756Z
UID:22066-1745452800-1745971199@aomori-daibouken.com
SUMMARY:イオンモール下田「バンクシー版画展」
DESCRIPTION:
URL:https://aomori-daibouken.com/event/22066
LOCATION:イオンモール下田\, 〒039-2112 青森県上北郡おいらせ町中野平４０−１
CATEGORIES:2025青森ゴールデンウィークイベント GW,4月青森イベント
ATTACH;FMTTYPE=image/jpeg:https://aomori-daibouken.com/wp-content/uploads/2025/04/thumbW480_photo1-1.jpg
END:VEVENT
BEGIN:VEVENT
DTSTART;TZID=Asia/Tokyo:20250424T000000
DTEND;TZID=Asia/Tokyo:20250424T235959
DTSTAMP:20260420T061512
CREATED:20250420T024737Z
LAST-MODIFIED:20250420T024738Z
UID:22215-1745452800-1745539199@aomori-daibouken.com
SUMMARY:八戸市 うまいラーメンショップ 長苗代店 閉店
DESCRIPTION:私！人生初そして最後の朝ラーメンに挑戦です✨青森県八戸市長苗代ラーメンショップラーメン大800円ネギ丼小300円私が小とは…朝だからこれで許してやろうこのラーメン屋さんは朝から鉄火場です熱量がハンパ無い！そして色々な意味で自由🗽オーナー様40年以上の営業お疲れ様でした🙇‍♂️😭 pic.twitter.com/ZxZjD1aDuK — あおぞら洗車場パーキング (@aozorasennsha) April 15\, 2025
URL:https://aomori-daibouken.com/event/22215
LOCATION:うまいラーメンショップ 長苗代店\, 〒039-1103 青森県八戸市長苗代中坪７３−１
CATEGORIES:八戸市イベント 今日 明日 今週末 2025,八戸市閉店
ATTACH;FMTTYPE=image/png:https://aomori-daibouken.com/wp-content/uploads/2025/04/アイキャッチ-2025-04-20T114700.651.png
END:VEVENT
BEGIN:VEVENT
DTSTART;TZID=Asia/Tokyo:20250422T000000
DTEND;TZID=Asia/Tokyo:20250428T235959
DTSTAMP:20260420T061512
CREATED:20250421T230314Z
LAST-MODIFIED:20250421T230325Z
UID:22226-1745280000-1745884799@aomori-daibouken.com
SUMMARY:弘前 ロピア チラシ 青森 2025/4/22～4/28
DESCRIPTION:
URL:https://aomori-daibouken.com/event/22226
LOCATION:CiiNA CiiNA(シーナシーナ) 弘前\, 〒036-8002 青森県弘前市駅前３丁目2−１
CATEGORIES:弘前ロピアチラシ
ATTACH;FMTTYPE=image/jpeg:https://aomori-daibouken.com/wp-content/uploads/2025/04/image-31.jpg
END:VEVENT
BEGIN:VEVENT
DTSTART;TZID=Asia/Tokyo:20250422T000000
DTEND;TZID=Asia/Tokyo:20250428T235959
DTSTAMP:20260420T061512
CREATED:20250421T230204Z
LAST-MODIFIED:20250421T230205Z
UID:22228-1745280000-1745884799@aomori-daibouken.com
SUMMARY:五所川原 ロピア チラシ 青森 2025/4/22～4/28
DESCRIPTION:
URL:https://aomori-daibouken.com/event/22228
LOCATION:ELM（エルム）\, 〒037-0004 青森県五所川原市唐笠柳藤巻５１７−１
CATEGORIES:五所川原ロピアチラシ
ATTACH;FMTTYPE=image/jpeg:https://aomori-daibouken.com/wp-content/uploads/2025/04/image-29.jpg
END:VEVENT
BEGIN:VEVENT
DTSTART;TZID=Asia/Tokyo:20250422T000000
DTEND;TZID=Asia/Tokyo:20250428T235959
DTSTAMP:20260420T061512
CREATED:20250421T230057Z
LAST-MODIFIED:20250421T230224Z
UID:22223-1745280000-1745884799@aomori-daibouken.com
SUMMARY:青森市 ロピア チラシ 2025/4/22～4/28
DESCRIPTION:
URL:https://aomori-daibouken.com/event/22223
LOCATION:CiiNA CiiNA (シーナシーナ) 青森\, 〒030-0843 青森県青森市浜田１丁目１４−１
CATEGORIES:青森市ロピアチラシ
ATTACH;FMTTYPE=image/jpeg:https://aomori-daibouken.com/wp-content/uploads/2025/04/image-27.jpg
END:VEVENT
BEGIN:VEVENT
DTSTART;TZID=Asia/Tokyo:20250420T140000
DTEND;TZID=Asia/Tokyo:20250420T160000
DTSTAMP:20260420T061512
CREATED:20250404T090000Z
LAST-MODIFIED:20250519T235934Z
UID:21593-1745157600-1745164800@aomori-daibouken.com
SUMMARY:八戸市ピアドゥ東側広場 犬猫譲渡会
DESCRIPTION:https://pia-do.com/category/news/
URL:https://aomori-daibouken.com/event/21593
LOCATION:ピアドゥ（Pia Do）\, 〒031-0071 青森県八戸市沼館４丁目７−１１２
CATEGORIES:八戸市イベント 今日 明日 今週末 2025,青森譲渡会(青森市・弘前市・八戸市)子犬子猫など譲ります
ATTACH;FMTTYPE=image/jpeg:https://aomori-daibouken.com/wp-content/uploads/2025/04/犬猫譲渡会unnamed-file.pdf.jpg
END:VEVENT
BEGIN:VEVENT
DTSTART;TZID=Asia/Tokyo:20250420T110000
DTEND;TZID=Asia/Tokyo:20250420T150000
DTSTAMP:20260420T061512
CREATED:20250416T072253Z
LAST-MODIFIED:20250416T072254Z
UID:22006-1745146800-1745161200@aomori-daibouken.com
SUMMARY:弘前市 大仏公園 桜まつり
DESCRIPTION:この投稿をInstagramで見る            夢源郷(@mugenkyotribe)がシェアした投稿
URL:https://aomori-daibouken.com/event/22006
LOCATION:大仏公園\, 〒036-8124 青森県弘前市石川大仏
CATEGORIES:2025青森春祭り・青森県桜まつりイベント,弘前市イベント 今日 明日 土手町 2025,弘前市祭り
ATTACH;FMTTYPE=image/jpeg:https://aomori-daibouken.com/wp-content/uploads/2025/04/491516130_17975520536838063_7024066724904814811_n.jpg
END:VEVENT
END:VCALENDAR