BEGIN:VCALENDAR
VERSION:2.0
PRODID:-//青森大冒険-イベントカレンダー情報とブログ- - ECPv6.15.20//NONSGML v1.0//EN
CALSCALE:GREGORIAN
METHOD:PUBLISH
X-WR-CALNAME:青森大冒険-イベントカレンダー情報とブログ-
X-ORIGINAL-URL:https://aomori-daibouken.com
X-WR-CALDESC:青森大冒険-イベントカレンダー情報とブログ- のイベント
REFRESH-INTERVAL;VALUE=DURATION:PT1H
X-Robots-Tag:noindex
X-PUBLISHED-TTL:PT1H
BEGIN:VTIMEZONE
TZID:Asia/Tokyo
BEGIN:STANDARD
TZOFFSETFROM:+0900
TZOFFSETTO:+0900
TZNAME:JST
DTSTART:20240101T000000
END:STANDARD
END:VTIMEZONE
BEGIN:VEVENT
DTSTART;TZID=Asia/Tokyo:20250504T100000
DTEND;TZID=Asia/Tokyo:20250504T160000
DTSTAMP:20260420T005327
CREATED:20250418T054447Z
LAST-MODIFIED:20250425T010340Z
UID:22179-1746352800-1746374400@aomori-daibouken.com
SUMMARY:つがる市「髙山稲荷マルシェ」
DESCRIPTION:境内の桜が見頃を迎えるゴールデンウィーク。今年は、地域の皆さんと力を合わせ、「髙山稲荷マルシェ」を5月4日（日）に開催いたします。 \n\n\n\n地元の美味しい食べ物や素敵な民芸品が集まる、春の市へぜひお越しくださいませ🌸皆様のご参拝を心よりお待ちしております。 \n\n\n\n【高山稲荷マルシェ紹介】 \n\n\n\n【キッチンカー】 \n\n\n\n◯musubi. 様商品: おむすびInstagram: @musubi.2022コメント: ご注文を受けてからつくるできたてのおむすびをご提供いたします。ごえんをお待ちしております。 \n\n\n\n【地域のお店】 \n\n\n\n◯むらおこし拠点館フラット 様商品: 地元の野菜、山菜、簡単なお惣菜など \n\n\n\n◯パラダイスしぶたに 様商品:おもちゃ \n\n\n\n◯こぎん刺し作家 桜紡 様商品: こぎん刺し小物、ボタニカルこぎん販売Instagram: @saho__kogin \n\n\n\n◯Jomons 様商品: キーホルダー、掛け時計、トートバック、TシャツなどInstagram: @shunya_tokuta \n\n\n\n◯陽日和 様商品: こぎん刺しバック、プラカゴ他Instagram: @haru_biyori.tugaruコメント: こぎん刺し雑貨、プラカゴ、ステンドグラスなど、お気に入りを見つけてください。 \n\n\n\n◯あじさいの会　様商品：お餅 \n\n\n\n◯株式会社竹浪酒造店 様 \n\n\n\n商品:日本酒、酒粕 \n\n\n\nFacebook:https://www.facebook.com/iwakimasamune \n\n\n\n【臨時駐車場のお知らせ　4/26(土)〜5/6（火・祝日）】連休中は大変な混雑が予想されます。安全のため、警備員の指示に従って駐車いただきますようお願いいたします。 \n\n\n\n駐車場の混雑状況は、随時Instagramストーリーズにてお知らせいたします。 \n\n\n\n【各駐車場のご案内】 \n\n\n\n通常駐車場: 約70台臨時駐車場①: 約100台 (徒歩5分/250m)臨時駐車場②: 約70台 (徒歩15分/1km)臨時駐車場③: 約100台 (徒歩20分/1.2km) \n\n\n\nーーーーーーーーーーーーーーーーーーー◯ご参拝時間　(開門) 7:00〜18:00（閉門）◯ご祈祷　　　　　　9:00〜16:00◯授与所　　　　　　9:00〜16:50 \n\n\n\n\nhttps://takayamainari.jp/news/%e3%80%90%e9%ab%99%e5%b1%b1%e7%a8%b2%e8%8d%b7%e3%83%9e%e3%83%ab%e3%82%b7%e3%82%a7%e9%96%8b%e5%82%ac%e3%80%91/
URL:https://aomori-daibouken.com/event/22179
LOCATION:高山稲荷神社\, 〒038-3305 青森県つがる市牛潟町鷲野沢１４７−１
CATEGORIES:2025青森ゴールデンウィークイベント GW,2025青森春祭り・青森県桜まつりイベント,5月青森イベント
ATTACH;FMTTYPE=image/jpeg:https://aomori-daibouken.com/wp-content/uploads/2025/04/カラフル-ストライプ-マルシェ-イベント-ポスター-5.jpg
END:VEVENT
BEGIN:VEVENT
DTSTART;TZID=Asia/Tokyo:20250504T100000
DTEND;TZID=Asia/Tokyo:20250504T140000
DTSTAMP:20260420T005327
CREATED:20250303T014846Z
LAST-MODIFIED:20250418T052319Z
UID:20360-1746352800-1746367200@aomori-daibouken.com
SUMMARY:八戸公園春まつりフリーマーケット みちのくリサイクル
DESCRIPTION:青森県八戸市でゴールデンウイークに八戸公園春祭りフリマのフリーマーケットイベントが4/29と5/4に開催されます。 \n\n\n\n\n★フリーマーケットスケジュール★ \n\n\n\n今年度のフリマシーズンがスタートしますよ♪♪ \n\n\n\n4/6（日）8時半～11時半モーニングフリーマーケットinラピア参加料：車出店 2000円 手持ち出店 1500円 \n\n\n\n4/27（日）9時～12時フリーマーケットinイオンスタイル八戸城下参加料：手持ち出店 1800円 \n\n\n\n4/29（火・祝）10時～14時八戸公園春まつりフリーマーケット①参加料：手持ち出店 2000円 \n\n\n\n5/4（日・祝）10時～14時八戸公園春まつりフリーマーケット②参加料：手持ち出店 2000円 \n\n\n\nご参加お待ちしております(º∀º)∫ \n\n\n\n※ お住いが50km以上離れている方は遠距離割引500円が適用されます。(当日住所の分かるものをご提示下さい)※ 高校生の方は学割500円割引が適用されます。※当日参加は、別途500円頂きます。満席の場合は参加出来ないので予約をオススメします。 \n\n\n\nお問合せ、参加予約はこちら↓↓↓まで。連絡先：090-3529-6915 \nhttps://jmty.jp/aomori/eve-free/article-1gcqmu?uiaid=want_eve\n\n\n\n        この投稿をInstagramで見る            ディーシーポプュラー（さきちゃん）(@d.c_popular)がシェアした投稿
URL:https://aomori-daibouken.com/event/20360
LOCATION:八戸公園\, 十日市天摩３３−２\, 八戸市\, 青森県\, 031-0012\, Japan
CATEGORIES:八戸市イベント 今日 明日 今週末 2025,八戸市フリーマーケット2025
END:VEVENT
BEGIN:VEVENT
DTSTART;TZID=Asia/Tokyo:20250504T000000
DTEND;TZID=Asia/Tokyo:20250506T235959
DTSTAMP:20260420T005327
CREATED:20250418T015100Z
LAST-MODIFIED:20250425T010314Z
UID:22153-1746316800-1746575999@aomori-daibouken.com
SUMMARY:弘前市りんご公園「弘前りんご花まつり2025」
DESCRIPTION:https://www.hirosaki-kanko.or.jp/edit.html?id=cat02_spring_ringohana
URL:https://aomori-daibouken.com/event/22153
LOCATION:弘前市りんご公園\, 〒036-8262 青森県弘前市清水富田寺沢１２５
CATEGORIES:2025青森ゴールデンウィークイベント GW,2025青森春祭り・青森県桜まつりイベント,5月青森イベント
ATTACH;FMTTYPE=image/jpeg:https://aomori-daibouken.com/wp-content/uploads/2025/04/スクリーンショット-2025-04-18-104552.jpg
END:VEVENT
BEGIN:VEVENT
DTSTART;TZID=Asia/Tokyo:20250504T000000
DTEND;TZID=Asia/Tokyo:20250504T235959
DTSTAMP:20260420T005327
CREATED:20250426T071802Z
LAST-MODIFIED:20250426T071805Z
UID:22307-1746316800-1746403199@aomori-daibouken.com
SUMMARY:弘前市ヒロロ「仮面ライダーガヴ ショー」観覧無料 子どもイベント
DESCRIPTION:5月4日（日）、ヒロロにて大人気の「仮面ライダーガヴ」ショーを開催いたします！ 迫力満点のアクションステージをお楽しみください。観覧は無料ですので、ご家族そろってぜひお越しください！ \n\n\n\n【開催日】2025年5月4日（日） 【時間】①11:00〜　②14:00〜（各回約30分）【場所】ヒロロ3階 イベントスペース【観覧】イベントの観覧はフリーとなりますが、 当日はステージ前方に 「優先観覧エリア」 をご用意しております。 \n\n\n\n《 優先観覧エリア入場整理券配布 》イベント当日朝９時より大町側入口外にて、先着順で各回300枚（合計600枚）優先観覧エリア入場整理券を配布いたします。配布はおひとり様4枚までとなります。各回予定数量に達し次第、配布終了となります。優先観覧エリア入場券をお持ちでないお客様も後方スペースにてご鑑賞いただけますが、当日の混雑状況により観覧が難しい場合がございます。 \n\n\n\n\n\n\n\n \nhttp://www.hiroro.co.jp/event_details.html?id=641
URL:https://aomori-daibouken.com/event/22307
LOCATION:ヒロロ(HIRORO)\, 〒036-8003 青森県弘前市駅前町９−２０
CATEGORIES:2025青森ゴールデンウィークイベント GW,5月青森イベント,弘前市イベント 今日 明日 土手町 2025,青森県 イベント 子ども
ATTACH;FMTTYPE=image/png:https://aomori-daibouken.com/wp-content/uploads/2025/04/event_img_2_00000641.png
END:VEVENT
BEGIN:VEVENT
DTSTART;TZID=Asia/Tokyo:20250503T000000
DTEND;TZID=Asia/Tokyo:20250525T235959
DTSTAMP:20260420T005327
CREATED:20250417T020208Z
LAST-MODIFIED:20250425T010039Z
UID:22094-1746230400-1748217599@aomori-daibouken.com
SUMMARY:青森市THREE「あおもり文具の博覧会mini」
DESCRIPTION:この投稿をInstagramで見る            スーク文具 by SOUQ COMPANY(@souq_bungu)がシェアした投稿
URL:https://aomori-daibouken.com/event/22094
LOCATION:THREE(スリー)\, 〒030-0801 青森県青森市新町１丁目７−１
CATEGORIES:5月青森イベント,青森市ゴールデンウィークイベント2025
ATTACH;FMTTYPE=image/jpeg:https://aomori-daibouken.com/wp-content/uploads/2025/04/488604455_18053664122333007_5652810392098922190_n.jpg
END:VEVENT
BEGIN:VEVENT
DTSTART;TZID=Asia/Tokyo:20250503T000000
DTEND;TZID=Asia/Tokyo:20250506T235959
DTSTAMP:20260420T005327
CREATED:20250425T002538Z
LAST-MODIFIED:20250425T002540Z
UID:22295-1746230400-1746575999@aomori-daibouken.com
SUMMARY:青森市 八甲田丸GWイベント
DESCRIPTION:５/３（土・祝）～５/６（火・振休）八甲田丸では恒例のGWイベントを開催いたします。 \n\n\n\n詳細は下記のチラシをご覧ください。 \n\n\n\n※駐車場が満車の場合は近隣にありますコインパーキングなどの有料駐車場（お客様負担）をご利用いただくか　公共交通機関をご利用下さいます様、お願い致します。 \n\n\n\n\n\n\n\n \nhttps://aomori-hakkoudamaru.com/event.html
URL:https://aomori-daibouken.com/event/22295
LOCATION:青函連絡船メモリアルシップ八甲田丸\, 〒038-0012 青森県青森市柳川１丁目１１２−１５ 地先
CATEGORIES:2025青森ゴールデンウィークイベント GW,5月青森イベント,青森市イベント 今日 明日 今週末 2025,青森市イベント子供,青森市ゴールデンウィークイベント2025,青森県 イベント 子ども
ATTACH;FMTTYPE=image/jpeg:https://aomori-daibouken.com/wp-content/uploads/2025/04/image-33.jpg
END:VEVENT
BEGIN:VEVENT
DTSTART;TZID=Asia/Tokyo:20250503T000000
DTEND;TZID=Asia/Tokyo:20250506T235959
DTSTAMP:20260420T005327
CREATED:20250417T021908Z
LAST-MODIFIED:20250425T010133Z
UID:22104-1746230400-1746575999@aomori-daibouken.com
SUMMARY:十和田市駒っこランド「春まつり2025」
DESCRIPTION:駒っこランドのGWは、ビンゴウォークラリーやワークショップ、キッチンカーなど内容盛りだくさん！駒っこ牧場の馬たちもみんなを待ってるよ☆　家族みんなで遊びに来てね♪  \n\n\n\n\n\n\n\n\nhttps://www.komakkoland.jp/ibent/r7/harumaturi.html
URL:https://aomori-daibouken.com/event/22104
LOCATION:十和田市馬事公苑 (駒っこランド)\, 〒034-0106 青森県十和田市深持梅山１−１
CATEGORIES:2025青森ゴールデンウィークイベント GW,2025青森春祭り・青森県桜まつりイベント,5月青森イベント
ATTACH;FMTTYPE=image/png:https://aomori-daibouken.com/wp-content/uploads/2025/04/haru-5.png
END:VEVENT
BEGIN:VEVENT
DTSTART;TZID=Asia/Tokyo:20250503T000000
DTEND;TZID=Asia/Tokyo:20250506T235959
DTSTAMP:20260420T005328
CREATED:20250417T021232Z
LAST-MODIFIED:20250425T010108Z
UID:22098-1746230400-1746575999@aomori-daibouken.com
SUMMARY:青森市青森駅自由通路『カッチャート☆マーケット』
DESCRIPTION:この投稿をInstagramで見る            カッチャー・プロジェクト(@kacchart)がシェアした投稿
URL:https://aomori-daibouken.com/event/22098
LOCATION:青森駅\, 〒038-0012 青森県青森市柳川１丁目１
CATEGORIES:5月青森イベント,青森市クラフトイベント2025 ハンドメイド,青森市ゴールデンウィークイベント2025
ATTACH;FMTTYPE=image/jpeg:https://aomori-daibouken.com/wp-content/uploads/2025/04/487994632_18301977151208328_5834208373065088831_n.jpg
END:VEVENT
BEGIN:VEVENT
DTSTART;TZID=Asia/Tokyo:20250503T000000
DTEND;TZID=Asia/Tokyo:20250506T235959
DTSTAMP:20260420T005328
CREATED:20250417T014635Z
LAST-MODIFIED:20250425T010004Z
UID:22084-1746230400-1746575999@aomori-daibouken.com
SUMMARY:八戸市水産科学館マリエント「マリエント市２０２５」
DESCRIPTION:マリエントでは５月のゴールデンウィークの観光客や市民の皆様に、地域の“作品”、“食”、“体験の場”等を紹介する催事として、今年で１５回目となります「マリエント市２０２５」を下記のとおり開催致します。青森県立三本木農業恵拓高等学校が、学校で栽培製造した商品の販売を生徒の皆さんが行います。また、各出店者による手作り商品の販売やワークショップ等も行います。さらには、期間中、岩手県立種市高等学校による南部もぐりの実演と魚たちへの餌付け・ジャンケン大会を行います。皆様、ぜひお越しください！ \n\n\n\n\nhttps://www.marient.org/news/?sc=250413_151002913
URL:https://aomori-daibouken.com/event/22084
LOCATION:八戸市水産科学館マリエント\, 〒031-0841 青森県八戸市鮫町下松苗場１４−３３ 水産科学館マリエント
CATEGORIES:2025青森ゴールデンウィークイベント GW,5月青森イベント
ATTACH;FMTTYPE=image/jpeg:https://aomori-daibouken.com/wp-content/uploads/2025/04/250413_151002913-3_1.jpg
END:VEVENT
BEGIN:VEVENT
DTSTART;TZID=Asia/Tokyo:20250503T000000
DTEND;TZID=Asia/Tokyo:20250505T235959
DTSTAMP:20260420T005328
CREATED:20250418T023214Z
LAST-MODIFIED:20250425T010207Z
UID:22158-1746230400-1746489599@aomori-daibouken.com
SUMMARY:十和田市 太素塚「太素祭」
DESCRIPTION:https://www.taisosai.com/index.html
URL:https://aomori-daibouken.com/event/22158
LOCATION:太素塚（新渡戸傳墓）\, 〒034-0031 青森県十和田市東三番町２４−１
CATEGORIES:2025青森ゴールデンウィークイベント GW,2025青森春祭り・青森県桜まつりイベント,5月青森イベント
ATTACH;FMTTYPE=image/jpeg:https://aomori-daibouken.com/wp-content/uploads/2025/04/ts_poster_250329-1.jpg
END:VEVENT
BEGIN:VEVENT
DTSTART;TZID=Asia/Tokyo:20250503T000000
DTEND;TZID=Asia/Tokyo:20250504T235959
DTSTAMP:20260420T005328
CREATED:20241227T023633Z
LAST-MODIFIED:20250418T063324Z
UID:15815-1746230400-1746403199@aomori-daibouken.com
SUMMARY:青森市合浦公園 第20回 時の市2025 クラフト
DESCRIPTION:この投稿をInstagramで見る            時の市(@tokinoichi)がシェアした投稿
URL:https://aomori-daibouken.com/event/15815
LOCATION:合浦公園\, 〒030-0902 青森県青森市合浦２丁目１７−５０
CATEGORIES:2025青森ゴールデンウィークイベント GW,5月青森イベント,青森市イベント 今日 明日 今週末 2025,青森市クラフトイベント2025 ハンドメイド,青森市ゴールデンウィークイベント2025
ATTACH;FMTTYPE=image/jpeg:https://aomori-daibouken.com/wp-content/uploads/2024/12/486682265_18271259869258689_4635051163960501756_n-1.jpg
END:VEVENT
BEGIN:VEVENT
DTSTART;TZID=Asia/Tokyo:20250503T000000
DTEND;TZID=Asia/Tokyo:20250503T235959
DTSTAMP:20260420T005328
CREATED:20250427T230912Z
LAST-MODIFIED:20250427T230913Z
UID:22338-1746230400-1746316799@aomori-daibouken.com
SUMMARY:平内町 第11回ひらないの春まつり
DESCRIPTION:https://www.town.hiranai.aomori.jp/soshiki/suisan/gyoumu_annai/kanko_jouhou/1784.html
URL:https://aomori-daibouken.com/event/22338
LOCATION:夜越山スキー場\, 〒039-3321 青森県東津軽郡平内町浜子堀替３６−１
CATEGORIES:2025青森ゴールデンウィークイベント GW,2025青森春祭り・青森県桜まつりイベント,平内町イベント
ATTACH;FMTTYPE=image/jpeg:https://aomori-daibouken.com/wp-content/uploads/2025/04/image-34.jpg
END:VEVENT
BEGIN:VEVENT
DTSTART;TZID=Asia/Tokyo:20250502T000000
DTEND;TZID=Asia/Tokyo:20250502T235959
DTSTAMP:20260420T005328
CREATED:20250517T030001Z
LAST-MODIFIED:20250517T030005Z
UID:22871-1746144000-1746230399@aomori-daibouken.com
SUMMARY:八戸市南類家 LUANA AINA オープン
DESCRIPTION:https://www.instagram.com/luana_aina._.hachinohe
URL:https://aomori-daibouken.com/event/22871
LOCATION:LUANA AINA\, 青森県八戸市南類家4-1-29
CATEGORIES:八戸市イベント 今日 明日 今週末 2025,八戸市開店
ATTACH;FMTTYPE=image/jpeg:https://aomori-daibouken.com/wp-content/uploads/2025/05/492158126_17958225254925073_1244421963327838637_n.jpg
END:VEVENT
BEGIN:VEVENT
DTSTART;TZID=Asia/Tokyo:20250502T000000
DTEND;TZID=Asia/Tokyo:20250502T235959
DTSTAMP:20260420T005328
CREATED:20250417T013625Z
LAST-MODIFIED:20250425T005940Z
UID:22074-1746144000-1746230399@aomori-daibouken.com
SUMMARY:八戸市児童科学館プラネタリウムリニューアルオープン
DESCRIPTION:ゴールデンウイークのイベントのお知らせです。今年の目玉は、何といってもプラネタリウムです。新しくなったプラネタリウムでの美しい星空と迫力のある映像をお楽しみください。たくさんの方にご覧いただくため、投影回数を増やしていますよ。投影時間をご確認の上お越しください。 pic.twitter.com/w9avdP84Sv — 八戸市児童科学館 (@kagakukan_8) April 11\, 2025 \n\n\n\nお子さんと一緒にぜひ！八戸市児童科学館プラネタリウムが令和7年5月にリニューアルオープン✨リニューアルのポイント * 投影恒星数が6\,200個から800万個へ大幅アップ！ * 投影機が小型化され、より見やすく！ * 地球や惑星の地表面が精細に描写され、まるで宇宙旅行をしているみたい！ pic.twitter.com/GD6GHcT5H9 — 立花げんき (@genbondo1008) March 3\, 2025
URL:https://aomori-daibouken.com/event/22074
LOCATION:八戸市視聴覚センター 児童科学館\, 〒031-0001 青森県八戸市類家４丁目３−１
CATEGORIES:2025青森ゴールデンウィークイベント GW,5月青森イベント
ATTACH;FMTTYPE=image/jpeg:https://aomori-daibouken.com/wp-content/uploads/2025/04/GoO_HHebIAA3mAQ.jpg
END:VEVENT
BEGIN:VEVENT
DTSTART;TZID=Asia/Tokyo:20250502T000000
DTEND;TZID=Asia/Tokyo:20250502T235959
DTSTAMP:20260420T005328
CREATED:20250123T082225Z
LAST-MODIFIED:20250331T012004Z
UID:17523-1746144000-1746230399@aomori-daibouken.com
SUMMARY:五所川原市エルム ロフト オープン
DESCRIPTION:青森県内では、運営会社である株式会社イトーヨーカ堂の営業終了に伴い、2024年7月にロフト青森店、同年9月にはロフト弘前店が閉店しました。この度の「五所川原ロフト」の出店は、青森県内への再出店となりゴールデンウイーク中の開店イベントです。 \n\n\n\n\n\n\n\n\n生活雑貨専門届「ロフト」は“新しいモノ、ワクワクするコトが必ず見つかる”雑貨の“旬”を体感できるお店を目指し、コスメ・文具を中心に、キャラクター雑貨・季節のお役立ちアイテムなど、日々の暮らしのニーズに応える“旬”の雑貨をおよそ19\,500種豊富に取りそろえます。 \nhttps://elm-no-machi.jp/shop/loft/
URL:https://aomori-daibouken.com/event/17523
LOCATION:ELM（エルム）\, 〒037-0004 青森県五所川原市唐笠柳藤巻５１７−１
CATEGORIES:2025青森ゴールデンウィークイベント GW,五所川原市イベント,五所川原開店
ATTACH;FMTTYPE=image/jpeg:https://aomori-daibouken.com/wp-content/uploads/2025/01/img.jpg
END:VEVENT
BEGIN:VEVENT
DTSTART;TZID=Asia/Tokyo:20250429T100000
DTEND;TZID=Asia/Tokyo:20250429T190000
DTSTAMP:20260420T005328
CREATED:20250415T025350Z
LAST-MODIFIED:20250415T025352Z
UID:21928-1745920800-1745953200@aomori-daibouken.com
SUMMARY:三戸郡五戸町 ごのへde春まつり2025
DESCRIPTION:■ごのへde春まつり日時：2025年4月29日(火・祝)　10:00～19:00会場：五戸町 小渡平公園 \n\n\n\nフードコーナーにクラフトコーナー、ステージイベントやゲーム、グラウンドゴルフ体験など盛りだくさん！夜にはランタンリリース＆打上花火もお楽しみいただけます五戸ならではのうれしい賞品がたっっくさんのゲームやスタンプラリーも開催 \n\n\n\n詳細はチラシをご覧ください。 \n\n\n\n· · • • • ✤ • • • · · \n\n\n\n「恐竜deだるまさんがころんだ」 \n\n\n\n「恐竜deグラウンドゴルフホールインワン」 \n\n\n\n両ゲームへの参加は有料＆予約制となります。 \n\n\n\n▸▸参加申込先◂◂ \n\n\n\n\n\nLogin • InstagramWelcome back to Instagram. Sign in to check out what your friends\, family & interests have been capt...www.instagram.com\n\n\n\n\n五戸恐竜レース実行委員Instagramアカウント(@gonohe.kyoryu)のDMより \n\n\n\n・氏名 \n\n\n\n・年齢 \n\n\n\n・電話番号 \n\n\n\n・ニックネーム(〇〇〇〇ザウルス) \n\n\n\nをお知らせの上お申し込みください。 \n\n\n\n※恐竜の着ぐるみは各自ご用意をお願いします \n\n\n\n· · • • • ✤ • • • · · \n\n\n\n―――――――――――――――――――― \n\n\n\nSNSも更新中!! \n\n\n\nInstagram　Facebook　X(旧Twitter） \n\n\n\nホームページだけでは伝えきれない情報をお届け♪ \n\n\n\n―――――――――――――――――――― \nhttps://www.gonohe-kankou.jp/topics/topics-3416/
URL:https://aomori-daibouken.com/event/21928
LOCATION:小渡平公園\, 〒039-1702 青森県三戸郡五戸町倉石中市小渡８８−１
CATEGORIES:2025青森ゴールデンウィークイベント GW,2025青森春祭り・青森県桜まつりイベント,4月青森イベント,青森県 イベント 子ども
ATTACH;FMTTYPE=image/jpeg:https://aomori-daibouken.com/wp-content/uploads/2025/04/S__113844235_0.jpg
END:VEVENT
BEGIN:VEVENT
DTSTART;TZID=Asia/Tokyo:20250429T100000
DTEND;TZID=Asia/Tokyo:20250429T153000
DTSTAMP:20260420T005328
CREATED:20250417T012629Z
LAST-MODIFIED:20250417T012630Z
UID:22070-1745920800-1745940600@aomori-daibouken.com
SUMMARY:八戸ポータルミュージアム はっち「copain」
DESCRIPTION:この投稿をInstagramで見る            copain2010(@copain2010)がシェアした投稿
URL:https://aomori-daibouken.com/event/22070
LOCATION:八戸ポータルミュージアム はっち\, 〒031-0032 青森県八戸市三日町１１−１
CATEGORIES:八戸 ハンドメイドイベント2025 クラフト,青森市ゴールデンウィークイベント2025
ATTACH;FMTTYPE=image/jpeg:https://aomori-daibouken.com/wp-content/uploads/2025/04/486588901_18103519573504186_6232713340202202894_n.jpg
END:VEVENT
BEGIN:VEVENT
DTSTART;TZID=Asia/Tokyo:20250429T100000
DTEND;TZID=Asia/Tokyo:20250429T140000
DTSTAMP:20260420T005328
CREATED:20250329T023600Z
LAST-MODIFIED:20250329T023858Z
UID:21439-1745920800-1745935200@aomori-daibouken.com
SUMMARY:八戸公園春まつりフリーマーケット みちのくリサイクル
DESCRIPTION:★フリーマーケットスケジュール★ \n\n\n\n今年度のフリマシーズンがスタートしますよ♪♪ \n\n\n\n4/6（日）8時半～11時半モーニングフリーマーケットinラピア参加料：車出店 2000円 手持ち出店 1500円 \n\n\n\n4/27（日）9時～12時フリーマーケットinイオンスタイル八戸城下参加料：手持ち出店 1800円 \n\n\n\n4/29（火・祝）10時～14時八戸公園春まつりフリーマーケット①参加料：手持ち出店 2000円 \n\n\n\n5/4（日・祝）10時～14時八戸公園春まつりフリーマーケット②参加料：手持ち出店 2000円 \n\n\n\nご参加お待ちしております(º∀º)∫ \n\n\n\n※ お住いが50km以上離れている方は遠距離割引500円が適用されます。(当日住所の分かるものをご提示下さい)※ 高校生の方は学割500円割引が適用されます。※当日参加は、別途500円頂きます。満席の場合は参加出来ないので予約をオススメします。 \n\n\n\nお問合せ、参加予約はこちら↓↓↓まで。連絡先：090-3529-6915 \nhttps://jmty.jp/aomori/eve-free/article-1gcqmu?uiaid=want_eve
URL:https://aomori-daibouken.com/event/21439
LOCATION:八戸公園\, 十日市天摩３３−２\, 八戸市\, 青森県\, 031-0012\, Japan
CATEGORIES:八戸市フリーマーケット2025
END:VEVENT
BEGIN:VEVENT
DTSTART;TZID=Asia/Tokyo:20250429T000000
DTEND;TZID=Asia/Tokyo:20250505T235959
DTSTAMP:20260420T005328
CREATED:20250428T230812Z
LAST-MODIFIED:20250505T171647Z
UID:22332-1745884800-1746489599@aomori-daibouken.com
SUMMARY:五所川原 ロピア チラシ 青森 2025/4/29～5/5
DESCRIPTION:
URL:https://aomori-daibouken.com/event/22332
LOCATION:ELM（エルム）\, 〒037-0004 青森県五所川原市唐笠柳藤巻５１７−１
CATEGORIES:五所川原ロピアチラシ
ATTACH;FMTTYPE=image/jpeg:https://aomori-daibouken.com/wp-content/uploads/2025/04/Point-Blur_20250429_080708.jpg
END:VEVENT
BEGIN:VEVENT
DTSTART;TZID=Asia/Tokyo:20250429T000000
DTEND;TZID=Asia/Tokyo:20250505T235959
DTSTAMP:20260420T005328
CREATED:20250428T230627Z
LAST-MODIFIED:20250505T171818Z
UID:22335-1745884800-1746489599@aomori-daibouken.com
SUMMARY:弘前 ロピア チラシ 青森 2025/4/29～5/5
DESCRIPTION:
URL:https://aomori-daibouken.com/event/22335
LOCATION:CiiNA CiiNA(シーナシーナ) 弘前\, 〒036-8002 青森県弘前市駅前３丁目2−１
CATEGORIES:弘前ロピアチラシ
ATTACH;FMTTYPE=image/jpeg:https://aomori-daibouken.com/wp-content/uploads/2025/04/Point-Blur_20250429_080508.jpg
END:VEVENT
BEGIN:VEVENT
DTSTART;TZID=Asia/Tokyo:20250429T000000
DTEND;TZID=Asia/Tokyo:20250505T235959
DTSTAMP:20260420T005328
CREATED:20250428T230420Z
LAST-MODIFIED:20250505T171916Z
UID:22329-1745884800-1746489599@aomori-daibouken.com
SUMMARY:青森市 ロピア チラシ 2025/4/29～5/5
DESCRIPTION:
URL:https://aomori-daibouken.com/event/22329
LOCATION:CiiNA CiiNA (シーナシーナ) 青森\, 〒030-0843 青森県青森市浜田１丁目１４−１
CATEGORIES:青森市ロピアチラシ
ATTACH;FMTTYPE=image/jpeg:https://aomori-daibouken.com/wp-content/uploads/2025/04/Point-Blur_20250429_080132.jpg
END:VEVENT
BEGIN:VEVENT
DTSTART;TZID=Asia/Tokyo:20250429T000000
DTEND;TZID=Asia/Tokyo:20250429T235959
DTSTAMP:20260420T005328
CREATED:20250517T025426Z
LAST-MODIFIED:20250517T025428Z
UID:22865-1745884800-1745971199@aomori-daibouken.com
SUMMARY:青森市新町 ストライプスデリ プレオープン
DESCRIPTION:この投稿をInstagramで見る            ストライプスデリ　Stripes’Deli(@stripesdeli)がシェアした投稿
URL:https://aomori-daibouken.com/event/22865
LOCATION:ストライプスデリ\, 〒030-0801 青森県青森市新町１丁目３−１７
CATEGORIES:青森市イベント 今日 明日 今週末 2025,青森市開店
ATTACH;FMTTYPE=image/jpeg:https://aomori-daibouken.com/wp-content/uploads/2025/05/492081329_17846752935463131_4741666123428384644_n.jpg
END:VEVENT
BEGIN:VEVENT
DTSTART;TZID=Asia/Tokyo:20250429T000000
DTEND;TZID=Asia/Tokyo:20250429T235959
DTSTAMP:20260420T005328
CREATED:20250425T002135Z
LAST-MODIFIED:20250429T131514Z
UID:22291-1745884800-1745971199@aomori-daibouken.com
SUMMARY:青森市 浅虫海づり公園 4月29日開園
DESCRIPTION:2025年も4月29日(火)から開園となります。毎週火曜日が休園日ですが、祝日の場合は営業し翌日が休園日になるようです。そのため、4月30日は休園日となります。 \n\n\n\n\n\n青森市 浅虫海づり公園 釣れない？レビュー 去年の釣れた魚浅虫海づり公園とは「浅虫海づり公園（あさむしうみづりこうえん）」は、青森県青森市浅虫にある釣り公園です。水深は7mほどあり回遊しやすい絶好のロケーションで、海釣りを気軽に楽しめるスポットとして知られて...aomori-daibouken.com2026.04.16
URL:https://aomori-daibouken.com/event/22291
LOCATION:浅虫海づり公園\, 浅虫海づり公園
CATEGORIES:2025青森ゴールデンウィークイベント GW,4月青森イベント,浅虫,青森市イベント 今日 明日 今週末 2025,青森市イベント子供,青森市ゴールデンウィークイベント2025,青森県 イベント 子ども,青森県イベント 今日 明日 今週末
ATTACH;FMTTYPE=image/jpeg:https://aomori-daibouken.com/wp-content/uploads/2025/04/IMG_20250429_122502.jpg
END:VEVENT
BEGIN:VEVENT
DTSTART;TZID=Asia/Tokyo:20250428T000000
DTEND;TZID=Asia/Tokyo:20250506T235959
DTSTAMP:20260420T005328
CREATED:20250425T004010Z
LAST-MODIFIED:20250428T000639Z
UID:22298-1745798400-1746575999@aomori-daibouken.com
SUMMARY:五所川原市エルム GW祭
DESCRIPTION:https://elm-no-machi.jp/info/#%E3%81%8A%E7%9F%A5%E3%82%89%E3%81%9B
URL:https://aomori-daibouken.com/event/22298
LOCATION:ELM（エルム）\, 〒037-0004 青森県五所川原市唐笠柳藤巻５１７−１
CATEGORIES:2025青森ゴールデンウィークイベント GW,4月青森イベント,5月青森イベント,五所川原市イベント,青森県 イベント 子ども
ATTACH;FMTTYPE=image/jpeg:https://aomori-daibouken.com/wp-content/uploads/2025/04/master.jpg
END:VEVENT
BEGIN:VEVENT
DTSTART;TZID=Asia/Tokyo:20250428T000000
DTEND;TZID=Asia/Tokyo:20250428T235959
DTSTAMP:20260420T005328
CREATED:20250417T235926Z
LAST-MODIFIED:20250417T235927Z
UID:22118-1745798400-1745884799@aomori-daibouken.com
SUMMARY:弘前ロピア 4/28大試食会
DESCRIPTION:この投稿をInstagramで見る            シーナシーナ弘前(@ciina_ciina_hirosaki_official)がシェアした投稿
URL:https://aomori-daibouken.com/event/22118
LOCATION:CiiNA CiiNA(シーナシーナ) 弘前\, 〒036-8002 青森県弘前市駅前３丁目2−１
CATEGORIES:弘前ロピアチラシ
ATTACH;FMTTYPE=image/jpeg:https://aomori-daibouken.com/wp-content/uploads/2025/04/491465180_1117726410111071_6160568438555026494_n.jpg
END:VEVENT
BEGIN:VEVENT
DTSTART;TZID=Asia/Tokyo:20250428T000000
DTEND;TZID=Asia/Tokyo:20250428T235959
DTSTAMP:20260420T005328
CREATED:20250103T012506Z
LAST-MODIFIED:20250424T233109Z
UID:16180-1745798400-1745884799@aomori-daibouken.com
SUMMARY:青森市「ギャルカフェバーDIVA」移転オープン
DESCRIPTION:【移転オープン】ギャルカフェバー「DIVA」でランチ！｜レビュー津軽ギャル社長のなぎちゃんが運営するカレー屋「DIVA」が移転！案内人2025年4月24～27日までプレオープン。4月28日からグランドオープンです。【過去記事】ギャルカフェバー「DIVA」新店舗の場...aomori-daibouken.com2025.11.25\n\n\n\n\n\n\n青森市 津軽ギャルの青森カレー「DIVA」レビュー写真 デカ盛りチャレンジも可能！隠れ家個室ランチ2024年4月7日(日)に青森市古川に、津軽ギャルの青森カレー店「DIVA（ディヴァ）」のがオープン！食べ歩きグルメランチ行ってきました！まま見た目はバチバチのギャルでしたが、お話したらとても丁寧で話...aomori-daibouken.com2025.09.26
URL:https://aomori-daibouken.com/event/16180
LOCATION:ギャルカフェバー DIVA\, 〒030-0801 青森県青森市新町１丁目１１−１３ 小田原ビル 2階
CATEGORIES:2025青森ゴールデンウィークイベント GW,青森市イベント 今日 明日 今週末 2025,青森市開店
ATTACH;FMTTYPE=image/jpeg:https://aomori-daibouken.com/wp-content/uploads/2025/04/アイキャッチ-2025-04-24T211639.738.jpg
END:VEVENT
BEGIN:VEVENT
DTSTART;TZID=Asia/Tokyo:20250427T090000
DTEND;TZID=Asia/Tokyo:20250427T120000
DTSTAMP:20260420T005328
CREATED:20250329T022944Z
LAST-MODIFIED:20250329T023831Z
UID:21436-1745744400-1745755200@aomori-daibouken.com
SUMMARY:八戸市 フリーマーケットinイオンスタイル八戸城下 みちのくリサイクル
DESCRIPTION:★フリーマーケットスケジュール★ \n\n\n\n今年度のフリマシーズンがスタートしますよ♪♪ \n\n\n\n4/6（日）8時半～11時半モーニングフリーマーケットinラピア参加料：車出店 2000円 手持ち出店 1500円 \n\n\n\n4/27（日）9時～12時フリーマーケットinイオンスタイル八戸城下参加料：手持ち出店 1800円 \n\n\n\n4/29（火・祝）10時～14時八戸公園春まつりフリーマーケット①参加料：手持ち出店 2000円 \n\n\n\n5/4（日・祝）10時～14時八戸公園春まつりフリーマーケット②参加料：手持ち出店 2000円 \n\n\n\nご参加お待ちしております(º∀º)∫ \n\n\n\n※ お住いが50km以上離れている方は遠距離割引500円が適用されます。(当日住所の分かるものをご提示下さい)※ 高校生の方は学割500円割引が適用されます。※当日参加は、別途500円頂きます。満席の場合は参加出来ないので予約をオススメします。 \n\n\n\nお問合せ、参加予約はこちら↓↓↓まで。連絡先：090-3529-6915 \nhttps://jmty.jp/aomori/eve-free/article-1gcqmu?uiaid=want_eve
URL:https://aomori-daibouken.com/event/21436
LOCATION:イオンスタイル八戸城下\, 〒031-0072 青森県八戸市城下２丁目１１−４５
CATEGORIES:八戸市フリーマーケット2025
END:VEVENT
BEGIN:VEVENT
DTSTART;TZID=Asia/Tokyo:20250427T000000
DTEND;TZID=Asia/Tokyo:20250506T235959
DTSTAMP:20260420T005328
CREATED:20250418T060136Z
LAST-MODIFIED:20250425T005901Z
UID:22191-1745712000-1746575999@aomori-daibouken.com
SUMMARY:八戸市「はっちのゴールデンウィーク2025」
DESCRIPTION:まちなかキッチンカーフェス\n\n\n\n市内外の人気のキッチンカー10台がはっちに大集合。フードやスイーツ、ドリンクなどさまざまなジャンルのキッチンカーが集まります。館内のショップも出店！ \n\n\n\n\n日時：2025/5/3（土）・5/4（日）10:00-15:00\n\n\n\n場所：はっち１階全域、マチニワ前\n\n\n\n\n出店キッチンカー\n\n\n\nAGERUフライドチキン  \n\n\n\nUKAの実おにぎり  \n\n\n\nキッチンばくばく焼き（丸形お好み焼）  \n\n\n\nQuatre Jijo蕎麦粉のガレット  \n\n\n\n湖白家牛串・焼きそば(5/3)、ケバブ(5/4)  \n\n\n\nKONBIREEプッシュケーキ  \n\n\n\nHAUOLI CAFEハワイアンフード  \n\n\n\n∞PANあげ焼きパン  \n\n\n\nPizza217ナポリピッツァ  \n\n\n\nméli-mélo生ハム、ローストビーフ  \n\n\n\n〈はっち館内ショップも出店〉 \n\n\n\n○フード地酒カフェはちのへ：生ビールなどvery berry+：いちごのスイーツ \n\n\n\n○ワークショップ（一部販売あり）おもちゃハウスくれよん、工房「澄」、ひつじの夢工房、モザイクスタイル、和布工房aya \n\n\n\nCafe ＆ Bal Roastでは自家焙煎珈琲やローストビーフ、KANEIRI Museum Shopでは県内のシードルやアイスを販売するほか、CHEESE DAYではイベントを開催！ \n\n\n\nベヒシュタインピアノをシアターで弾いてみよう！〈要予約〉\n\n\n\n普段なかなか弾くことのできない世界三大ピアノの「ベヒシュタイン」をシアター空間で思いっきり弾いてみませんか。ピアノの練習や、ピアノを使用した合唱・合奏なども練習にもお使いいただけます。ベヒシュタインの音色をお楽しみください。 \n\n\n\n\n日時：2025/4/27（日）・4/29（火・祝）9:30〜19:00（1枠30分間、お一人様２枠まで予約可）\n\n\n\n場所：２階 シアター２\n\n\n\n予約開始日：3/20（木・祝）\n\n\n\n\nご予約はこちら  \n\n\n\n\n\n\n\nダンボール迷路＆つみきで遊ぼう\n\n\n\nダンボール迷路と積み木コーナーで自由に遊ぼう！ \n\n\n\n\n日時：2025/5/3（土）〜5/6（火・祝）10:00-16:00\n\n\n\n場所：マチニワ\n\n\n\n\n\n\n\n\n\n\n\n\nアンブレラデコレーションワークショップ\n\n\n\n６月にはっちの中庭に展示するアンブレラスカイの傘をデコレーションします。拾得物の傘を活用して中庭を彩ります。 \n\n\n\n\n日時：2025/5/3（土）、5/4（日）、5/5（月・祝）、5/6（火・振）10:00〜15:00　※なくなり次第終了\n\n\n\n場所：マチニワ（5/5のみはっち１階はっちひろば）\n\n\n\n\n\n\n\n\n\n\n\n\nこいのぼり展示\n\n\n\nマチニワにこどもの日にあわせて、こいのぼりを展示します！ \n\n\n\n\n日時：2025/4/19（土）～5/7（火）\n\n\n\n場所：マチニワ\n\n\n\n\n\n\n\n\nこどもはっち関連企画\n\n\n\nスペシャル工作デー\n\n\n\n\n日程：2025/4/25（金）〜4/27（日）、4/29（火・祝）、5/2（金）〜5/5（月・祝）\n\n\n\n場所：４階こどもはっち\n\n\n\n内容：４月はこいのぼり、５月は簡単おもちゃを作ります。\n\n\n\n\nファミリー運動会〈要申込〉\n\n\n\n\n日時：2025/5/6（火・休）10:30〜12:00\n\n\n\n場所：１階はっちひろば\n\n\n\n内容：ハイハイレースや親子競技、パパママ競技など、全員参加の運動会です。\n\n\n\n\nこどもはっち企画の詳細はこちら  \nhttps://hacchi.jp/programs2/season/2025/02.html
URL:https://aomori-daibouken.com/event/22191
LOCATION:八戸ポータルミュージアム はっち\, 〒031-0032 青森県八戸市三日町１１−１
CATEGORIES:2025青森ゴールデンウィークイベント GW,4月青森イベント,5月青森イベント
ATTACH;FMTTYPE=image/jpeg:https://aomori-daibouken.com/wp-content/uploads/2025/04/season-ogp-20250411.jpg
END:VEVENT
BEGIN:VEVENT
DTSTART;TZID=Asia/Tokyo:20250427T000000
DTEND;TZID=Asia/Tokyo:20250427T235959
DTSTAMP:20260420T005328
CREATED:20250418T012006Z
LAST-MODIFIED:20250418T012105Z
UID:22140-1745712000-1745798399@aomori-daibouken.com
SUMMARY:藤崎町 北常盤駅前公園「ときわ桜を観る会」
DESCRIPTION:https://r.goope.jp/fujisakimachi/info/6214476
URL:https://aomori-daibouken.com/event/22140
LOCATION:北常盤駅前公園\, 北常盤駅前公園
CATEGORIES:2025青森春祭り・青森県桜まつりイベント
ATTACH;FMTTYPE=image/jpeg:https://aomori-daibouken.com/wp-content/uploads/2025/04/250408083715-67f461ab6d37e.jpg
END:VEVENT
BEGIN:VEVENT
DTSTART;TZID=Asia/Tokyo:20250427T000000
DTEND;TZID=Asia/Tokyo:20250427T235959
DTSTAMP:20260420T005328
CREATED:20250410T023548Z
LAST-MODIFIED:20250426T074149Z
UID:21784-1745712000-1745798399@aomori-daibouken.com
SUMMARY:青森市 第18回AOMORI春フェスティバル2025 ねぶた×YOSAKOIのコラボ 新町イベント
DESCRIPTION:ねぶたとよさこいベリーダンスのコラボの他にも様々なイベントが開催されます。 \n\n\n\n\nグルメコーナー\n\n\n\n棒パン\n\n\n\nうとう君ふわふわランド\n\n\n\nあおもりプレーパーク\n\n\n\nRingRing 無料子ども服おさがり会\n\n\n\n津軽三味線演奏\n\n\n\nマルシェ\n\n\n\nクラフト\n\n\n\nりんご娘\n\n\n\nジョナゴールド\n\n\n\nGMU\n\n\n\n\n\n\n\n\n\n\n\n\n\n\n\n\n\n\n\n\n\n\n\n\n\n\n\n\n\n\n\n\n\n2025.02.06 \n\n\n\nAOMORI春フェスティバルをお手伝いいただけるボランティアを募集します！ボランティアとしてご協力いただける方は、以下のフォームにご入力・ご回答をお願いいたします。ボランティア募集要項　を読んでからご回答ください。 \n\n\n\n■ボランティア募集要項（PDFファイル：90KB） \n\n\n\n申込用Googleフォームはこちら \n\n\n\n【申込締め切り：2025年4月13日（日）】 \n\n\n\n【お問い合わせ先】AOMORI春フェスティバル実行委員会株式会社協同内　担当：相川☎ 017-777-4191 E-mail：aikawa@kyodo-ad.com \nhttp://www.harufes.com/\n\n\n\n        この投稿をInstagramで見る            フルグルマーケット｜ 青森市｜ お渡し会｜ ワークショップ｜ 古川グルメ商店街(@furuguruaomori)がシェアした投稿
URL:https://aomori-daibouken.com/event/21784
LOCATION:新町\, 青森県青森市新町
CATEGORIES:2025青森ゴールデンウィークイベント GW,2025青森春祭り・青森県桜まつりイベント,4月青森イベント,ねぶた祭り2025,青森市イベント 今日 明日 今週末 2025,青森市ゴールデンウィークイベント2025,青森市祭り
ATTACH;FMTTYPE=image/jpeg:https://aomori-daibouken.com/wp-content/uploads/2025/04/image-15.jpg
END:VEVENT
END:VCALENDAR