BEGIN:VCALENDAR
VERSION:2.0
PRODID:-//青森大冒険-イベントカレンダー情報とブログ- - ECPv6.15.20//NONSGML v1.0//EN
CALSCALE:GREGORIAN
METHOD:PUBLISH
X-WR-CALNAME:青森大冒険-イベントカレンダー情報とブログ-
X-ORIGINAL-URL:https://aomori-daibouken.com
X-WR-CALDESC:青森大冒険-イベントカレンダー情報とブログ- のイベント
REFRESH-INTERVAL;VALUE=DURATION:PT1H
X-Robots-Tag:noindex
X-PUBLISHED-TTL:PT1H
BEGIN:VTIMEZONE
TZID:Asia/Tokyo
BEGIN:STANDARD
TZOFFSETFROM:+0900
TZOFFSETTO:+0900
TZNAME:JST
DTSTART:20230101T000000
END:STANDARD
END:VTIMEZONE
BEGIN:VEVENT
DTSTART;TZID=Asia/Tokyo:20241225T173000
DTEND;TZID=Asia/Tokyo:20241225T220000
DTSTAMP:20260423T082744
CREATED:20241126T225903Z
LAST-MODIFIED:20241214T033917Z
UID:12942-1735147800-1735164000@aomori-daibouken.com
SUMMARY:八戸市内→階上町→本店 アルパジョンサンタ号 フィナーレ
DESCRIPTION:https://x.com/Arpajon_Xmas\n\n\n\n♬クリスマスが今年もやってくる〜♬♫サンタ号が今年もやってくるよー♫ pic.twitter.com/QwQIJeQZJO — みの (@6O7gg) December 12\, 2024 \n\n\n\n\\⭐️『Xmas event 2024 in 八戸市』⭐️// \\⭐フィナーレ&ラストラン⭐️//日時:12/25 17:30-20:00場所:アルパジョン 下長本店前 主催:アルパジョン 全てのイベントを終えたあとアルパジョン 下長本店前へサンタ号、イエロークリスマスジャンボサンタ号の3台が集合します🚍⭐️… pic.twitter.com/4qyKFy7oZb — 神出鬼没🌕アルパジョンサンタ号🤶⭐️🚌=33 (@Arpajon_Xmas) November 26\, 2024
URL:https://aomori-daibouken.com/event/12942
LOCATION:ケーキハウスアルパジョン 下長店\, 〒039-1164 青森県八戸市下長２丁目１−２５
CATEGORIES:アルパジョンサンタ号 運行予定,八戸イルミネーション2025,八戸市イベント 今日 明日 今週末 2025,青森 クリスマス イベント,青森イルミネーション・花火,青森県 イベント 子ども
ATTACH;FMTTYPE=image/png:https://aomori-daibouken.com/wp-content/uploads/2024/11/image-14.png
END:VEVENT
BEGIN:VEVENT
DTSTART;TZID=Asia/Tokyo:20241223T000000
DTEND;TZID=Asia/Tokyo:20241223T235959
DTSTAMP:20260423T082744
CREATED:20241126T230248Z
LAST-MODIFIED:20241201T014138Z
UID:12946-1734912000-1734998399@aomori-daibouken.com
SUMMARY:八戸市内→本店→八戸よこまちストア新井田店 アルパジョンサンタ号
DESCRIPTION:https://x.com/Arpajon_Xmas\n\n\n\n\\⭐️『Xmas event 2024 in 八戸市』⭐️//日時:12/23 17:30-18:30場所:よこまちストア新井田店 主催:株式会社よこまち株式会社よこまち様今年もお呼びいただきありがとうございます！大盛況の毎年のイベントとなっております🤶⭐️… pic.twitter.com/09XkZ0KaTL — 神出鬼没🌕アルパジョンサンタ号🤶⭐️🚌=33 (@Arpajon_Xmas) November 26\, 2024
URL:https://aomori-daibouken.com/event/12946
LOCATION:よこまちストア新井田店\, 〒031-0816 青森県八戸市新井田西３丁目９−５
CATEGORIES:アルパジョンサンタ号 運行予定,八戸イルミネーション2025,八戸市イベント 今日 明日 今週末 2025,青森 クリスマス イベント,青森イルミネーション・花火,青森県 イベント 子ども
ATTACH;FMTTYPE=image/png:https://aomori-daibouken.com/wp-content/uploads/2024/11/image-11.png
END:VEVENT
BEGIN:VEVENT
DTSTART;TZID=Asia/Tokyo:20241222T110000
DTEND;TZID=Asia/Tokyo:20241222T150000
DTSTAMP:20260423T082744
CREATED:20241128T005411Z
LAST-MODIFIED:20241128T005412Z
UID:13004-1734865200-1734879600@aomori-daibouken.com
SUMMARY:弘前市ヒロロ ChristmasFestival
DESCRIPTION:この投稿をInstagramで見る            弘前市民文化交流館指定管理者@ヒロロ３階(@hiroro_nigiwai)がシェアした投稿
URL:https://aomori-daibouken.com/event/13004
LOCATION:ヒロロ(HIRORO)\, 〒036-8003 青森県弘前市駅前町９−２０
CATEGORIES:弘前市イベント 今日 明日 土手町 2025,弘前市祭り,青森 クリスマス イベント,青森県クラフトイベント 2025 マルシェ
ATTACH;FMTTYPE=image/jpeg:https://aomori-daibouken.com/wp-content/uploads/2024/11/スクリーンショット-2024-11-28-095311.jpg
END:VEVENT
BEGIN:VEVENT
DTSTART;TZID=Asia/Tokyo:20241222T100000
DTEND;TZID=Asia/Tokyo:20241222T150000
DTSTAMP:20260423T082744
CREATED:20241222T012519Z
LAST-MODIFIED:20250108T060114Z
UID:15249-1734861600-1734879600@aomori-daibouken.com
SUMMARY:八戸市 ツインプラザ桜ヶ丘店 クリスマスマルシェ
DESCRIPTION:ワークショップ、キッチンカーが出店する楽しいイベントです \n\n\n\nカラフルでポップな手作り雑貨やアクセサリー、 \n\n\n\nプロのデザイナーさんが手がける帽子や、珍しい生地・はぎれの販売もあります！ \n\n\n\n紙のお花のアレンジメントワークショップも体験できちゃう☆ \n\n\n\n八戸の有名なおいしいクレープ屋さん、カレーの販売もお楽しみに \n\n\n\nもちろんご予約不要でお楽しみいただけます♪ \n\n\n\nまたお車の査定やアンケートでもらえる300円クーポンはマルシェでお使いいただけます(^^)/ \n\n\n\nドラレコプレゼントも継続中です！ \n\n\n\nお子様にはプレゼントもご用意しております！ \n\n\n\n来て見て食べて…大人も子供もわくわくするイベントとなっております \n\n\n\n日曜日は桜ヶ丘店で一足早いクリスマスを楽しみましょう☆ \n\n\n\n\nhttps://aomori-toyotagroup.jp/staff_blog/1695?shop_name=%E3%83%84%E3%82%A4%E3%83%B3%E3%83%97%E3%83%A9%E3%82%B6%20%E6%A1%9C%E3%83%B6%E4%B8%98
URL:https://aomori-daibouken.com/event/15249
LOCATION:トヨタツインプラザ桜ヶ丘（青森トヨタ・ネッツトヨタ青森）\, 〒031-0833 青森県八戸市大久保小久保尻１７−１６
CATEGORIES:八戸市イベント 今日 明日 今週末 2025,八戸市キッチンカーイベント2025,八戸市クーポン,青森 クリスマス イベント,青森マルシェ2025,青森ワークショップ,青森県 イベント 子ども
ATTACH;FMTTYPE=image/jpeg:https://aomori-daibouken.com/wp-content/uploads/2024/12/12.jpg
END:VEVENT
BEGIN:VEVENT
DTSTART;TZID=Asia/Tokyo:20241222T000000
DTEND;TZID=Asia/Tokyo:20241222T235959
DTSTAMP:20260423T082744
CREATED:20241219T082444Z
LAST-MODIFIED:20250303T011235Z
UID:14972-1734825600-1734911999@aomori-daibouken.com
SUMMARY:八戸市八食センター クリスマスイベント
DESCRIPTION:12/22(日)・12/25(日)はクリスマスイベントを開催します!22日にはバルーン作りにキーワードラリー、クリスマス当日の25日はクリスマススペシャルライブやサンタの姿をしたタベラとの記念撮影も！その他にも楽しいイベント目白押しなので当日は是非八食センターへ遊びに来てください！#青森　#八戸市 pic.twitter.com/hObTiVmnMJ — 八食センター (@849center) December 18\, 2024
URL:https://aomori-daibouken.com/event/14972
LOCATION:八食センター\, 〒039-1161 青森県八戸市河原木神才２２−２
CATEGORIES:八戸市イベント 今日 明日 今週末 2025,八食センターイベント,青森 クリスマス イベント,青森県 イベント 子ども
ATTACH;FMTTYPE=image/jpeg:https://aomori-daibouken.com/wp-content/uploads/2024/12/GfDdOPEaUAAQfdy.jpg
END:VEVENT
BEGIN:VEVENT
DTSTART;TZID=Asia/Tokyo:20241222T000000
DTEND;TZID=Asia/Tokyo:20241222T235959
DTSTAMP:20260423T082744
CREATED:20241216T043151Z
LAST-MODIFIED:20241216T043152Z
UID:14202-1734825600-1734911999@aomori-daibouken.com
SUMMARY:青森市サンロード青森 クリスマス撮影会
DESCRIPTION:[日時]12/22（日） ①11:00～ ②13:00～　③14:30～ ④16:00～[会場]2Ｆ LASUD Vin前 特設会場[対象レシート]サンロード青森全館(イオン青森店含む)※対象外店舗がございます。詳しくは館内ポスターをご覧ください。 \n\n\n\nサンロード青森全館での当日のお買上げレシート税込１\,000円以上のご提示で、サンタさんと一緒に記念撮影ができるよ！撮影後、お子様にはサンタさんからプレゼントもあります！各回30名様限定！！ぜひサンタさんに会いに来てね！※サンタさんからのプレゼントはお一人様1個までです。 \nhttps://www.sunroad.or.jp/santasan2024/
URL:https://aomori-daibouken.com/event/14202
LOCATION:サンロード青森\, 〒030-0845 青森県青森市緑３丁目９−２
CATEGORIES:サンロードイベント,青森市クリスマスイベント,青森県 イベント 子ども
ATTACH;FMTTYPE=image/jpeg:https://aomori-daibouken.com/wp-content/uploads/2024/12/2024santasan.jpg
END:VEVENT
BEGIN:VEVENT
DTSTART;TZID=Asia/Tokyo:20241222T000000
DTEND;TZID=Asia/Tokyo:20241222T235959
DTSTAMP:20260423T082744
CREATED:20241209T012308Z
LAST-MODIFIED:20250303T020128Z
UID:13799-1734825600-1734911999@aomori-daibouken.com
SUMMARY:青森市 あさむしクリスマスマルシェイベント フリーマーケット・クラフト 道の駅ゆ～さ浅虫
DESCRIPTION:青森県青森市道の駅ゆ～さ浅虫にて「クリスマスマルシェ」のイベントが開催されます。 \n\n\n\nクラフトやフリーマーケットの出店者も募集しています。 \n\n\n\nクラフトで普段から活動されている方は出店料1000円出店場所：4階会議室の（45cm×180㎝のテーブル2台）のスペース募集ブース：3～5ブース \n\n\n\n\n\n青森市浅虫水族館 イルカパフォーマンスクリスマスver.大人気のイルカパフォーマンスをクリスマスの特別バージョンで開催いたします。サンタさんとイルカたちが協力してクリスマスツリーを完成させます。一緒に楽しいクリスマスを迎えましょう！【開催期間】令和6年 1...aomori-daibouken.com
URL:https://aomori-daibouken.com/event/13799
LOCATION:道の駅ゆ～さ浅虫\, 〒039-3501 青森県青森市浅虫蛍谷３４１−１９\, 青森市\, 青森県\, 039-3501
CATEGORIES:★青森県メインイベント,浅虫,青森マルシェ2025,青森市クラフトイベント2025 ハンドメイド,青森市クリスマスイベント,青森市クーポン・お得情報,青森市フリーマーケット,青森県クラフトイベント 2025 マルシェ,青森県クラフトハンドメイドイベント2025 募集,青森県グルメイベント,青森県道の駅イベント
ATTACH;FMTTYPE=image/jpeg:https://aomori-daibouken.com/wp-content/uploads/2024/12/462552411_2496071947254244_1554742805799548908_n.jpg
END:VEVENT
BEGIN:VEVENT
DTSTART;TZID=Asia/Tokyo:20241222T000000
DTEND;TZID=Asia/Tokyo:20241222T235959
DTSTAMP:20260423T082744
CREATED:20241121T131650Z
LAST-MODIFIED:20241216T132134Z
UID:12699-1734825600-1734911999@aomori-daibouken.com
SUMMARY:十和田市 ハッピークリスマスin駒っこランド
DESCRIPTION:https://komakkoland.jp/ibent/r6/christmas.html
URL:https://aomori-daibouken.com/event/12699
LOCATION:十和田市馬事公苑 (駒っこランド)\, 〒034-0106 青森県十和田市深持梅山１−１
CATEGORIES:★青森県メインイベント,十和田市イベント,十和田市キッチンカーイベント2025,青森 クリスマス イベント,青森県 イベント 子ども
ATTACH;FMTTYPE=image/jpeg:https://aomori-daibouken.com/wp-content/uploads/2024/11/christmas-scaled.jpg
END:VEVENT
BEGIN:VEVENT
DTSTART;TZID=Asia/Tokyo:20241222T000000
DTEND;TZID=Asia/Tokyo:20241222T235959
DTSTAMP:20260423T082744
CREATED:20241118T120011Z
LAST-MODIFIED:20250111T002421Z
UID:12569-1734825600-1734911999@aomori-daibouken.com
SUMMARY:クリスマスマルシェ2024 むつ市田村商事(株)マッハステーション キッチンカーイベント
DESCRIPTION:Christmas Market \n\n\n\n\n日時: 12月22日（日）9:00〜16:00\n\n\n\n場所: タムラマッハステーションむつSS\n\n\n\n\n出店車 \n\n\n\n\n湖白家（たこ焼き、ベビーカステラ）\n\n\n\n湖白ケバブ（ケバブサンド）\n\n\n\n589kitchen（牛串、焼きそば）\n\n\n\nたこ焼きやきやき裕次郎（九条ネギたこ焼き）\n\n\n\nFREE（キーマカレー、トルティーヤ）\n\n\n\nおがる商店（魚群ラーメン、唐揚げ）\n\n\n\nmeli-melo（ハモンセラーノ、鞠姫牛ローストビーフ）\n\n\n\nいもだJ（焼き芋だJ）\n\n\n\nmuskaan（富士子ちゃんのチャパティロール、ラッシー）\n\n\n\nTKフーズ（肉巻きおにぎり、チュロス）\n\n\n\nCoCo壱番屋（みんな大好きカレーライス）\n\n\n\nかしわ家（唐揚げ、チョコバナナ）\n\n\n\n1.4CAFE（ハンドカットフライズ、ドリンク）\n\n\n\nスパイスの木（カレーうどん、パイコー）\n\n\n\nPizza Kariya（大人ピッツァ）\n\n\n\nわんつカー（あげもち、バターチキンカレー）\n\n\n\nたこ焼きSHIMO（たこ焼き、お好み焼き）\n\n\n\nSevens Crepe（可愛いすぎるクリスマス限定クレープ）\n\n\n\n炭火焼鳥トモダチ（チキンスティック）\n\n\n\n\n様々な種類の食べ物を楽しめるイベントです。たこ焼きだけでも複数のお店が出店していたり、カレーや肉料理、デザートなど、バラエティ豊かなラインナップです。 \nhttps://www.instagram.com/simokita_tamura_sns/\n\n\n\n\n\n2025青森県キッチンカーイベント 一覧 八戸 弘前 五所川原 出店場所青森県のキッチンカー・屋台イベント情報をまとめています。aomori-daibouken.com
URL:https://aomori-daibouken.com/event/12569
LOCATION:ENEOS マッハステーションむつ SS (田村商事)\, 〒035-0021 青森県むつ市田名部前田５−１
CATEGORIES:むつ市イベント,むつ市キッチンカーイベント2025,青森 クリスマス イベント,青森マルシェ2025
ATTACH;FMTTYPE=image/jpeg:https://aomori-daibouken.com/wp-content/uploads/2024/11/スクリーンショット-2024-12-16-162957.jpg
END:VEVENT
BEGIN:VEVENT
DTSTART;TZID=Asia/Tokyo:20241221T150000
DTEND;TZID=Asia/Tokyo:20241221T200000
DTSTAMP:20260423T082744
CREATED:20241128T010016Z
LAST-MODIFIED:20250211T082035Z
UID:13009-1734793200-1734811200@aomori-daibouken.com
SUMMARY:青森市新町キューブ アートな人たちのクリスマスマーケット
DESCRIPTION:大切なあの人へ、がんばった自分へ、クリスマスプレゼントを探しに来ませんかクリスマスにまつわる朗読や弾き語り、フード＆ドリンクなど盛りだくさんです●日時　2024.12.21（土）15:00〜20:00●会場　新町キューブグランパレ●入場・観覧無料※予約不要、入場および展示・ステージ観覧は無料です。　美術作品・グッズ、飲食物を販売しますので、必要な方は購入できます。 \n\n\n\n○A-seeds美術Shop_出店者・KOYA（作品、ポストカード）・山谷悠地（墨絵原画、オリジナルグッズなど）・mesomeso（ヒンメリ展示販売、実演、ワークショップ）・ハクセキレイ（美術作品、アートグッズなど）・「あおもり版画＆PRINT」新しい実行委員会（図録、トートバッグ、ポストカードなど）○青森アート×りんご箱材アートフレーム「リボワット」_出展者エド・キーツ／木戸永ニ／工藤友哉／KOYA／小林夏奈子／サイトウパピコ／さきおりCHICKA／佐藤雅世／豊川茅／ハクセキレイ／松木俊輔／間山マミー／三つ豆／山谷悠地／岾谷知樹 \n\n\n\n○ステージ15:30〜16:30　声優劇団 津軽カタリスト 青森支部（ドラマリーディング）18:30〜19:00　いっとく（ピアノ弾き語り）開催中ときどき　アーティスト・トーク（進行：あおもりアーツカウンシル会長 佐藤広野）○フード＆ドリンク・NOPPO to COFFEE：コーヒーなど・Socket＆3103：ホットサンド、シフォンケーキ、クッキー・she/shock/cheese：クリスマスチーズプラトー、クリスマスに食べたいチーズ各種、ワイン各種（赤/白/泡/ノンアル） \nhttps://aomori-artscouncil.jp/2024/11/21/12291
URL:https://aomori-daibouken.com/event/13009
LOCATION:新町キューブグランパレ\, 〒030-0801 青森県青森市新町２丁目６−２５
CATEGORIES:アスパムイベント 今日 青森市 2025 新町,青森 クリスマス イベント,青森ワークショップ,青森市イベント 今日 明日 今週末 2025,青森市クラフトイベント2025 ハンドメイド,青森市クリスマスイベント,青森県クラフトイベント 2025 マルシェ,青森県グルメイベント
ATTACH;FMTTYPE=image/jpeg:https://aomori-daibouken.com/wp-content/uploads/2024/11/image-13.jpg
END:VEVENT
BEGIN:VEVENT
DTSTART;TZID=Asia/Tokyo:20241221T000000
DTEND;TZID=Asia/Tokyo:20241222T235959
DTSTAMP:20260423T082744
CREATED:20241220T090657Z
LAST-MODIFIED:20241220T090658Z
UID:15170-1734739200-1734911999@aomori-daibouken.com
SUMMARY:十和田市 ツインプラザ十和田店 クリスマスマーケット
DESCRIPTION:この投稿をInstagramで見る            ツインプラザ十和田店(公式)(@twinplaza_towada)がシェアした投稿
URL:https://aomori-daibouken.com/event/15170
LOCATION:トヨタツインプラザ十和田（青森トヨタ・ネッツトヨタ青森）\, 〒034-0107 青森県十和田市洞内井戸頭１４４−１３１
CATEGORIES:十和田市イベント,十和田市キッチンカーイベント2025,青森 クリスマス イベント,青森県 イベント 子ども,青森県クラフトイベント 2025 マルシェ
ATTACH;FMTTYPE=image/jpeg:https://aomori-daibouken.com/wp-content/uploads/2024/12/スクリーンショット-2024-12-20-180556.jpg
END:VEVENT
BEGIN:VEVENT
DTSTART;TZID=Asia/Tokyo:20241221T000000
DTEND;TZID=Asia/Tokyo:20241222T235959
DTSTAMP:20260423T082744
CREATED:20241219T075134Z
LAST-MODIFIED:20241219T075135Z
UID:14967-1734739200-1734911999@aomori-daibouken.com
SUMMARY:八戸市 C-pla八戸ラピア店 クリスマススペシャルイベント
DESCRIPTION:🎄イベント告知☃️12/21(土)22(日)の2日間クリスマススペシャルイベントを開催いたします🎅💚店内商品2個ご購入でお菓子の詰め合わせをプレゼントいたします🎁皆様のご来店をお待ちしております🍬✨#シープラ #カプセルトイ#ラピア pic.twitter.com/d9A0v13LFG — #C-pla八戸ラピア店【公式】 (@Cplarapia223) December 19\, 2024
URL:https://aomori-daibouken.com/event/14967
LOCATION:八戸ショッピングセンターラピア\, 〒031-0801 青森県八戸市江陽２丁目１４−１
CATEGORIES:八戸市イベント 今日 明日 今週末 2025,八戸市クーポン,青森 クリスマス イベント
ATTACH;FMTTYPE=image/jpeg:https://aomori-daibouken.com/wp-content/uploads/2024/12/スクリーンショット-2024-12-19-165046.jpg
END:VEVENT
BEGIN:VEVENT
DTSTART;TZID=Asia/Tokyo:20241221T000000
DTEND;TZID=Asia/Tokyo:20241221T235959
DTSTAMP:20260423T082744
CREATED:20241202T044636Z
LAST-MODIFIED:20241202T044637Z
UID:13421-1734739200-1734825599@aomori-daibouken.com
SUMMARY:七戸町 Christmas Market & Sauna
DESCRIPTION:七戸クリスマスマーケット&サウナ【サウナ最新情報】📣①五戸町からサウナトレーラー ②むつ市からテントサウナ ③浪岡からテントサウナ　④青森市からサウナカーと⑤テントサウナ がやってきます✨5つのサウナたっぷり2時間入り放題3700円！20-45歳の独身の方はゆるりサウナ婚活2200円がおすすめ！ pic.twitter.com/r7HbYDwN8L — みき🍎青森ヒバサウナカー🚚 (@atsumareaoimori) November 23\, 2024 \n\n\n\n七戸クリスマスマーケット&サウナ🎄🎅✨クリスマスマーケット会場のレイアウトイメージです。出店情報は随時更新いたします🙇‍♀️ pic.twitter.com/VbaEcCeeTh — 七戸クリスマスマーケット&サウナ(12/21) in東八甲田ローズカントリー (@aomori_saunafes) November 25\, 2024
URL:https://aomori-daibouken.com/event/13421
LOCATION:東八甲田ローズカントリー\, 〒039-2568 青森県上北郡七戸町山舘２５−１
CATEGORIES:★青森県メインイベント,七戸イベント,青森 クリスマス イベント,青森県キッチンカーイベント2025,青森県クラフトイベント 2025 マルシェ
ATTACH;FMTTYPE=image/jpeg:https://aomori-daibouken.com/wp-content/uploads/2024/12/GdB2WLpaQAA6q_I.jpg
END:VEVENT
BEGIN:VEVENT
DTSTART;TZID=Asia/Tokyo:20241220T170000
DTEND;TZID=Asia/Tokyo:20241220T210000
DTSTAMP:20260423T082744
CREATED:20241219T065133Z
LAST-MODIFIED:20241219T065135Z
UID:14960-1734714000-1734728400@aomori-daibouken.com
SUMMARY:青森市 クリスマスナイトプール（マエダアリーナ50ｍプール）
DESCRIPTION:みんなでヨアソビ！ナイトプール \n\n\n\n家族・カップル・友人でバレーボールやすべり台などのアトラクションで遊んだり、フォトスポットで写真撮影をしたりこの冬もナイトプールで素敵な思い出を作りませんか？ \n\n\n\nイベント内容\n\n\n\nお友達やご家族、カップルなどで楽しめるエリアを様々設けております。 \n\n\n\n電飾やBGMでの演出\n\n\n\nクリスマス仕様のプールをお楽しみください。 \n\n\n\n中型すべり台（NEW）\n\n\n\n高さ3ｍのすべり台からプールにダイブしよう！ \n\n\n\n アトラクションチケット1枚につき1回のみ \n\n\n\n自由に遊べるエリア\n\n\n\n6レーン分の広いスペースで自由に遊べる！普段は持ち込むことができない浮き輪を使って遊べるよ  \n\n\n\n 80cm以内のドーナツ型の浮き輪のみ使用できます。 \n\n\n\n幼児プールエリア\n\n\n\n浅い水深で小さいお子様も気軽に遊べるよ！ \n\n\n\nポイポイバトラー（NEW）\n\n\n\n頭に付けたポイを狙って水鉄砲でうち抜け！ \n\n\n\n アトラクションチケット1枚につき1人3分間の時間制限あり \n\n\n\n水上バレーボール\n\n\n\nバレーボール用ネットを設置したエリアでみんなで遊ぼう！ \n\n\n\n ボール貸出あり \n\n\n\n アトラクションチケット2枚で1面1グループ5分の時間制限あり \n\n\n\nフォトスポットエリア\n\n\n\n唯一、写真撮影ができるエリア。光るボールなどの可愛い浮き輪たちと写真を撮ろう  \n\n\n\nアクアラウンジ飲食ブース（NEW）\n\n\n\n小腹が空いたら飲食ブースで腹ごしらえ  \n\n\n\nフランクフルト・唐揚げ・焼きそばなどの軽食（各限定30食）・ソフトドリンク・ノンアルコール飲料 \nhttps://aomori-sportspark.jp/christmasnightpool/
URL:https://aomori-daibouken.com/event/14960
LOCATION:新青森県総合運動公園\, 〒039-3505 青森県青森市宮田高瀬２２−２
CATEGORIES:青森市イベント 今日 明日 今週末 2025,青森市クリスマスイベント
ATTACH;FMTTYPE=image/jpeg:https://aomori-daibouken.com/wp-content/uploads/2024/12/image-11-9.jpg
END:VEVENT
BEGIN:VEVENT
DTSTART;TZID=Asia/Tokyo:20241220T000000
DTEND;TZID=Asia/Tokyo:20241220T235959
DTSTAMP:20260423T082744
CREATED:20241126T130658Z
LAST-MODIFIED:20241201T014139Z
UID:12923-1734652800-1734739199@aomori-daibouken.com
SUMMARY:八戸市内→八戸モータースクール アルパジョンサンタ号
DESCRIPTION:https://x.com/Arpajon_Xmas\n\n\n\n\\⭐️『Xmas event 2024 in 八戸市⭐️//日時:12/20 17:00-18:00場所:八戸モータースクール内主催:株式会社 ムジコクリエイト 八戸モータースクール今年もお呼びいただきありがとうございます！交通安全、コース内実車限定イベント！🚍⭐️… pic.twitter.com/iAVs15pXG7 — 神出鬼没🌕アルパジョンサンタ号🤶⭐️🚌=33 (@Arpajon_Xmas) November 26\, 2024
URL:https://aomori-daibouken.com/event/12923
LOCATION:八戸モータースクール\, 〒039-1165 青森県八戸市石堂４丁目７−３２
CATEGORIES:アルパジョンサンタ号 運行予定,八戸イルミネーション2025,八戸市イベント 今日 明日 今週末 2025,青森 クリスマス イベント,青森イルミネーション・花火,青森県 イベント 子ども
ATTACH;FMTTYPE=image/png:https://aomori-daibouken.com/wp-content/uploads/2024/11/image-9.png
END:VEVENT
BEGIN:VEVENT
DTSTART;TZID=Asia/Tokyo:20241219T000000
DTEND;TZID=Asia/Tokyo:20241219T235959
DTSTAMP:20260423T082744
CREATED:20241126T020450Z
LAST-MODIFIED:20241201T014141Z
UID:12865-1734566400-1734652799@aomori-daibouken.com
SUMMARY:七戸町→三戸郡田子町 アルパジョンサンタ号
DESCRIPTION:https://x.com/Arpajon_Xmas\n\n\n\n\\⭐️『Xmas event 2024 in 田子町⭐️//日時:12/19 18:00-19:00場所:マエダストア田子店主催:三浦建設 株式会社南部町、田子町の幼稚園のご協賛もいただいている三浦建設様！田子町クリスマスイベントを主催し、今年もサンタ号をお呼びいただきありがとうございます！… pic.twitter.com/TPw1PYDvmc — 神出鬼没🌕アルパジョンサンタ号🤶⭐️🚌=33 (@Arpajon_Xmas) November 26\, 2024
URL:https://aomori-daibouken.com/event/12865
LOCATION:マエダストア 田子店\, 〒039-0201 青森県三戸郡田子町大字田子下田子東ノ又９−１
CATEGORIES:アルパジョンサンタ号 運行予定,七戸イベント,青森 クリスマス イベント,青森イルミネーション・花火,青森県 イベント 子ども
ATTACH;FMTTYPE=image/jpeg:https://aomori-daibouken.com/wp-content/uploads/2024/11/image-9-1.jpg
END:VEVENT
BEGIN:VEVENT
DTSTART;TZID=Asia/Tokyo:20241217T000000
DTEND;TZID=Asia/Tokyo:20241217T235959
DTSTAMP:20260423T082744
CREATED:20241126T125346Z
LAST-MODIFIED:20250105T061810Z
UID:12907-1734393600-1734479999@aomori-daibouken.com
SUMMARY:七戸町→青森市アスパム アルパジョンサンタ号
DESCRIPTION:https://x.com/Arpajon_Xmas\n\n\n\n\\⭐️『Xmas event 2024 in 青森市⭐️//日時:12/17 夕方からの1時間程度場所:アスパム前主催:青森県観光国際交流機構 今年もお呼びいただきありがとうございます！クリスマス満載のアスパムクリスマスマーケット！もしかしたら花火も見れるかも？🤶⭐️… pic.twitter.com/jRThwn7ix4 — 神出鬼没🌕アルパジョンサンタ号🤶⭐️🚌=33 (@Arpajon_Xmas) November 26\, 2024
URL:https://aomori-daibouken.com/event/12907
LOCATION:青森県観光物産館アスパム\, 安方1－1－40\, 青森市\, 青森県\, 日本
CATEGORIES:アスパムイベント 今日 青森市 2025 新町,アルパジョンサンタ号 運行予定,青森 クリスマス イベント,青森イルミネーション・花火,青森市イルミネーション・花火,青森市クリスマスイベント,青森県 イベント 子ども
ATTACH;FMTTYPE=image/png:https://aomori-daibouken.com/wp-content/uploads/2024/11/image-6.png
END:VEVENT
BEGIN:VEVENT
DTSTART;TZID=Asia/Tokyo:20241215T093000
DTEND;TZID=Asia/Tokyo:20241215T150000
DTSTAMP:20260423T082744
CREATED:20241202T031056Z
LAST-MODIFIED:20241202T031057Z
UID:13394-1734255000-1734274800@aomori-daibouken.com
SUMMARY:東通村トントゥのクリスマスフェスタ2024
DESCRIPTION:■日時令和6年12月15日（日曜日）午前9時30分～午後3時■会場東通原子力発電所PR施設「トントゥビレッジ」■入場料無料■内容・ハローキティ＆マイメロディ「もうすぐクリスマスステージショー」（1回目：午前10時～／2回目：午後1時～）・クリスマスビンゴ大会（高校生以下対象）・集まれ！キッチンカー（有料）・クリスマスツリーの貯金箱を作ろう！工作コーナー（小学生以下対象）※内容に変更がある場合がございますのでご了承ください。 \nhttps://www.pref.aomori.lg.jp/soshiki/kenmin/sh-renkei/sh_renkei_event.html
URL:https://aomori-daibouken.com/event/13394
LOCATION:トントゥビレッジ\, 〒039-4223 青森県下北郡東通村小田野沢見知 川山１−８０９
CATEGORIES:★青森県メインイベント,下北イベント,青森 クリスマス イベント,青森県 イベント 子ども,青森県キッチンカーイベント2025,青森祭り2025 冬雪春桜夏秋
ATTACH;FMTTYPE=image/jpeg:https://aomori-daibouken.com/wp-content/uploads/2024/12/image-6-1.jpg
END:VEVENT
BEGIN:VEVENT
DTSTART;TZID=Asia/Tokyo:20241215T000000
DTEND;TZID=Asia/Tokyo:20250216T235959
DTSTAMP:20260423T082744
CREATED:20241118T023223Z
LAST-MODIFIED:20250124T004005Z
UID:12510-1734220800-1739750399@aomori-daibouken.com
SUMMARY:十和田市 アーツ・トワダ ウインターイルミネーション2024-2025
DESCRIPTION:青色LEDが光のじゅうたんのようにアート広場全体を覆いつくし、幻想的な世界を演出します。 \n\n\n\n光の中に浮かぶさまざまなアート作品の昼間とは違った表情をお楽しみください。 \n\n\n\n期間　\n\n\n\n令和６年12月15日（日）～令和７年２月16日（日）16時30分～21時00分（12月23日～１月５日は23時まで） \n\n\n\n※点灯初日は16時20分から点灯式を開催予定。また、点灯式当日は、「イルミネーション・アート・フェス」（主催：社会福祉法人 共生の杜、時間：15時30分から18時30分）が開催される予定です。 \n\n\n\n場所\n\n\n\n十和田市現代美術館　アート広場 \n\n\n\n（十和田市西三番町３） \n\n\n\nアクセス\n\n\n\n電車：JR七戸十和田駅から十和田観光電鉄バス乗車「十和田市現代美術館前」下車　徒歩すぐ \n\n\n\n車：百石道路「下田百石IC」より車で30分 \n\n\n\n駐車場\n\n\n\n市中央駐車場、市西二番町駐車場ほか（有料・１回200円） \n\n\n\n入場\n\n\n\n無料 \n\n\n\nお願い\n\n\n\n\n会場周辺への路上駐車はご遠慮ください。\n\n\n\nイルミネーションはデリケートですので、触らないでください。\n\nhttps://www.city.towada.lg.jp/kanko/event/arts-towada-winter-illumination.html\n\n\n\n十和田市現代美術館の゙イルミネーションを゙見てきた！幻想的で、寒さを忘れて写真撮影してた！#十和田市#イルミネーション#十和田市現代美術館 pic.twitter.com/kvEBeBYTEn — スモヤン (@nono_kiti) January 6\, 2024
URL:https://aomori-daibouken.com/event/12510
LOCATION:十和田市現代美術館アート広場\, 〒034-0083 青森県十和田市西三番町３
CATEGORIES:十和田市イベント,青森 クリスマス イベント,青森イルミネーション・花火
ATTACH;FMTTYPE=image/jpeg:https://aomori-daibouken.com/wp-content/uploads/2024/11/Illumination_IMG6238.jpg
END:VEVENT
BEGIN:VEVENT
DTSTART;TZID=Asia/Tokyo:20241215T000000
DTEND;TZID=Asia/Tokyo:20241215T235959
DTSTAMP:20260423T082744
CREATED:20241126T024626Z
LAST-MODIFIED:20241202T045659Z
UID:12890-1734220800-1734307199@aomori-daibouken.com
SUMMARY:十和田市 イルミネーションアートフェス2024 アルパジョンサンタ号
DESCRIPTION:https://x.com/Arpajon_Xmas\n\n\n\n\\⭐️『Xmas event 2024 in 十和田市』⭐️//日時:12/15 時間 詳細は後ほど場所:十和田市 官庁街通り ホコテン主催:社会福祉法人 共生の杜 イルミネーションライトアップ点灯式に合わせたアメ車ショーとサンタ号のコラボレーション企画⭐️ピカピカ、ビカビカの車たちのイベントを… pic.twitter.com/zpURbWx2oL — 神出鬼没🌕アルパジョンサンタ号🤶⭐️🚌=33 (@Arpajon_Xmas) November 25\, 2024
URL:https://aomori-daibouken.com/event/12890
LOCATION:十和田市民図書館\, 〒034-0081 青森県十和田市西十三番町２−１８
CATEGORIES:★青森県メインイベント,アルパジョンサンタ号 運行予定,十和田市イベント,十和田市キッチンカーイベント2025,青森 クリスマス イベント,青森イルミネーション・花火,青森県 イベント 子ども
ATTACH;FMTTYPE=image/jpeg:https://aomori-daibouken.com/wp-content/uploads/2024/11/467724441_1108946737904108_9218399859701479693_n.jpg
END:VEVENT
BEGIN:VEVENT
DTSTART;TZID=Asia/Tokyo:20241214T140000
DTEND;TZID=Asia/Tokyo:20241214T190000
DTSTAMP:20260423T082744
CREATED:20241023T003459Z
LAST-MODIFIED:20241201T014145Z
UID:11337-1734184800-1734202800@aomori-daibouken.com
SUMMARY:三戸郡南部町 christmasナイトマーケット2024
DESCRIPTION:https://x.com/Arpajon_Xmas\n\n\n\n\\⭐️『Xmas event 2024 in 南部町』⭐️//日時:12/14 14:00-19:00場所:南部町 ふるさと運動公園内第一駐車場主催:メトキベース協賛後援:南部町観光協会協力:三戸カーミーティングクラブ 車のイベント、海外輸入雑貨で有名のメトキベース様主催のイベントとなります🚍⭐️… pic.twitter.com/54iW46wKCk — 神出鬼没🌕アルパジョンサンタ号🤶⭐️🚌=33 (@Arpajon_Xmas) November 25\, 2024
URL:https://aomori-daibouken.com/event/11337
LOCATION:ふるさと運動公園\, 〒039-0502 青森県三戸郡南部町上名久井長尾下５５
CATEGORIES:★青森県メインイベント,アルパジョンサンタ号 運行予定,南部町イベント,青森 クリスマス イベント,青森イルミネーション・花火,青森県 イベント 子ども,青森県キッチンカーイベント2025,青森県クラフトイベント 2025 マルシェ
ATTACH;FMTTYPE=image/jpeg:https://aomori-daibouken.com/wp-content/uploads/2024/10/GbiaalYagAAzwbW.jpg
END:VEVENT
BEGIN:VEVENT
DTSTART;TZID=Asia/Tokyo:20241214T000000
DTEND;TZID=Asia/Tokyo:20241225T235959
DTSTAMP:20260423T082744
CREATED:20241202T034444Z
LAST-MODIFIED:20241203T010430Z
UID:13404-1734134400-1735171199@aomori-daibouken.com
SUMMARY:青森市浅虫水族館 イルカパフォーマンスクリスマスver.
DESCRIPTION:大人気のイルカパフォーマンスをクリスマスの特別バージョンで開催いたします。サンタさんとイルカたちが協力してクリスマスツリーを完成させます。一緒に楽しいクリスマスを迎えましょう！【開催期間】令和6年 12/14（土）～12/25（水）【開催時間】1日4回　10:00、11:30、13:30、15:30【所要時間】約15分【開催場所】イルカプール \n\n\n\n\n\n\n\n\n\n\n\n \nhttps://asamushi-aqua.com/news/notice/5938
URL:https://aomori-daibouken.com/event/13404
LOCATION:青森県営浅虫水族館\, 〒039-3501 青森県青森市浅虫馬場山１−２５
CATEGORIES:★青森県メインイベント,浅虫,青森市クリスマスイベント,青森県 イベント 子ども
ATTACH;FMTTYPE=image/jpeg:https://aomori-daibouken.com/wp-content/uploads/2024/12/イルカパフォーマンスクリス_b-2048x1365-1.jpg
END:VEVENT
BEGIN:VEVENT
DTSTART;TZID=Asia/Tokyo:20241214T000000
DTEND;TZID=Asia/Tokyo:20241215T235959
DTSTAMP:20260423T082744
CREATED:20241211T235456Z
LAST-MODIFIED:20241211T235457Z
UID:13949-1734134400-1734307199@aomori-daibouken.com
SUMMARY:五所川原市エルム Christmas Market in ELM
DESCRIPTION:https://elm-no-machi.jp/info/
URL:https://aomori-daibouken.com/event/13949
LOCATION:ELM（エルム）\, 〒037-0004 青森県五所川原市唐笠柳藤巻５１７−１
CATEGORIES:五所川原市イベント,青森 クリスマス イベント
ATTACH;FMTTYPE=image/jpeg:https://aomori-daibouken.com/wp-content/uploads/2024/12/master-scaled.jpg
END:VEVENT
BEGIN:VEVENT
DTSTART;TZID=Asia/Tokyo:20241214T000000
DTEND;TZID=Asia/Tokyo:20241214T235959
DTSTAMP:20260423T082744
CREATED:20241209T030000Z
LAST-MODIFIED:20241209T030002Z
UID:13813-1734134400-1734220799@aomori-daibouken.com
SUMMARY:青森市 サンロード青森 Xmas発表会
DESCRIPTION:https://www.sunroad.or.jp/xmas2024presentation/
URL:https://aomori-daibouken.com/event/13813
LOCATION:サンロード青森\, 〒030-0845 青森県青森市緑３丁目９−２
CATEGORIES:サンロードイベント,青森市クリスマスイベント,青森県 イベント 子ども
ATTACH;FMTTYPE=image/jpeg:https://aomori-daibouken.com/wp-content/uploads/2024/12/08b465491370dcf56e929aede0b11b39.jpg
END:VEVENT
BEGIN:VEVENT
DTSTART;TZID=Asia/Tokyo:20241214T000000
DTEND;TZID=Asia/Tokyo:20241214T235959
DTSTAMP:20260423T082744
CREATED:20241009T083645Z
LAST-MODIFIED:20241202T045830Z
UID:10519-1734134400-1734220799@aomori-daibouken.com
SUMMARY:八戸市 スレンダーパンダのやっとこ 八戸ポータルミュージアム はっち
DESCRIPTION:【大切なお知らせと拡散希望🙇‍♂️】12/14(土)に地元・八戸市 で八戸が好きな皆様と一緒に主催イベントを致します！・地元キッズダンスのステージ・子ども達のクリスマスプレゼント企画・八戸出身占い師の方による占いなどを予定しております#八戸出身お笑い芸人#スレンダーパンダ#拡散希望 pic.twitter.com/tUX1ZO9hqY — じゅんせい@スレンダーパンダ (@Sle_pan) October 6\, 2024
URL:https://aomori-daibouken.com/event/10519
LOCATION:八戸ポータルミュージアム はっち\, 〒031-0032 青森県八戸市三日町１１−１
CATEGORIES:★青森県メインイベント,八戸市イベント 今日 明日 今週末 2025,青森 クリスマス イベント,青森県 イベント 子ども
ATTACH;FMTTYPE=image/jpeg:https://aomori-daibouken.com/wp-content/uploads/2024/10/GZPVXWzbwAATFfM.jpg
END:VEVENT
BEGIN:VEVENT
DTSTART;TZID=Asia/Tokyo:20241213T000000
DTEND;TZID=Asia/Tokyo:20250202T235959
DTSTAMP:20260423T082744
CREATED:20241125T112637Z
LAST-MODIFIED:20250124T003915Z
UID:12795-1734048000-1738540799@aomori-daibouken.com
SUMMARY:青森市 あおもり灯りと紙のページェント2024-2025 イルミネーションねぶた技法
DESCRIPTION:ワラッセの中には12/25までサンタねぶたが展示されています。暗い時間帯はとても綺麗で圧巻でした。 \n\n\n\n\n\n\n\n\n \n\n\n\n\n\n\n\n令和6年12月13日（金曜日）～令和7年2月2日(日曜日)点灯時間：16時00分～21時00分 \nhttps://www.city.aomori.aomori.jp/kanko/bunka-sports-kanko/kankou/shiki-event/fuyu/07.html\n\n\n\n\n\n青森市アスパム「クリスマスマーケット2024」イベント！【行くとき注意】花火や屋台の冬雪まつりを堪能してきた青森市にあるアスパムで開催中の「クリスマスマーケット」へ今日行ってきました！巨大なクリスマスツリーや美味しいグルメに花火と、イベントの様子をお伝えします。アスパムの「クリスマスマーケット」とは？クリス...aomori-daibouken.com2025.02.07
URL:https://aomori-daibouken.com/event/12795
LOCATION:<br>A-FACTORY(エーファクトリー)\, 〒038-0012 青森県青森市柳川１丁目４−２
CATEGORIES:2025青森冬雪まつりイベント,アスパムイベント 今日 青森市 2025 新町,青森イルミネーション・花火,青森市イベント 今日 明日 今週末 2025,青森市イルミネーション・花火,青森市クリスマスイベント
ATTACH;FMTTYPE=image/jpeg:https://aomori-daibouken.com/wp-content/uploads/2024/11/IMG_20241215_194454-scaled.jpg
END:VEVENT
BEGIN:VEVENT
DTSTART;TZID=Asia/Tokyo:20241213T000000
DTEND;TZID=Asia/Tokyo:20241225T235959
DTSTAMP:20260423T082744
CREATED:20241031T094302Z
LAST-MODIFIED:20250305T084141Z
UID:12161-1734048000-1735171199@aomori-daibouken.com
SUMMARY:青森市アスパム CHRISTMAS MARKET2024 冬花火
DESCRIPTION:青森市アスパム「クリスマスマーケット2024」イベント！【行くとき注意】花火や屋台の冬雪まつりを堪能してきた青森市にあるアスパムで開催中の「クリスマスマーケット」へ今日行ってきました！巨大なクリスマスツリーや美味しいグルメに花火と、イベントの様子をお伝えします。アスパムの「クリスマスマーケット」とは？クリス...aomori-daibouken.com2025.02.07\n\n\n\n\n\n\n\n\n\n\n\n\n\n\n\n\n\n\n\n\n\n期　間2024年12月13日（金）～25日（水）平日：16：00～20：30（ラストオーダー 20：00）土日・24・25日：11：00～20：30　　　　　　　　（ラストオーダー 20：00）場　所青森県観光物産館アスパム 西側特設会場（駐車場）及び館内オープニングセレモニー2024年12月13日（金）17:45～ライトアップ期間中の16:00～20:30 \n\n\n\n※イベントの内容については随時更新します。 \n\n\n\n「CHRISTMAS MARKET in アスパム」とは？\n\n\n\n青森県のランドマーク「アスパム」で開催する、青森ならではのクリスマスイベント。高さ約10mの大型クリスマスツリーには、約２万球のLED電球が飾られており、青森の冬の夜をやさしく照らします。期間中「冬の花火」も打ちあがります。「クリスマスツリー」「冬の花火」をお楽しみください。また、会場のヒュッテやキッチンカーなどで、クリスマスフードをお楽しみ頂けます。 \n\n\n\n\n\n\n\n花火\n\n\n\n● 花火の打ち上げ予定　 下記の日程で花火を打ち上げます。（1分程度）　 13日（金）／18：00頃　 14日（土）／19：00頃　 15日（日）／19：00頃　 20日（金）／19：00頃　 21日（土）／19：00頃　 22日（日）／19：00頃　 24日（火）／19：00頃　 25日（水）／19：00頃※当日の天候等により、中止または変更となる場合があります。 \n\n\n\nプロジェクションマッピング\n\n\n\n期間中毎日18:00、19:00の2回上映予定です。（4分程度） \nhttps://www.aomori-kanko.or.jp/aspam/christmas-market/\n\n\n\nサウナも無料で体験できるみたいです。 \n\n\n\n\n\nバレルサウナご利用予約 - 旭工務店青森県を中心にデザイン性、機能性、耐久性の高い輸入住宅を建築する旭工務店のオフィシャルサイト。www.asahi-komuten.com\n\n\n\n\n\n\n青森市アスパム「クリスマスマーケット2024」イベント！【行くとき注意】花火や屋台の冬雪まつりを堪能してきた青森市にあるアスパムで開催中の「クリスマスマーケット」へ今日行ってきました！巨大なクリスマスツリーや美味しいグルメに花火と、イベントの様子をお伝えします。アスパムの「クリスマスマーケット」とは？クリス...aomori-daibouken.com2025.02.07\n\n\n\n\nワラッセの近くではあおもり灯りと紙のページェントとサンタねぶたを見ることができます。綺麗なので時間があれば行ってみて下さい。 \n\n\n\n\n\n青森市 あおもり灯りと紙のページェント2024-2025 イルミネーションねぶた技法ワラッセの中には12/25までサンタねぶたが展示されています。暗い時間帯はとても綺麗で圧巻でした。令和6年12月13日（金曜日）～令和7年2月2日(日曜日)点灯時間：16時00分～21時00分aomori-daibouken.com\n\n\n\n\n\n\n\n\n\n\n\n\n\n\n青森市アスパムイベント今日以降今後の イベント はありません。
URL:https://aomori-daibouken.com/event/12161
LOCATION:青森県観光物産館アスパム\, 安方1－1－40\, 青森市\, 青森県\, 日本
CATEGORIES:★青森県メインイベント,アスパムイベント 今日 青森市 2025 新町,アスパムキッチンカーイベント2025,青森 クリスマス イベント,青森イルミネーション・花火,青森市イルミネーション・花火,青森市クリスマスイベント,青森県グルメイベント,青森県花火大会2024 青森市・八戸・弘前・十和田
ATTACH;FMTTYPE=image/jpeg:https://aomori-daibouken.com/wp-content/uploads/2024/10/image-3-1.jpg
END:VEVENT
BEGIN:VEVENT
DTSTART;TZID=Asia/Tokyo:20241213T000000
DTEND;TZID=Asia/Tokyo:20241213T235959
DTSTAMP:20260423T082744
CREATED:20241126T022719Z
LAST-MODIFIED:20241201T014140Z
UID:12886-1734048000-1734134399@aomori-daibouken.com
SUMMARY:八戸市 アルパジョンサンタ号
DESCRIPTION:https://x.com/Arpajon_Xmas\n\n\n\n\\⭐️『Xmas event 2024 in 八戸』⭐️//日時:12/13 16:00-21:00場所:館鼻公園主催:八戸商工会議所青年部 まちづくり委員会 *サンタ号来場は約1時間となります🤶⭐️八戸商工会議所青年部様のイベントにお呼びいただき皆さんと楽しいお時間を過ごせることとなりました！… pic.twitter.com/Bg8YhxksMo — 神出鬼没🌕アルパジョンサンタ号🤶⭐️🚌=33 (@Arpajon_Xmas) November 25\, 2024
URL:https://aomori-daibouken.com/event/12886
LOCATION:館鼻公園\, 〒031-0812 青森県八戸市湊町館鼻７８−１６
CATEGORIES:アルパジョンサンタ号 運行予定,八戸イルミネーション2025,八戸市イベント 今日 明日 今週末 2025,八戸市キッチンカーイベント2025,青森 クリスマス イベント,青森イルミネーション・花火,青森県 イベント 子ども,青森県グルメイベント
ATTACH;FMTTYPE=image/jpeg:https://aomori-daibouken.com/wp-content/uploads/2024/11/GdPExG6bEAAHH1_.jpg
END:VEVENT
BEGIN:VEVENT
DTSTART;TZID=Asia/Tokyo:20241212T000000
DTEND;TZID=Asia/Tokyo:20241212T235959
DTSTAMP:20260423T082744
CREATED:20241201T010320Z
LAST-MODIFIED:20241201T014136Z
UID:13272-1733961600-1734047999@aomori-daibouken.com
SUMMARY:八戸市内運行 アルパジョンサンタ号
DESCRIPTION:https://x.com/Arpajon_Xmas
URL:https://aomori-daibouken.com/event/13272
LOCATION:八戸市\, 青森県八戸市
CATEGORIES:アルパジョンサンタ号 運行予定,八戸イルミネーション2025,八戸市イベント 今日 明日 今週末 2025,青森 クリスマス イベント,青森イルミネーション・花火,青森県 イベント 子ども
ATTACH;FMTTYPE=image/png:https://aomori-daibouken.com/wp-content/uploads/2024/12/image-2.png
END:VEVENT
BEGIN:VEVENT
DTSTART;TZID=Asia/Tokyo:20241210T000000
DTEND;TZID=Asia/Tokyo:20241210T235959
DTSTAMP:20260423T082744
CREATED:20241201T005017Z
LAST-MODIFIED:20241201T014137Z
UID:13262-1733788800-1733875199@aomori-daibouken.com
SUMMARY:南部町周辺運行 アルパジョンサンタ号
DESCRIPTION:https://x.com/Arpajon_Xmas
URL:https://aomori-daibouken.com/event/13262
LOCATION:南部町\, 青森県三戸郡南部町
CATEGORIES:アルパジョンサンタ号 運行予定,南部町イベント,青森 クリスマス イベント,青森イルミネーション・花火,青森県 イベント 子ども
ATTACH;FMTTYPE=image/png:https://aomori-daibouken.com/wp-content/uploads/2024/12/image.png
END:VEVENT
END:VCALENDAR