BEGIN:VCALENDAR
VERSION:2.0
PRODID:-//青森大冒険-イベントカレンダー情報とブログ- - ECPv6.15.20//NONSGML v1.0//EN
CALSCALE:GREGORIAN
METHOD:PUBLISH
X-WR-CALNAME:青森大冒険-イベントカレンダー情報とブログ-
X-ORIGINAL-URL:https://aomori-daibouken.com
X-WR-CALDESC:青森大冒険-イベントカレンダー情報とブログ- のイベント
REFRESH-INTERVAL;VALUE=DURATION:PT1H
X-Robots-Tag:noindex
X-PUBLISHED-TTL:PT1H
BEGIN:VTIMEZONE
TZID:Asia/Tokyo
BEGIN:STANDARD
TZOFFSETFROM:+0900
TZOFFSETTO:+0900
TZNAME:JST
DTSTART:20230101T000000
END:STANDARD
END:VTIMEZONE
BEGIN:VEVENT
DTSTART;TZID=Asia/Tokyo:20250629T100000
DTEND;TZID=Asia/Tokyo:20250629T153000
DTSTAMP:20260421T215202
CREATED:20250518T011706Z
LAST-MODIFIED:20250518T011707Z
UID:22924-1751191200-1751211000@aomori-daibouken.com
SUMMARY:平川市 道の駅いかりがせき「I♡CURRYケ関カーニバル」
DESCRIPTION:この投稿をInstagramで見る            平川市で遊んで 平川市を楽しむ そしてちょっと地域貢献(@asobo.hirakawa)がシェアした投稿
URL:https://aomori-daibouken.com/event/22924
LOCATION:道の駅いかりがせき 津軽関の庄\, 〒038-0101 青森県平川市碇ヶ関碇石１３−１
CATEGORIES:6月青森イベント,平川市イベント,青森県グルメイベント,青森県道の駅イベント
ATTACH;FMTTYPE=image/jpeg:https://aomori-daibouken.com/wp-content/uploads/2025/05/497231157_18348348610152251_5699898366931292915_n.jpg
END:VEVENT
BEGIN:VEVENT
DTSTART;TZID=Asia/Tokyo:20250614T000000
DTEND;TZID=Asia/Tokyo:20250615T235959
DTSTAMP:20260421T215202
CREATED:20250518T002718Z
LAST-MODIFIED:20250518T002719Z
UID:22895-1749859200-1750031999@aomori-daibouken.com
SUMMARY:東北町 道の駅おがわら湖「ふれあい動物園」
DESCRIPTION:今年も美味しいものが車でやってくる！恒例イベント道の駅おがわら湖キッチンカーフェス開催日は令和7年6月14～15日しかも今年は可愛いものもやってくる！同時開催：ふれあい動物園でエサやり体験大人は食べ物で腹ごしらえ、子どもは小動物に癒される出店車は後日紹介、ぜひお越しください！ pic.twitter.com/RoGvePsHq0 — 道の駅おがわら湖　湖遊館 (@michi_Ogawarako) May 3\, 2025
URL:https://aomori-daibouken.com/event/22895
LOCATION:道の駅おがわら湖\, 〒039-2401 青森県上北郡東北町上野南谷地１２２番
CATEGORIES:6月青森イベント,★青森県メインイベント,青森県 イベント 子ども,青森県道の駅イベント
ATTACH;FMTTYPE=image/jpeg:https://aomori-daibouken.com/wp-content/uploads/2025/05/GqAj0F4awAMwOgu.jpg
END:VEVENT
BEGIN:VEVENT
DTSTART;TZID=Asia/Tokyo:20250614T000000
DTEND;TZID=Asia/Tokyo:20250615T235959
DTSTAMP:20260421T215202
CREATED:20250504T215458Z
LAST-MODIFIED:20250504T215459Z
UID:22492-1749859200-1750031999@aomori-daibouken.com
SUMMARY:東北町 道の駅おがわら湖「キッチンカーフェス」
DESCRIPTION:今年も美味しいものが車でやってくる！恒例イベント道の駅おがわら湖キッチンカーフェス開催日は令和7年6月14～15日しかも今年は可愛いものもやってくる！同時開催：ふれあい動物園でエサやり体験大人は食べ物で腹ごしらえ、子どもは小動物に癒される出店車は後日紹介、ぜひお越しください！ pic.twitter.com/RoGvePsHq0 — 道の駅おがわら湖　湖遊館 (@michi_Ogawarako) May 3\, 2025
URL:https://aomori-daibouken.com/event/22492
LOCATION:道の駅おがわら湖\, 〒039-2401 青森県上北郡東北町上野南谷地１２２番
CATEGORIES:6月青森イベント,青森県キッチンカーイベント2025,青森県道の駅イベント
ATTACH;FMTTYPE=image/jpeg:https://aomori-daibouken.com/wp-content/uploads/2025/05/GqAj0HfbQAA7FqG.jpg
END:VEVENT
BEGIN:VEVENT
DTSTART;TZID=Asia/Tokyo:20250524T000000
DTEND;TZID=Asia/Tokyo:20250525T235959
DTSTAMP:20260421T215202
CREATED:20250523T021250Z
LAST-MODIFIED:20250523T021251Z
UID:23123-1748044800-1748217599@aomori-daibouken.com
SUMMARY:鶴田町 道の駅つるた「キッチンカーFes×産直の日」
DESCRIPTION:ゴールデンウィーク明けも楽しもう！」キッチンカーFes」+「産直の日」同時開催大人気のキッチンカーが終結気軽にできたてグルメを楽しもう🍖朝８時から新鮮野菜と果物のテント市を開催！5/24㈯、25㈰　２日間時間　8：00-15：00場所　道の駅つるた　イベント広場 pic.twitter.com/k7r1hwS1Pl — 道の駅つるた (@turuta_aruja) May 3\, 2025
URL:https://aomori-daibouken.com/event/23123
LOCATION:道の駅つるた\, 〒038-3524 青森県北津軽郡鶴田町境里見１７６−１
CATEGORIES:5月青森イベント,青森県キッチンカーイベント2025,青森県道の駅イベント
ATTACH;FMTTYPE=image/jpeg:https://aomori-daibouken.com/wp-content/uploads/2025/05/Gp_BmclawAA9Van.jpg
END:VEVENT
BEGIN:VEVENT
DTSTART;TZID=Asia/Tokyo:20250517T000000
DTEND;TZID=Asia/Tokyo:20250518T235959
DTSTAMP:20260421T215202
CREATED:20250512T232554Z
LAST-MODIFIED:20250513T023103Z
UID:22685-1747440000-1747612799@aomori-daibouken.com
SUMMARY:青森市「あさ虫温泉フェス 〜音楽とトークと湯〜」
DESCRIPTION:道の駅のあさ虫マルシェなどの一部は有料チケット無しでも参加可能です。 \n\n\n\nhttp://www.yu-sa.jp/contents/?p=4611\n\n\n\n\n\n\n\n\n\n\n\n\n\nあさ虫温泉フェス | ＃むしフェス | 青森県青森市浅虫蛍谷2025年5月17・18日の2日間、浅虫温泉でいとうせいこうさんがプロデュースする「あさ虫温泉フェス〜音楽とトークと湯〜」を開催！かつて棟方志功、太宰治が愛した青森の小さな温泉街の中に、青森出身の偉大...www.asamushifes.com
URL:https://aomori-daibouken.com/event/22685
LOCATION:道の駅ゆ～さ浅虫\, 〒039-3501 青森県青森市浅虫蛍谷３４１−１９\, 青森市\, 青森県\, 039-3501
CATEGORIES:5月青森イベント,浅虫,青森市キッチンカーイベント2025,青森県グルメイベント,青森県道の駅イベント
ATTACH;FMTTYPE=image/webp:https://aomori-daibouken.com/wp-content/uploads/2025/05/浅虫フェス_01.jpg.webp
END:VEVENT
BEGIN:VEVENT
DTSTART;TZID=Asia/Tokyo:20250405T000000
DTEND;TZID=Asia/Tokyo:20250406T235959
DTSTAMP:20260421T215202
CREATED:20250404T090000Z
LAST-MODIFIED:20250404T090000Z
UID:20872-1743811200-1743983999@aomori-daibouken.com
SUMMARY:十和田市 道の駅とわだ とわだクラフトFESTA
DESCRIPTION:青森県十和田市の道の駅とわだで「とわだクラフトFESTA」で78店舗のクラフトハンドメイド・キッチンカーなどのグルメイベントが開催されます。 \n\n\n\n        この投稿をInstagramで見る            とわだクラフトFESTA since2023(@to.wa.da)がシェアした投稿
URL:https://aomori-daibouken.com/event/20872
LOCATION:道の駅とわだ\, 〒034-0051 青森県十和田市伝法平窪３７−２
CATEGORIES:4月青森イベント,十和田市イベント,十和田市キッチンカーイベント2025,青森県クラフトイベント 2025 マルシェ,青森県道の駅イベント
ATTACH;FMTTYPE=image/jpeg:https://aomori-daibouken.com/wp-content/uploads/2025/03/483785551_17994456110782034_816440000013439229_n.jpg
END:VEVENT
BEGIN:VEVENT
DTSTART;TZID=Asia/Tokyo:20250401T000000
DTEND;TZID=Asia/Tokyo:20250401T235959
DTSTAMP:20260421T215202
CREATED:20250331T050725Z
LAST-MODIFIED:20250331T050727Z
UID:21488-1743465600-1743551999@aomori-daibouken.com
SUMMARY:道の駅なみおかアップルヒル「漁師の店」オープン
DESCRIPTION:
URL:https://aomori-daibouken.com/event/21488
LOCATION:道の駅 なみおか アップルヒル\, 〒038-1331 青森県青森市浪岡大字女鹿沢野尻２−３
CATEGORIES:浪岡イベント,青森市開店,青森県道の駅イベント
ATTACH;FMTTYPE=image/jpeg:https://aomori-daibouken.com/wp-content/uploads/2025/03/487409189_1140438931213417_943091807914392873_n.jpg
END:VEVENT
BEGIN:VEVENT
DTSTART;TZID=Asia/Tokyo:20250330T100000
DTEND;TZID=Asia/Tokyo:20250330T140000
DTSTAMP:20260421T215202
CREATED:20250318T001531Z
LAST-MODIFIED:20250318T001533Z
UID:21106-1743328800-1743343200@aomori-daibouken.com
SUMMARY:青森市 あさむしマルシェ
DESCRIPTION:【３月は6店舗！】あさむしマルシェは３月30日（日）10:00-14:00道の駅ゆ〜さ浅虫 3Fです。あさむし温泉プリン金治郎apricot森山さんのループ組紐 （浅虫）COYOTE RANCHケーキショップアヴニール（青森市）カフェ&バー アッツ（十和田市）３月もどうぞよろしくお願いします！ pic.twitter.com/YFeLWEG2kL — ♨浅虫温泉勝手に応援ツイッター (@katte_asamushi) March 17\, 2025
URL:https://aomori-daibouken.com/event/21106
LOCATION:道の駅ゆ～さ浅虫\, 〒039-3501 青森県青森市浅虫蛍谷３４１−１９\, 青森市\, 青森県\, 039-3501
CATEGORIES:3月青森イベント,浅虫,青森県グルメイベント,青森県道の駅イベント
ATTACH;FMTTYPE=image/jpeg:https://aomori-daibouken.com/wp-content/uploads/2025/03/GmPjAjDbwAEC23c.jpg
END:VEVENT
BEGIN:VEVENT
DTSTART;TZID=Asia/Tokyo:20250224T110000
DTEND;TZID=Asia/Tokyo:20250224T140000
DTSTAMP:20260421T215202
CREATED:20250219T075358Z
LAST-MODIFIED:20250219T075638Z
UID:19773-1740394800-1740405600@aomori-daibouken.com
SUMMARY:青森市 道の駅なみおかアップルヒル 雪あそびしよう
DESCRIPTION:2025.2.24(月·祝) \n\n\n\n道の駅なみおかアップルヒル　@michinoeki_namiokaさんの場所をお借りして \n\n\n\n一緒に、雪あそびしよう！！ \n\n\n\n写真は、去年の開催のものです。 \n\n\n\n遊具の奥の東屋で昨年は開催しましたが今年は雪が多すぎて上でやれないなーと判断し遊具手前のリンゴもぎ取り園近くで開催予定です。 \n\n\n\nソリなど遊び道具や手袋など持ち物は名前を書いて持ってきてね👍 \n\n\n\n火起こしする予定なのでウインナー、マシュマロなど焼きたいものあったらそれも持ってきてね👍 \n\n\n\n当日の天気の状況等によって内容が変わる場合もありますのでご了承ください。 \n\n\n\n晴れるといいなー🌈🌈🌈 \n\n\n\n \nhttps://www.instagram.com/runrun.aomori/
URL:https://aomori-daibouken.com/event/19773
LOCATION:道の駅 なみおか アップルヒル\, 〒038-1331 青森県青森市浪岡大字女鹿沢野尻２−３
CATEGORIES:2025青森冬雪まつりイベント,浪岡イベント,青森市イベント子供,青森県道の駅イベント
ATTACH;FMTTYPE=image/jpeg:https://aomori-daibouken.com/wp-content/uploads/2025/02/image-34.jpg
END:VEVENT
BEGIN:VEVENT
DTSTART;TZID=Asia/Tokyo:20250223T100000
DTEND;TZID=Asia/Tokyo:20250223T140000
DTSTAMP:20260421T215202
CREATED:20250214T225052Z
LAST-MODIFIED:20250214T225054Z
UID:19546-1740304800-1740319200@aomori-daibouken.com
SUMMARY:青森市道の駅ゆーさ浅虫 月末マルシェ
DESCRIPTION:【開催概要】日時：2025年2月23日(日)　10:00～14:00場所：道の駅ゆ～さ浅虫　3階フリースペース \n\n\n\n会場内に飲食スペースをご用意しております。2階にも休憩コーナーがありますので、ご利用ください。 \n\n\n\n出店者情報\n\n\n\nあさむし温泉プリン金治郎プリン、その他apricotタコライス、マフィンCOYOTE RANCHスモークフード、炭火焼きタコスなどpa-story抹茶ラテ、チョコバナナチャーリーズジャムジャムビーズクロッシェのお店　ぽんとしろビーズアクセサリー、小物類ケーキショップアヴニールオリジナルケーキcafe&barATZタコス、鍋、ソフトドリンク\n\n\n\n \nhttps://asamushi.org/column/499/
URL:https://aomori-daibouken.com/event/19546
LOCATION:道の駅ゆ～さ浅虫\, 〒039-3501 青森県青森市浅虫蛍谷３４１−１９\, 青森市\, 青森県\, 039-3501
CATEGORIES:2月青森イベント,浅虫,青森マルシェ2025,青森県道の駅イベント
ATTACH;FMTTYPE=image/webp:https://aomori-daibouken.com/wp-content/uploads/2025/02/2月月末マルシェ告知チラシ.png.webp
END:VEVENT
BEGIN:VEVENT
DTSTART;TZID=Asia/Tokyo:20250222T000000
DTEND;TZID=Asia/Tokyo:20250224T235959
DTSTAMP:20260421T215202
CREATED:20250210T083254Z
LAST-MODIFIED:20250210T083255Z
UID:19115-1740182400-1740441599@aomori-daibouken.com
SUMMARY:道の駅とわだ 十和田コーヒーフェスティバル
DESCRIPTION:◉イベント出店情報◉2月22日(土)〜24日(月)10時〜16時［道の駅とわだぴあ］さん正面入り口前にて『TOWADA COFFEE FESTIVAL』〜十和田コーヒーフェスティバル〜【美味しい珈琲店】と共にぜひお待ちしており〼#十和田市 #道の駅 #COFFEE #珈琲 #大湊海軍カレーパン#大湊海軍コロッケ pic.twitter.com/Ao6upyDsfV — #大湊海軍カレーパン®︎【公式】 (@cafe_ikoi) February 9\, 2025
URL:https://aomori-daibouken.com/event/19115
LOCATION:道の駅とわだ\, 〒034-0051 青森県十和田市伝法平窪３７−２
CATEGORIES:2月青森イベント,十和田市イベント,青森県道の駅イベント
ATTACH;FMTTYPE=image/jpeg:https://aomori-daibouken.com/wp-content/uploads/2025/02/GjWMvNHasAAcfIA.jpg
END:VEVENT
BEGIN:VEVENT
DTSTART;TZID=Asia/Tokyo:20250215T000000
DTEND;TZID=Asia/Tokyo:20250216T235959
DTSTAMP:20260421T215202
CREATED:20250214T023325Z
LAST-MODIFIED:20250216T010153Z
UID:19489-1739577600-1739750399@aomori-daibouken.com
SUMMARY:西目屋村 白神ピークスフード&クラフトフェスティバル
DESCRIPTION:道の駅津軽白神ビーチにしめや(一部白神山地ビジターセンター)9：00～15：00 \n\n\n\nお子様向けこぎん刺し体験、熊革付きのミニポーチ製作、津軽塗スプーンの研ぎ出し、本物のお花を使ったしゃかしゃかキーホルダー作り、その他グッズ販売 \n\n\n\n数量限定！餅つきふるまい両日14：００スタート！ \n\n\n\n白神山菜そば、熊ジビエ料理、イカ焼き、焼き菓子他県内6団体のキッチンカーの出店 \nhttps://shirakamipeaks.com/news/506/\n\n\n\n新店キッチンカーも参加\n\n\n\n\n\n429 Too Many Requestsaomori-daibouken.com\n\n\n\n\n同日開催イベント\n\n\n\n\n\n429 Too Many Requestsaomori-daibouken.com\n\n\n\n\n\n\n西目屋村 津軽ダムで冬を楽しもう西目屋村同時開催イベントaomori-daibouken.com\n\n\n\n\n\n\n西目屋 乳穂ケ滝氷祭20255年ぶりに毎年2月第3日曜日に乳穂ヶ滝で氷祭りが行われます。温暖化で中々結氷せず、2018年・2022年に結氷しました。令和2年以来、5年ぶりとなる伝統行事「乳穂ヶ滝氷祭」が開催されます。※駐車場に限...aomori-daibouken.com
URL:https://aomori-daibouken.com/event/19489
LOCATION:道の駅津軽白神ビーチにしめや\, 〒036-1411 青森県中津軽郡西目屋村田代神田２１９−１
CATEGORIES:2月青森イベント,青森県キッチンカーイベント2025,青森県クラフトイベント 2025 マルシェ,青森県グルメイベント,青森県道の駅イベント,青森祭り2025 冬雪春桜夏秋
ATTACH;FMTTYPE=image/jpeg:https://aomori-daibouken.com/wp-content/uploads/2025/01/01.jpg
END:VEVENT
BEGIN:VEVENT
DTSTART;TZID=Asia/Tokyo:20250208T170000
DTEND;TZID=Asia/Tokyo:20250208T200000
DTSTAMP:20260421T215202
CREATED:20250119T080800Z
LAST-MODIFIED:20250119T080801Z
UID:17198-1739034000-1739044800@aomori-daibouken.com
SUMMARY:南郷村 第18回 南郷雪蛍まつり2025
DESCRIPTION:過去の南郷雪蛍まつりの様子\n\n\n\n\n\n\n\n\n\n\n\n\n\n\n\n\n\n\n\n会場と主な内容 \n\n\n\n今年で18回目を迎える「南郷雪蛍まつり」は道の駅なんごう、朝もやの館、山の楽校をメイン会場に開催されます。このほか、南郷図書館、南郷文化ホール、南郷体育館、南郷屋内温水プールにも雪灯篭が出現します。今年はどんな雪灯篭が見られるのか、南郷地域内の各会場で幻想的な夜の風景をお楽しみください。 \n\n\n\n（注意） \n\n\n\n悪天候や雪不足の場合には中止となる場合がございます。詳しくは各施設にお問い合わせください。 \nhttps://www.city.hachinohe.aomori.jp/soshikikarasagasu/nangojimusho/matsuri_event/1/17656.html
URL:https://aomori-daibouken.com/event/17198
LOCATION:南郷村\, 南郷村
CATEGORIES:2025青森冬雪まつりイベント,2月青森イベント,青森イルミネーション・花火,青森県イベント 今日 明日 今週末,青森県道の駅イベント
ATTACH;FMTTYPE=image/png:https://aomori-daibouken.com/wp-content/uploads/2025/01/20250208_yukibotaru.png
END:VEVENT
BEGIN:VEVENT
DTSTART;TZID=Asia/Tokyo:20250126T170000
DTEND;TZID=Asia/Tokyo:20250126T173000
DTSTAMP:20260421T215202
CREATED:20241231T015858Z
LAST-MODIFIED:20250121T012611Z
UID:16078-1737910800-1737912600@aomori-daibouken.com
SUMMARY:青森市道の駅ゆーさ浅虫 ねぶた祭 冬の陣2025
DESCRIPTION:2022年青森ねぶた大賞受賞「龍王」・「弁天様」(制作/竹浪比呂央)や浅虫さくら観光ホテルに新しく展示された「海幸彦と山幸彦」(制作/野村昴史)等のねぶたや、夏祭りの主役「大型ねぶた」を制作するねぶた師18人のうち8人の作風が凝縮された「ねぶたアート」を飾る旅館等を、ガイドによる解説付きで巡ります。ねぶた師立田龍宝さんの御指南による直径90センチの巨大金魚ねぶた作り体験や、「真冬のねぶた祭り」も敢行！！浅虫ならではのスペシャルな冬のお祭り。お土産には、浅虫ゆかりの棟方志功も愛したねぶたをモチーフにした消しゴム版画のスタンプもどうぞ！ \n\n\n\n【見どころ】 \n\n\n\n★浅虫ねぶた祭・冬の陣！+-+-+-+-+-+-+-+-+-+-+-+-+-+-+-+-+1月26日（日）17：00〜17：30ゆーさ浅虫市場駐車場（立田龍宝制作「三番叟」前）・灯りが入ったねぶたの前でお囃子、跳人がしばれる寒さに負けず狂喜乱舞！ \nhttps://www.asamushi.com/news/80/\n\n\n\n同日、ゆーさ浅虫にて浅虫マルシェ開催\n\n\n\n\n\n道の駅ゆーさ浅虫 あさむしマルシェ【開催概要】日時：2025年1月26日(日)　11:00～15:00場所：道の駅ゆ～さ浅虫　3階フリースペース会場内に飲食用テーブルも設置しています。2階の休憩コーナーもご利用ください。出店者情報あさ...aomori-daibouken.com
URL:https://aomori-daibouken.com/event/16078
LOCATION:道の駅ゆ～さ浅虫\, 〒039-3501 青森県青森市浅虫蛍谷３４１−１９\, 青森市\, 青森県\, 039-3501
CATEGORIES:1月青森イベント,2025青森冬雪まつりイベント,★青森県メインイベント,ねぶた祭り2025,浅虫,青森県道の駅イベント
ATTACH;FMTTYPE=image/jpeg:https://aomori-daibouken.com/wp-content/uploads/2024/12/820x547_ea1e9d427fb5664c32c517a73e421e58_94a337e8801ae6fc0ed66afc37b519cc5aae372e.jpg
END:VEVENT
BEGIN:VEVENT
DTSTART;TZID=Asia/Tokyo:20250124T000000
DTEND;TZID=Asia/Tokyo:20250126T235959
DTSTAMP:20260421T215202
CREATED:20241220T060316Z
LAST-MODIFIED:20250126T030427Z
UID:15114-1737676800-1737935999@aomori-daibouken.com
SUMMARY:道の駅いなかだて 冬の田んぼアート
DESCRIPTION:「冬の田んぼアート」は「冬を楽しむ！雪と遊ぶ！」を目的として２０１６年から始まりました。 \n\n\n\n田んぼアート第２会場に、光と影の芸術「スノーアート」を展示するほか、さまざまな体験プログラムを実施し、大人も子どもも楽しめるイベントです。 \n\n\n\n今年のスノーアートも例年同様スノーアーティスト、サイモン・ベック氏から技術継承した有志団体、スノーアーティスト集団　Ｉｔ’ｓ　ＯＫ．（イッツオーケー）が制作します。 \n\n\n\n昨年、小雪による中止のため公開できずにいた、アーティストGOMA氏がデザインしたコラボ作品を描きます。 \n\n\n\n\n\n\n\nヨル☆ゆき \n\n\n\n岩木山に夕日が沈む頃、ライトに照らされ雪原に浮かび上がるスノーアート。イルミネーションやキャンドルが弥生の里を優しいあかりで包む。光と影が織りなす幻想的な世界。 \n\n\n\n〇キャンドルナイト　／ \n\n\n\n　１月２４日（金）～２６日（日）　１７：００～２０：００ \n\n\n\n　ろうそくにより、温かくロマンティックな雰囲気をお楽しみいただけます。 \n\n\n\n\n\n\n\n　 \n\n\n\n〇ヤヨイノカガヤキ　／ \n\n\n\n　１月２４日（金）～２６日（日）　１７：００～２０：００ \n\n\n\n　展望所内を稲穂の形をしたイルミネーションやミニ灯籠で彩り、弥生時代と雪のコラボレーションを演出します。 \n\n\n\n\n\n\n\n※イメージ画像 \n\n\n\n〇イルミネーション列車　／ \n\n\n\n　１月２４日（金）～２６日（日） \n\n\n\n　弘南鉄道弘南線の電車内を、雪の結晶の形をしたイルミネーションで彩ります。 \n\n\n\n　運行日時などについては、弘南鉄道公式ホームページをご覧ください。 \n\n\n\n\n\n\n\nいろいろプレゼント企画！ \n\n\n\n〇弥生の里展望所入館者に各日先着で田んぼアートからの収穫米（３合）プレゼント（各日先着１００名）　／ \n\n\n\n　１月２５日（土）・２６日（日）　１０：００～ \n\n\n\n〇「わにサポ」を利用してスノーアートを観覧した方対象に「アップルスナック」をプレゼント　／ \n\n\n\n　１月２４日（金）～２６日（日）　１０：００～２０：００　　※１月２４日（金）のみ １８：００～２０：００ \n\n\n\n　弘南鉄道にて来場し、弘南鉄道生活応援きっぷ「わにサポ」と弥生の里展望所入館券をイベント本部にてご提示された方に「アップルスナック」をプレゼントします。 \n\n\n\n\n\n\n\n雪で遊ぶさまざまな体験コンテンツ   \n\n\n\n・スノーアート体験　　　　／　１月２５日（土）・２６日（日）　２日間で１組限定（１組５名まで） \n\n\n\n・スノーアート散策　　　　／　１月２５日（土）・２６日（日）　１０：００～・１１：００～・１３：００～・１４：００～ \n\n\n\n　 \n\n\n\n詳しい内容とご予約は「青森県津軽地域観光情報サイト　Time Trip TSUGARU」ホームページをご覧ください。 \n\n\n\n・スノーラフト体験　／　１月２４日（金）～２６日（日）　１０：００～１９：００（日曜は１８：００まで） \n\n\n\n　対象／健康な方（幼児は抱っこ、乳児不可）　　料金／１人３００円（２歳以下無料） \n\n\n\n　※手袋や帽子など防寒着の着用必須 \n\n\n\n\n\n\n\n　 \n\n\n\n・雪上マッコ探し　／　１月２４日（金）～２６日（日）　受付（当日申込みのみ）／１０：３０～　実施／１１：３０～ \n\n\n\n　雪にかくされたを探し出し、見つけたボールの色によって会場の店頭で使える割引券がもらえる。 \n\n\n\n　対象／高校生まで　　定員／各日３０名 \n\n\n\n\n\n\n\n　 \n\n\n\n・スノードーム・冬のキャンバスボードづくりワークショップ　／　１月２５日（土）・２６日（日）　 \n\n\n\n１１：００～　スノードーム 　　　　　　　好きなオブジェを入れた自分だけのスノードームを作ろう！ \n\n\n\n１４：００～　冬のキャンバスボード　　冬をイメージした自分だけのキャンバスボードを作ろう！ \n\n\n\n\n\n\n\n　誰でも（小学生以下は保護者同伴）参加できます。　（作業時間：約１時間）※各回定員２０名 \n\n\n\n　お申し込みは、田舎館村企画観光課までお電話ください。 \n\n\n\n　TEL:0172-58-2111（内線242・243） \n\n\n\n\n\n\n\n温かい食べ物や絶品スイーツなどが立ち並ぶ！ \n\n\n\n・飲食＆物販等　／　 １月２４日（金）～２６日（日）　１０：００～２０：００ \n\n\n\n\n\n\n\n　 \n\n\n\n\n\n\n\n \nhttp://www.vill.inakadate.lg.jp/docs/2024121800019/
URL:https://aomori-daibouken.com/event/15114
LOCATION:道の駅いなかだて 弥生の里\, 〒038-1111 青森県南津軽郡田舎館村高樋八幡１０−１０
CATEGORIES:1月青森イベント,2025青森冬雪まつりイベント,★青森県メインイベント,青森イルミネーション・花火,青森県 イベント 子ども,青森県キッチンカーイベント2025,青森県道の駅イベント
ATTACH;FMTTYPE=image/jpeg:https://aomori-daibouken.com/wp-content/uploads/2024/12/2025tirashiomote-scaled.jpg
END:VEVENT
BEGIN:VEVENT
DTSTART;TZID=Asia/Tokyo:20250123T000000
DTEND;TZID=Asia/Tokyo:20250123T235959
DTSTAMP:20260421T215202
CREATED:20250111T045125Z
LAST-MODIFIED:20250202T230043Z
UID:16861-1737590400-1737676799@aomori-daibouken.com
SUMMARY:青森市浪岡 道の駅 たご助 弘前に移転の為閉店
DESCRIPTION:https://www.instagram.com/ryouhei_a.k.a_tagosuke7/
URL:https://aomori-daibouken.com/event/16861
LOCATION:道の駅 なみおか アップルヒル\, 〒038-1331 青森県青森市浪岡大字女鹿沢野尻２−３
CATEGORIES:浪岡イベント,青森市イベント 今日 明日 今週末 2025,青森市閉店,青森県道の駅イベント
ATTACH;FMTTYPE=image/jpeg:https://aomori-daibouken.com/wp-content/uploads/2025/01/473162045_18293165359214361_7532308203099734026_n.jpg
END:VEVENT
BEGIN:VEVENT
DTSTART;TZID=Asia/Tokyo:20250118T100000
DTEND;TZID=Asia/Tokyo:20250118T130000
DTSTAMP:20260421T215202
CREATED:20250105T042927Z
LAST-MODIFIED:20250106T005214Z
UID:16363-1737194400-1737205200@aomori-daibouken.com
SUMMARY:道の駅よこはま ぬぐだまるフェス！
DESCRIPTION:産直団体なたねの会の冬のイベントが、1/18（土）に行われます！道の駅店内で行いますが、外と変わらず寒いので、暖かい服装でお越しください！お待ちしておりま～す！ \nhttps://www.nanohana-plaza.com/2077
URL:https://aomori-daibouken.com/event/16363
LOCATION:道の駅よこはま\, 〒039-4134 青森県上北郡横浜町林ノ脇７９−１２
CATEGORIES:1月青森イベント,★青森県メインイベント,下北イベント,青森お得情報,青森県道の駅イベント
ATTACH;FMTTYPE=image/jpeg:https://aomori-daibouken.com/wp-content/uploads/2025/01/216a54e059250c8835a714dd893fc39b-1086x1536-1.jpg
END:VEVENT
BEGIN:VEVENT
DTSTART;TZID=Asia/Tokyo:20250104T000000
DTEND;TZID=Asia/Tokyo:20250104T235959
DTSTAMP:20260421T215202
CREATED:20250105T045314Z
LAST-MODIFIED:20250108T013054Z
UID:16375-1735948800-1736035199@aomori-daibouken.com
SUMMARY:道の駅 はしかみ Smile Flower オープン
DESCRIPTION:この投稿をInstagramで見る            🍞【一本堂・白山台店】🍎(@ippondo_hakusandai)がシェアした投稿
URL:https://aomori-daibouken.com/event/16375
LOCATION:道の駅 はしかみ\, 〒039-1201 青森県三戸郡階上町道仏耳ケ吠３−３
CATEGORIES:1月青森イベント,青森県道の駅イベント,青森県開店
ATTACH;FMTTYPE=image/jpeg:https://aomori-daibouken.com/wp-content/uploads/2025/01/472215262_827056352834377_335114541184084727_n.jpg
END:VEVENT
BEGIN:VEVENT
DTSTART;TZID=Asia/Tokyo:20250102T000000
DTEND;TZID=Asia/Tokyo:20250102T235959
DTSTAMP:20260421T215202
CREATED:20241226T013915Z
LAST-MODIFIED:20250106T005513Z
UID:15611-1735776000-1735862399@aomori-daibouken.com
SUMMARY:十和田市 道の駅とわだ 初売り2025
DESCRIPTION:2025年1月2日（木）に道の駅とわだ新春初売りフェアを開催します。様々な催し物をご用意しております。2024年も一年間ありがとうございました。2025年もよろしくお願いいたします。 \nhttps://www.towadapia.com/2024/12/21/%e9%81%93%e3%81%ae%e9%a7%85%e3%81%a8%e3%82%8f%e3%81%a0%e6%96%b0%e6%98%a5%e5%88%9d%e5%a3%b2%e3%82%8a%e3%83%95%e3%82%a7%e3%82%a2%e3%81%ae%e3%81%8a%e7%9f%a5%e3%82%89%e3%81%9b-3/
URL:https://aomori-daibouken.com/event/15611
LOCATION:道の駅とわだ\, 〒034-0051 青森県十和田市伝法平窪３７−２
CATEGORIES:1月青森イベント,★青森県メインイベント,十和田市イベント,青森県 イベント 子ども,青森県初売り・福袋チラシ2025,青森県道の駅イベント
ATTACH;FMTTYPE=image/jpeg:https://aomori-daibouken.com/wp-content/uploads/2024/12/新春フェア2025_20241224_141504_0000_page-0001-1536x1086-1.jpg
END:VEVENT
BEGIN:VEVENT
DTSTART;TZID=Asia/Tokyo:20250102T000000
DTEND;TZID=Asia/Tokyo:20250102T235959
DTSTAMP:20260421T215202
CREATED:20241224T234430Z
LAST-MODIFIED:20250106T005514Z
UID:15448-1735776000-1735862399@aomori-daibouken.com
SUMMARY:青森市浪岡道の駅 アップルヒル初売り福袋
DESCRIPTION:日時:2025年1月2日(木) 9:00～場所:道の駅「なみおか」アップルヒル　イベント広場 \n\n\n\n初売りにご来店いただいたお客様へ感謝の気持ちを込めて、各種ふるまい・オリジナル福袋販売を開催!皆さまのご来店をお待ちしております。 \n\n\n\n\n\n\n\n●オリジナル福袋販売▪時間 9:00～▪場所 イベント広場▪価格 2000円(税込)▪先着限定100個(お一人様1個限定)アップルヒル商品券(2000円分)とお菓子詰合せが入った豪華福袋♪※アップルヒル商品券は当日からご利用できます。※アップルヒルお土産コーナー・レストランでご利用可能です。 \n\n\n\n●みかんまき▪時間 10:00～▪場所 イベント広場▪みかん20kg \n\n\n\n●豚汁ふるまい▪時間 10:30～▪場所 イベント広場▪先着 200名様 \n\n\n\n●きなこ・ごま餅ふるまい▪時間 11:00～▪場所 イベント広場▪先着 120名様 \n\n\n\n●小山せんべい2000円以上ご購入で割れせんべい詰合せプレゼント!▪時間 9:00～▪場所 こみせ横丁 小山せんべい▪数量限定30個 \n\n\n\n●浅草焼通常120円のつぶあんを100円(税込)でご提供!▪時間 9:00～▪場所 こみせ横丁 小山せんべい▪数量限定なし●お土産コーナー1/2(木)・1/3(金)の2日間限定!ミニアップルパイ3個入を新春価格500円(税込)にてご提供!▪時間 9:00～▪場所 お土産コーナー▪数量限定なし \n\n\n\n\nhttps://www.applehill.co.jp/infodetail/?topic=574
URL:https://aomori-daibouken.com/event/15448
LOCATION:道の駅 なみおか アップルヒル\, 〒038-1331 青森県青森市浪岡大字女鹿沢野尻２−３
CATEGORIES:1月青森イベント,★青森県メインイベント,浪岡イベント,青森市クーポン・お得情報,青森市初売りチラシ2025,青森県道の駅イベント
ATTACH;FMTTYPE=image/jpeg:https://aomori-daibouken.com/wp-content/uploads/2024/12/12181438_67625fd84111b.jpg
END:VEVENT
BEGIN:VEVENT
DTSTART;TZID=Asia/Tokyo:20241222T000000
DTEND;TZID=Asia/Tokyo:20241222T235959
DTSTAMP:20260421T215202
CREATED:20241209T012308Z
LAST-MODIFIED:20250303T020128Z
UID:13799-1734825600-1734911999@aomori-daibouken.com
SUMMARY:青森市 あさむしクリスマスマルシェイベント フリーマーケット・クラフト 道の駅ゆ～さ浅虫
DESCRIPTION:青森県青森市道の駅ゆ～さ浅虫にて「クリスマスマルシェ」のイベントが開催されます。 \n\n\n\nクラフトやフリーマーケットの出店者も募集しています。 \n\n\n\nクラフトで普段から活動されている方は出店料1000円出店場所：4階会議室の（45cm×180㎝のテーブル2台）のスペース募集ブース：3～5ブース \n\n\n\n\n\n青森市浅虫水族館 イルカパフォーマンスクリスマスver.大人気のイルカパフォーマンスをクリスマスの特別バージョンで開催いたします。サンタさんとイルカたちが協力してクリスマスツリーを完成させます。一緒に楽しいクリスマスを迎えましょう！【開催期間】令和6年 1...aomori-daibouken.com
URL:https://aomori-daibouken.com/event/13799
LOCATION:道の駅ゆ～さ浅虫\, 〒039-3501 青森県青森市浅虫蛍谷３４１−１９\, 青森市\, 青森県\, 039-3501
CATEGORIES:★青森県メインイベント,浅虫,青森マルシェ2025,青森市クラフトイベント2025 ハンドメイド,青森市クリスマスイベント,青森市クーポン・お得情報,青森市フリーマーケット,青森県クラフトイベント 2025 マルシェ,青森県クラフトハンドメイドイベント2025 募集,青森県グルメイベント,青森県道の駅イベント
ATTACH;FMTTYPE=image/jpeg:https://aomori-daibouken.com/wp-content/uploads/2024/12/462552411_2496071947254244_1554742805799548908_n.jpg
END:VEVENT
BEGIN:VEVENT
DTSTART;TZID=Asia/Tokyo:20241221T000000
DTEND;TZID=Asia/Tokyo:20241221T235959
DTSTAMP:20260421T215202
CREATED:20241216T051401Z
LAST-MODIFIED:20241216T051402Z
UID:14221-1734739200-1734825599@aomori-daibouken.com
SUMMARY:深浦 道の駅 いか焼き村フェア
DESCRIPTION:今年最後のいか焼き村フェアは第3土曜日開催だよ!!#道の駅ふかうら#かそせいか焼き村#いか焼き村フェア pic.twitter.com/26JST1izxW — 道の駅ふかうら (@ikayakimura88) December 16\, 2024
URL:https://aomori-daibouken.com/event/14221
LOCATION:道の駅 ふかうら「かそせ いか焼き村」\, 〒038-2411 青森県西津軽郡深浦町風合瀬上砂子川１４４−１
CATEGORIES:青森お得情報,青森県道の駅イベント
ATTACH;FMTTYPE=image/jpeg:https://aomori-daibouken.com/wp-content/uploads/2024/12/Ge4erT1asAArHp3.jpg
END:VEVENT
BEGIN:VEVENT
DTSTART;TZID=Asia/Tokyo:20241215T110000
DTEND;TZID=Asia/Tokyo:20241215T150000
DTSTAMP:20260421T215202
CREATED:20241204T030313Z
LAST-MODIFIED:20241215T072224Z
UID:13610-1734260400-1734274800@aomori-daibouken.com
SUMMARY:青森市道の駅ゆ～さ浅虫 おさがり会 RingRing
DESCRIPTION:この投稿をInstagramで見る            RingRing(おさがり会)＠青森(@ringring201124)がシェアした投稿
URL:https://aomori-daibouken.com/event/13610
LOCATION:道の駅ゆ～さ浅虫\, 〒039-3501 青森県青森市浅虫蛍谷３４１−１９\, 青森市\, 青森県\, 039-3501
CATEGORIES:浅虫,青森市クーポン・お得情報,青森県 イベント 子ども,青森県道の駅イベント
ATTACH;FMTTYPE=image/jpeg:https://aomori-daibouken.com/wp-content/uploads/2024/12/スクリーンショット-2024-12-04-125337.jpg
END:VEVENT
BEGIN:VEVENT
DTSTART;TZID=Asia/Tokyo:20241208T110000
DTEND;TZID=Asia/Tokyo:20241208T150000
DTSTAMP:20260421T215202
CREATED:20241120T010857Z
LAST-MODIFIED:20241202T050625Z
UID:12633-1733655600-1733670000@aomori-daibouken.com
SUMMARY:道の駅 奥入瀬ろまんパーク わくわく ぱくぱく
DESCRIPTION:学校の枠を超えて結成した高校生のチームです。街を元気にするため中高生が楽しめる食のイベントを企画！「わくわく ぱくぱく ろまんパーク」を開催します。 \n\n\n\n【日時】2024年12月８日（日）11時～15時【場所】道の駅 奥入瀬ろまんパーク（十和田市奥瀬堰道39-1）【内容】地元グルメ＆キッチンカー大集合、三本木農業恵拓高校相撲部の特製ちゃんこなど高校生も出店 \nhttps://www.pref.aomori.lg.jp/soshiki/kenmin/ka-renkei/chiikikatsudo_pj.html
URL:https://aomori-daibouken.com/event/12633
LOCATION:道の駅 奥入瀬ろまんパーク\, 〒034-0301 青森県十和田市奥瀬堰道３９−１
CATEGORIES:★青森県メインイベント,十和田市イベント,十和田市キッチンカーイベント2025,十和田祭り,青森県グルメイベント,青森県道の駅イベント
ATTACH;FMTTYPE=image/jpeg:https://aomori-daibouken.com/wp-content/uploads/2024/11/wakuwakupakupaku.jpg
END:VEVENT
BEGIN:VEVENT
DTSTART;TZID=Asia/Tokyo:20241208T100000
DTEND;TZID=Asia/Tokyo:20241208T181500
DTSTAMP:20260421T215202
CREATED:20241119T053937Z
LAST-MODIFIED:20241207T035257Z
UID:12616-1733652000-1733681700@aomori-daibouken.com
SUMMARY:道の駅おがわら湖 アルパジョンサンタ号
DESCRIPTION:\\⭐️『Xmas event 2024 in 小川原湖』⭐️//日時:12/8 17:15-18:15へ変更となりました！場所:道の駅おがわら湖 施設内駐車場主催:道の駅おがわら湖… https://t.co/iEgZR1tpgh pic.twitter.com/YAimMwsrkZ — 神出鬼没🌕アルパジョンサンタ号🤶⭐️🚌=33 (@Arpajon_Xmas) November 28\, 2024
URL:https://aomori-daibouken.com/event/12616
LOCATION:道の駅おがわら湖\, 〒039-2401 青森県上北郡東北町上野南谷地１２２番
CATEGORIES:★青森県メインイベント,アルパジョンサンタ号 運行予定,青森 クリスマス イベント,青森イルミネーション・花火,青森県 イベント 子ども,青森県イベント 今日 明日 今週末,青森県キッチンカーイベント2025,青森県道の駅イベント
ATTACH;FMTTYPE=image/jpeg:https://aomori-daibouken.com/wp-content/uploads/2024/11/GctatbHbcAIQ7lP.jpg
END:VEVENT
BEGIN:VEVENT
DTSTART;TZID=Asia/Tokyo:20241207T090000
DTEND;TZID=Asia/Tokyo:20241208T150000
DTSTAMP:20260421T215202
CREATED:20241105T082231Z
LAST-MODIFIED:20241215T073009Z
UID:12295-1733562000-1733670000@aomori-daibouken.com
SUMMARY:ふかうらお魚フェス2024 道の駅ふかうら イベント
DESCRIPTION:http://www.fukaura.jp/events/FFF2024.pdf
URL:https://aomori-daibouken.com/event/12295
LOCATION:道の駅 ふかうら「かそせ いか焼き村」\, 〒038-2411 青森県西津軽郡深浦町風合瀬上砂子川１４４−１
CATEGORIES:★青森県メインイベント,青森お得情報,青森県イベント 今日 明日 今週末,青森県道の駅イベント,青森祭り2025 冬雪春桜夏秋
ATTACH;FMTTYPE=image/jpeg:https://aomori-daibouken.com/wp-content/uploads/2024/11/image-6.jpg
END:VEVENT
BEGIN:VEVENT
DTSTART;TZID=Asia/Tokyo:20241203T000000
DTEND;TZID=Asia/Tokyo:20241203T235959
DTSTAMP:20260421T215202
CREATED:20241126T002704Z
LAST-MODIFIED:20241203T012301Z
UID:12832-1733184000-1733270399@aomori-daibouken.com
SUMMARY:道の駅つるた→五所川原市→鶴田町 アルパジョンサンタ号
DESCRIPTION:⭐️\\サプライズイベントin 鶴田町//⭐️明日12/3 16:20頃〜17:00頃まで道の駅つるた様の駐車場をお借りしてアルパジョン主催クリスマスイベントを開催します🤶⭐️みんな遊びに来てねー！🚍⭐️詳細は今夜後ほど投稿します🤶⭐️… pic.twitter.com/IK800nkYVF — 神出鬼没🌕アルパジョンサンタ号🤶⭐️🚌=33 (@Arpajon_Xmas) December 2\, 2024 \n\n\n\n\\⭐️『Xmas event 2024 in 五所川原市』⭐️//日時:12/3 18:00-18:30場所:立佞武多の館前広場主催:アルパジョン 立佞武多の館様から快く駐車場ご提供いただきました🚍⭐️写真撮影イベントとなります！立佞武多の館のガラスに映り込むサンタ号を是非見に来てくださいね🚍⭐️… pic.twitter.com/hwUAklSBM0 — 神出鬼没🌕アルパジョンサンタ号🤶⭐️🚌=33 (@Arpajon_Xmas) November 25\, 2024 \n\n\n\n \n\n\n\n\\⭐️『Xmas event 2024 in 五所川原市』⭐️//日時:12/3 19:00-20:00場所:エルム 駐車場主催:アルパジョン エルムの施設所有している五所川原まちづくり株式会社様より五所川原市民の皆さんのためならと、快く駐車場ご提供いただきました🚍⭐️写真撮影イベントとなります！… pic.twitter.com/IKV8JIeBXR — 神出鬼没🌕アルパジョンサンタ号🤶⭐️🚌=33 (@Arpajon_Xmas) November 25\, 2024
URL:https://aomori-daibouken.com/event/12832
LOCATION:立佞武多の館\, 〒037-0063 青森県五所川原市大町５０６−１０
CATEGORIES:アルパジョンサンタ号 運行予定,五所川原市イベント,青森 クリスマス イベント,青森イルミネーション・花火,青森県 イベント 子ども,青森県道の駅イベント
ATTACH;FMTTYPE=image/jpeg:https://aomori-daibouken.com/wp-content/uploads/2024/11/image-15-1.jpg
END:VEVENT
BEGIN:VEVENT
DTSTART;TZID=Asia/Tokyo:20241201T160000
DTEND;TZID=Asia/Tokyo:20241201T170000
DTSTAMP:20260421T215202
CREATED:20241106T043721Z
LAST-MODIFIED:20241106T043724Z
UID:12372-1733068800-1733072400@aomori-daibouken.com
SUMMARY:道の駅よこはまにサンタ号がやってくる！
DESCRIPTION:今年も子供たちに夢と笑顔を届けます！協賛、運営ボランティア募集中 pic.twitter.com/X0Ju0tBRJc — よこはま SUN*SUN プロジェクト (@yokohama_SUNsun) October 24\, 2024
URL:https://aomori-daibouken.com/event/12372
LOCATION:道の駅よこはま\, 〒039-4134 青森県上北郡横浜町林ノ脇７９−１２
CATEGORIES:青森 クリスマス イベント,青森イルミネーション・花火,青森県道の駅イベント
ATTACH;FMTTYPE=image/jpeg:https://aomori-daibouken.com/wp-content/uploads/2024/11/GapncUAa4AAY11a.jpg
END:VEVENT
BEGIN:VEVENT
DTSTART;TZID=Asia/Tokyo:20241124T100000
DTEND;TZID=Asia/Tokyo:20241124T140000
DTSTAMP:20260421T215202
CREATED:20241120T004122Z
LAST-MODIFIED:20250108T060118Z
UID:12628-1732442400-1732456800@aomori-daibouken.com
SUMMARY:あさむし月末マルシェ
DESCRIPTION:【開催概要】日時：2024年11月24日(日)　10:00～14:00場所：道の駅ゆ～さ浅虫　3階フリースペース \n\n\n\n会場内に飲食用テーブルも多数設置しております。また2階には休憩コーナーもございます。 \n\n\n\n【来場特典】①先着100名様、マルシェにてお買い物された方へ、　道の駅ゆ～さ浅虫1階売店のソフトクリーム割引券をプレゼント \n\n\n\n②あさむし温泉プリン金治郎の空き瓶を活用し、　クリスマスで飾れるような作品をつくる　ワークショップを開催します。※こちらはどなたでもご参加いただけますが、　材料がなくなり次第、終了となります。 \n\n\n\n出店者情報\n\n\n\nあさむし温泉プリン金治郎プリン、その他apricotタコライス、マフィンCOYOTE RANCHスモークフード、炭火焼きタコス、カキ氷などpa-story抹茶ラテ、チョコバナナsasharium (サシャリウム)タロットカード占いIRIS GARDENーアイリスガーデンー花苗・観葉植物・多肉植物・ガーデン雑貨森山さんのループ組紐無料体験\n\n\n\n \nhttps://asamushi.org/column/483/
URL:https://aomori-daibouken.com/event/12628
LOCATION:道の駅ゆ～さ浅虫\, 〒039-3501 青森県青森市浅虫蛍谷３４１−１９\, 青森市\, 青森県\, 039-3501
CATEGORIES:★青森県メインイベント,浅虫,青森 クリスマス イベント,青森マルシェ2025,青森ワークショップ,青森市イベント 今日 明日 今週末 2025,青森県道の駅イベント
ATTACH;FMTTYPE=image/webp:https://aomori-daibouken.com/wp-content/uploads/2024/11/あさむし月末マルシェ2024年11月チラシHP用.png.webp
END:VEVENT
BEGIN:VEVENT
DTSTART;TZID=Asia/Tokyo:20241124T000000
DTEND;TZID=Asia/Tokyo:20241124T235959
DTSTAMP:20260421T215202
CREATED:20241121T130234Z
LAST-MODIFIED:20241215T073133Z
UID:12689-1732406400-1732492799@aomori-daibouken.com
SUMMARY:道の駅おがわら湖 冬支度セール
DESCRIPTION:https://ogawarako.co.jp/topic/topic-1796/
URL:https://aomori-daibouken.com/event/12689
LOCATION:道の駅おがわら湖\, 〒039-2401 青森県上北郡東北町上野南谷地１２２番
CATEGORIES:★青森県メインイベント,青森お得情報,青森県イベント 今日 明日 今週末,青森県道の駅イベント
ATTACH;FMTTYPE=image/jpeg:https://aomori-daibouken.com/wp-content/uploads/2024/11/2024-冬支度セール_page-0001-1085x1536-1.jpg
END:VEVENT
END:VCALENDAR