BEGIN:VCALENDAR
VERSION:2.0
PRODID:-//青森大冒険-イベントカレンダー情報とブログ- - ECPv6.15.20//NONSGML v1.0//EN
CALSCALE:GREGORIAN
METHOD:PUBLISH
X-ORIGINAL-URL:https://aomori-daibouken.com
X-WR-CALDESC:青森大冒険-イベントカレンダー情報とブログ- のイベント
REFRESH-INTERVAL;VALUE=DURATION:PT1H
X-Robots-Tag:noindex
X-PUBLISHED-TTL:PT1H
BEGIN:VTIMEZONE
TZID:Asia/Tokyo
BEGIN:STANDARD
TZOFFSETFROM:+0900
TZOFFSETTO:+0900
TZNAME:JST
DTSTART:20220101T000000
END:STANDARD
END:VTIMEZONE
BEGIN:VEVENT
DTSTART;TZID=Asia/Tokyo:20250331T090000
DTEND;TZID=Asia/Tokyo:20250404T090000
DTSTAMP:20260422T022212
CREATED:20250330T002916Z
LAST-MODIFIED:20250330T002917Z
UID:21447-1743411600-1743757200@aomori-daibouken.com
SUMMARY:すき屋 一時閉店
DESCRIPTION:異物混入に関するお詫びと全店一時閉店に関するお知らせ \n\n\n\nお知らせ2025年03月29日 \n\n\n\n昨日3月28日（金）、すき家 昭島駅南店でお客様に提供した商品に異物（害虫）が混入していたことが判明しました。お申し出をいただいたお客様には、多大なる苦痛とご迷惑をおかけしましたことを深くお詫び申し上げます。また、日頃よりすき家をご利用いただいているお客様および関係者の皆様に多大なるご迷惑とご心配をおかけしておりますことを重ねてお詫び申し上げます。 \n\n\n\n当該店舗を3月28日（金）にご利用されたお客様より、商品に異物（害虫）が混入していた旨のお電話をいただきました。当該お客様には店舗責任者より直接謝罪を行い、商品代金のご返金および商品現物の回収を行いました。この事態を受け、当該店舗は同日午後5時頃から自主的に営業を停止しています。3月31日（月）には、専門の害虫駆除会社様による駆除施工の実施を予定しています。 \n\n\n\n現在、当該店舗における現地調査や回収を行った異物の検査を行い、混入が発生した原因の迅速な特定に努めています。 \n\n\n\n当社では2025年1月に別の店舗においても異物混入が発生していたにも関わらず、このような事態を招いてしまったことを大変重く受け止めております。 \n\n\n\nこの状況を真摯に受け止め、すき家はショッピングセンター内などの一部店舗を除く全店を、3月31日（月）午前9時から4月4日（金）午前9時までの間、害虫・害獣の外部侵入、および内部生息発生撲滅のための対策を行わせていただくため、一時閉店することを決定しました。お客様および関係者の皆様に、多大なるご迷惑とご心配をおかけいたしますこと、深くお詫び申し上げます。 \n\n\n\n以上 \nhttps://www.sukiya.jp/news/2025/03/20250329.html
URL:https://aomori-daibouken.com/event/21447
LOCATION:すき屋\, すき屋
CATEGORIES:三沢市閉店,上十三三八閉店,五所川原閉店,八戸市閉店,十和田市閉店,弘前市閉店,青森市閉店,青森県閉店
ATTACH;FMTTYPE=image/png:https://aomori-daibouken.com/wp-content/uploads/2025/03/X青森イベント情報のコピー-51.png
END:VEVENT
BEGIN:VEVENT
DTSTART;TZID=Asia/Tokyo:20250330T000000
DTEND;TZID=Asia/Tokyo:20250330T235959
DTSTAMP:20260422T022212
CREATED:20250203T235619Z
LAST-MODIFIED:20250227T135047Z
UID:18619-1743292800-1743379199@aomori-daibouken.com
SUMMARY:弘前市「ホリデイスポーツクラブ弘前」閉店
DESCRIPTION:2025 年2⽉1⽇ \n\n\n\n会員の皆様へ  \n\n\n\n 株式会社東祥 ホリデイスポーツクラブ本部 執⾏役員 佐藤 央 \n\n\n\n 「ホリデイスポーツクラブ弘前」閉店のお知らせ  \n\n\n\n　拝啓 晩冬の候、会員の皆様におかれましては益々ご健勝のこととお慶び申し上げます。　平素はホリデイスポーツクラブ弘前をご利⽤いただき誠にありがとうございます。  \n\n\n\n　さて、当施設は2009 年に開業して以来、会員の皆様、地域の皆様に⽀えられ16 年間営業を 続けて参りました。2020年に拡⼤した新型コロナウイルス感染症に加え、電気ガス等エネルギー価格⾼騰の影響を受けながらも、会員皆様のご理解・ご協⼒のもと様々な努⼒を重ね、また機械設備等の修繕等にも⼤きな費⽤を掛けながら営業を続けてきました。そのような中で、今後の事業継続につきまして慎重に検討しました結果、2025年3⽉30⽇（⽇）をもちまして営業を終了することといたしました。  \n\n\n\n　皆様の⻑年にわたるご愛顧に⼼から感謝申し上げますとともに、営業終了を迎えるまでの間、会員の皆様に楽しく運動していただけるよう、従業員⼀同、誠⼼誠意努めて参ります。 何卒、ご理解のほど宜しくお願い申し上げます。  \n\n\n\n敬具 \n\n\n\n記  \n\n\n\n\n最終営業⽇ 2025 年3⽉30⽇（⽇） 19：00終了 ※3⽉28⽇（金）は特別営業いたします。 ※プログラムスケジュール等、詳細は後⽇お知らせいたします。 \n\n\n\n⽉会費のご請求について 2025 年3⽉分が最終のお引落としとなります。 引落⽇：2025年3⽉27⽇（木） \n\n\n\nレンタルロッカーについて レンタルロッカーは2025年3⽉30⽇（⽇）をもちまして終了となりますので、それまでの間にお荷物は必ずお持ち帰りください。 \n\n\n\n閉店に伴うお問い合わせ先ホリデイスポーツクラブ弘前ＴＥＬ：0172-31-2552 \n\n\n\n\n以上 \nhttps://www.holiday-sc.jp/?shop=035-hirosaki\n\n\n\n〒036-8057 青森県弘前市八幡町３丁目２−１ \n\n\n\n\n\n\n\n\n\n\n\n\n\n今後の イベント はありません。
URL:https://aomori-daibouken.com/event/18619
LOCATION:ホリデイスポーツクラブ弘前\, 〒036-8057 青森県弘前市八幡町３丁目２−１
CATEGORIES:弘前市イベント 今日 明日 土手町 2025,弘前市閉店
END:VEVENT
BEGIN:VEVENT
DTSTART;TZID=Asia/Tokyo:20250303T000000
DTEND;TZID=Asia/Tokyo:20250303T235959
DTSTAMP:20260422T022212
CREATED:20250306T123659Z
LAST-MODIFIED:20250306T123700Z
UID:20599-1740960000-1741046399@aomori-daibouken.com
SUMMARY:弘前市 アメリカ屋 弘前城東店 閉店
DESCRIPTION:この投稿をInstagramで見る            アメリカ屋 弘前城東店🇺🇸(@amerikaya_hirosakijoto)がシェアした投稿
URL:https://aomori-daibouken.com/event/20599
LOCATION:アメリカ屋 弘前城東店\, 〒036-8084 青森県弘前市高田２丁目１−５
CATEGORIES:3月青森イベント,弘前市イベント 今日 明日 土手町 2025,弘前市閉店
ATTACH;FMTTYPE=image/jpeg:https://aomori-daibouken.com/wp-content/uploads/2025/03/スクリーンショット-2025-03-06-213630.jpg
END:VEVENT
BEGIN:VEVENT
DTSTART;TZID=Asia/Tokyo:20250228T000000
DTEND;TZID=Asia/Tokyo:20250228T235959
DTSTAMP:20260422T022212
CREATED:20250221T033504Z
LAST-MODIFIED:20250227T134900Z
UID:19863-1740700800-1740787199@aomori-daibouken.com
SUMMARY:弘前市 総合家具館かさいイオンタウン弘前樋の口店 契約期間満了につき閉店
DESCRIPTION:総合家具館かさいイオンタウン弘前樋の口店とかさい家具 フランスベッドギャラリー弘前が閉店します。 \n\n\n\n\n\n\n\n\n\n\n\n\n平素は格別のお引き立てを賜り、厚く御礼を申し上げます。突然ではございますが、契約期間満了につき2025年2月28日をもちまして閉店する運びとなりました。 \n\n\n\n短い期間ではございましたが、これまで賜りました皆様のご支援とご愛顧に心より感謝申し上げます。 \n\n\n\n閉店後（2025年3月1日以降）のお問い合わせにつきましては、以下までお願いいたします。 \n\n\n\n株式会社かさい090-4632-7812ご対応時間 10:00 〜 18:00 （火曜水曜定休） \n\n\n\n短い期間ではありますが、多くのご愛顧に感謝しまして閉店セールを開催いたします。店内展示品最大70%offとなります。また、お取り寄せ商品も特別価格でご提供いたします。 \n\n\n\n閉店セールにつきましては公式Instagramにて随時配信しております。公式Instagramはこちらから \n\n\n\n皆様のご来店、心よりお待ちしております。 \nhttp://kasaikagu.co.jp/4464.html\n\n\n\n〒036-8278 青森県弘前市樋の口２丁目９−６ \n\n\n\n\n\n\n\n\n\n\n\n\n\n今後の イベント はありません。
URL:https://aomori-daibouken.com/event/19863
LOCATION:イオンタウン弘前樋の口\, 〒036-8278 青森県弘前市樋の口２丁目９−６
CATEGORIES:2月青森イベント,弘前市クーポン,弘前市閉店
ATTACH;FMTTYPE=image/jpeg:https://aomori-daibouken.com/wp-content/uploads/2025/02/20250228_02.jpg
END:VEVENT
BEGIN:VEVENT
DTSTART;TZID=Asia/Tokyo:20250228T000000
DTEND;TZID=Asia/Tokyo:20250228T235959
DTSTAMP:20260422T022212
CREATED:20250210T222508Z
LAST-MODIFIED:20250227T134639Z
UID:19119-1740700800-1740787199@aomori-daibouken.com
SUMMARY:弘前市 田さ恋いむらヒロロ店 閉店
DESCRIPTION:おはようございます☺︎・いきなりですが！田さ恋いむらヒロロ店2月末日をもちまして閉店いたします！！・やっとご報告できて、さっぱり🤣🤣🤣・田さ恋いむらを支えてくださっている皆さまには早くお伝えしたかったのですが、年明け早々しっかり決まった閉店日。大人の事情があったりで、お客様とヒロロ店の話しをしたりすることが心苦しい状態でした🫣ごめんなさい！・何もわからないままワクワクでスタートさせた2店舗目。でもいつからかワクワクしなくてこれは違うなと…ずっと違和感を感じていました何事も挑戦してみないとわからないだから、とても学んだ約3年間でした♡・こんないきなり閉店をするときっと悪い噂が流れたりするかもですが、田さ恋いむら的にはそんな事は全くなく、とても前向きな閉店となります🤪スタッフに閉店ポップを作ってもらったら、まるで開店かってくらい華やかな閉店ポップで仕上げてきました🤣イメージは次に向けての卒業🎓・ヒロロ店はこれで終わりになりますが、これからも田さ恋いむららしくやりたい事に集中して楽しんでまいりたいと思いますので、どうぞよろしくお願いいたします🙇‍♂️・ヒロロ店をご利用いただいた全てのお客様、ヒロロ店をやらなければ出逢わなかったたくさんの方々、ありがとうございました🙇‍♂️・田舎館本店と武道館店に今は集中します！もしかしたらまた新しいやりたい事がでてきたらどうしようー社長に怒られちゃうー🤪🤪🤪・・田さ恋いむら青森県南津軽郡田舎館村大字田舎館字東田160-1 \nhttps://www.instagram.com/tasakoimura/\n\n\n\n\n\n\n\n\n\n\n\n\n\n今後の イベント はありません。
URL:https://aomori-daibouken.com/event/19119
LOCATION:ヒロロ(HIRORO)\, 〒036-8003 青森県弘前市駅前町９−２０
CATEGORIES:2月青森イベント,弘前市イベント 今日 明日 土手町 2025,弘前市閉店
ATTACH;FMTTYPE=image/jpeg:https://aomori-daibouken.com/wp-content/uploads/2025/02/image-16.jpg
END:VEVENT
BEGIN:VEVENT
DTSTART;TZID=Asia/Tokyo:20250228T000000
DTEND;TZID=Asia/Tokyo:20250228T235959
DTSTAMP:20260422T022212
CREATED:20250208T023406Z
LAST-MODIFIED:20250227T134540Z
UID:18897-1740700800-1740787199@aomori-daibouken.com
SUMMARY:弘前市 蜜芋屋 閉店
DESCRIPTION:閉店情報です弘前市城東にある蜜芋屋が2月28日で閉店します情報提供により判明無人販売は引き続き営業するとのことです#弘前市閉店情報 pic.twitter.com/2Gs0UA6eLi — イブさん (@0NA1w8hZYWY8Fh8) February 6\, 2025 \n\n\n\n〒036-8095 青森県弘前市城東５丁目１３−１ \n\n\n\n\n\n\n\n\n\n\n\n\n\n今後の イベント はありません。
URL:https://aomori-daibouken.com/event/18897
LOCATION:蜜芋屋\, 〒036-8095 青森県弘前市城東５丁目１３−１
CATEGORIES:2月青森イベント,弘前市イベント 今日 明日 土手町 2025,弘前市閉店
ATTACH;FMTTYPE=image/png:https://aomori-daibouken.com/wp-content/uploads/2025/02/インスタイベントのコピー.png
END:VEVENT
BEGIN:VEVENT
DTSTART;TZID=Asia/Tokyo:20250224T000000
DTEND;TZID=Asia/Tokyo:20250224T235959
DTSTAMP:20260422T022212
CREATED:20241229T024056Z
LAST-MODIFIED:20250219T022545Z
UID:15961-1740355200-1740441599@aomori-daibouken.com
SUMMARY:弘前市 ライトオン弘前樋の口イオンタウン店 閉店
DESCRIPTION:ライトオンでは2/15~2/24の期間中、閉店セールといたしまして、 \n\n\n\n店内商品レジにて更に20%OFFイベントを開催致します✨ \n\n\n\n定価の商品も、お値下げになっている商品もすべてレジにて更に20%OFFとなります！🎉 \n\n\n\n※Levi’s 501・G-Star RAW等、一部対象外商品もございます。 \n\n\n\nこのお買い得な期間限定イベントは、 \n\n\n\nライトオン弘前樋の口イオンタウン店での \n\n\n\n１９年間最後のイベントとなります。 \n\n\n\nこの機会に是非、お越しくださいませ✨ \n\n\n\n皆さまのお越しをスタッフ一同、心よりお待ちしております。 \nhttps://www.aeontown.co.jp/hirosaki/shopnews/detail/?id=010358&scd=000205\n\n\n\n\nライトオン弘前樋の口イオンタウン店は、 \n\n\n\n2025年2月24日（月・祝）をもちまして営業を終了させていただく運びとなりました。 \n\n\n\n長い間のご愛顧ありがとうございました。 \n\n\n\nつきましては、12月27日（金）より閉店セールを開催致します！ \n\n\n\n定価商品からSALE商品まで、対象商品はレジにて更に２０％OFFとなります！✨ \n\n\n\n※一部対象外商品もございます。 \n\n\n\n※閉店SALE期間中は返品・交換出来かねますので何卒ご了承くださいませ。 \n\n\n\n皆さまのご来店を心よりお待ちしております。 \nhttps://www.aeontown.co.jp/hirosaki/shopnews/detail/?id=008600&scd=000205
URL:https://aomori-daibouken.com/event/15961
LOCATION:イオンタウン弘前樋の口\, 〒036-8278 青森県弘前市樋の口２丁目９−６
CATEGORIES:弘前市イベント 今日 明日 土手町 2025,弘前市クーポン,弘前市閉店
ATTACH;FMTTYPE=image/jpeg:https://aomori-daibouken.com/wp-content/uploads/2024/12/ffb4c148.jpg
END:VEVENT
BEGIN:VEVENT
DTSTART;TZID=Asia/Tokyo:20250218T000000
DTEND;TZID=Asia/Tokyo:20250218T235959
DTSTAMP:20260422T022212
CREATED:20250207T080115Z
LAST-MODIFIED:20250219T042440Z
UID:18881-1739836800-1739923199@aomori-daibouken.com
SUMMARY:平川市 パレットショップ 弘前林檎工房店 閉店
DESCRIPTION:【閉店のお知らせ】いつもパレットショップ 弘前林檎工房店をご利用いただき、ありがとうございます。雪の影響で電気設備に破損が見つかり、復旧の目処が立たなくなった為、急遽閉店となりました。約1年8ヶ月の間、多くのお客様に支えていただき心より感謝申し上げます。 pic.twitter.com/yX7gZbX4aq — パレットショップ-弘前林檎工房店 (@palettoshop_hi) February 19\, 2025 \n\n\n\n2月8日より閉店までの間、感謝を込めた閉店セールを開催いたします‼︎カネショウのハチミツ入りりんご酢スティック🍎高砂食品の大人気商品が大大特価で販売いたします‼︎是非この機会にお買い求めください😊 pic.twitter.com/Q4aNTNJDTQ — パレットショップ-弘前林檎工房店 (@palettoshop_hi) February 7\, 2025
URL:https://aomori-daibouken.com/event/18881
LOCATION:パレットショップ 弘前林檎工房店\, 〒036-0233 青森県平川市日沼富田３０−９
CATEGORIES:2月青森イベント,平川市イベント,弘前市イベント 今日 明日 土手町 2025,弘前市クーポン,弘前市閉店
ATTACH;FMTTYPE=image/jpeg:https://aomori-daibouken.com/wp-content/uploads/2025/02/GkHaNMuaAAM7G1I.jpg
END:VEVENT
BEGIN:VEVENT
DTSTART;TZID=Asia/Tokyo:20250126T000000
DTEND;TZID=Asia/Tokyo:20250126T235959
DTSTAMP:20260422T022212
CREATED:20250131T022334Z
LAST-MODIFIED:20250131T022335Z
UID:18260-1737849600-1737935999@aomori-daibouken.com
SUMMARY:弘前市 イオンタウン弘前樋ノ口 まくらぼ 閉店
DESCRIPTION:この度、まくらぼ イオンタウン弘前樋の口店は2025年1月26日(日)をもって閉店させて頂く事となりました。ご愛顧頂きました皆様に厚く御礼申し上げます。 \nhttps://www.nishikawa-store.com/pages/shop-list
URL:https://aomori-daibouken.com/event/18260
LOCATION:イオンタウン弘前樋の口\, 〒036-8278 青森県弘前市樋の口２丁目９−６
CATEGORIES:1月青森イベント,弘前市イベント 今日 明日 土手町 2025,弘前市閉店
END:VEVENT
BEGIN:VEVENT
DTSTART;TZID=Asia/Tokyo:20241231T000000
DTEND;TZID=Asia/Tokyo:20241231T235959
DTSTAMP:20260422T022212
CREATED:20250124T050236Z
LAST-MODIFIED:20250124T050237Z
UID:17709-1735603200-1735689599@aomori-daibouken.com
SUMMARY:弘前市 清明館 閉店
DESCRIPTION:#弘前市 #岩木山神社 隣りの #清明館 さん、まさかの「明日で #廃業 します」とのこと。もう体力的にできないんだそうです。ありが湯ございましたと長い間お疲れ様でしたといいお湯でしたを伝えて惜別してきました。12/31はラスト、12時から19時まで。行ける方はぜひお別れしてきてください… pic.twitter.com/r9efCUvHzM — 青森の湯っこ協会 (@aomorinoyukko) December 30\, 2024 \n\n\n\n百沢温泉清明館。350円。NaMg炭酸水素塩化物泉源泉掛け流し、強炭酸味、金気臭、スベスベ感あり、45度。ソープ類完備。 pic.twitter.com/oI2oryZtla — マーズ湯メロウ (@johnbonzocage1) December 7\, 2023
URL:https://aomori-daibouken.com/event/17709
LOCATION:温泉旅館 清明館\, 〒036-1343 青森県弘前市百沢寺沢163ｰ2
CATEGORIES:弘前市イベント 今日 明日 土手町 2025,弘前市閉店
END:VEVENT
BEGIN:VEVENT
DTSTART;TZID=Asia/Tokyo:20241121T000000
DTEND;TZID=Asia/Tokyo:20241121T235959
DTSTAMP:20260422T022212
CREATED:20241121T001534Z
LAST-MODIFIED:20250108T001546Z
UID:16605-1732147200-1732233599@aomori-daibouken.com
SUMMARY:弘前市 ファミリーマート 弘前大久保店 閉店
DESCRIPTION:
URL:https://aomori-daibouken.com/event/16605
LOCATION:ファミリーマート 弘前大久保店\, 〒036-8052 青森県弘前市堅田神田４９３−１
CATEGORIES:弘前市イベント 今日 明日 土手町 2025,弘前市閉店
END:VEVENT
BEGIN:VEVENT
DTSTART;TZID=Asia/Tokyo:20241104T000000
DTEND;TZID=Asia/Tokyo:20241104T235959
DTSTAMP:20260422T022212
CREATED:20241104T054200Z
LAST-MODIFIED:20241219T054658Z
UID:14910-1730678400-1730764799@aomori-daibouken.com
SUMMARY:弘前市 極煮干し本舗弘前店 閉店
DESCRIPTION:https://www.gokunibo.com/
URL:https://aomori-daibouken.com/event/14910
LOCATION:極煮干し本舗 弘前店\, 〒036-8094 青森県弘前市外崎４丁目1−５
CATEGORIES:弘前ラーメン閉店,弘前市イベント 今日 明日 土手町 2025,弘前市閉店
ATTACH;FMTTYPE=image/jpeg:https://aomori-daibouken.com/wp-content/uploads/2024/11/image.jpg
END:VEVENT
BEGIN:VEVENT
DTSTART;TZID=Asia/Tokyo:20240930T000000
DTEND;TZID=Asia/Tokyo:20240930T235959
DTSTAMP:20260422T022212
CREATED:20240928T003938Z
LAST-MODIFIED:20250123T121751Z
UID:9162-1727654400-1727740799@aomori-daibouken.com
SUMMARY:弘前 屋台ラーメン ◯尚(MARUNAO)「マルナオ」9月30日閉店
DESCRIPTION:弘前 屋台ラーメン「◯尚(MARUNAO)」に9月30日をもって閉店すると貼り紙がありました。 \n\n\n\n\n～お知らせ～ \n\n\n\nこの度、ラーメン屋とりんご畑の二刀流が難しくなり、9月30日(月)をもって閉店する事に致しました。今まで19年間ありがとうございました。 \n\n\n\nラーメン　マルナオ \n\n\n\n\n住所〒036-8084 青森県弘前市高田４丁目３−３ 有限会社 石沢商会駐車場内営業時間20時30分～0時00分定休日日曜日
URL:https://aomori-daibouken.com/event/9162
LOCATION:◯尚(MARUNAO)\, 〒036-8084 青森県弘前市高田４丁目３−３ 有限会社 石沢商会駐車場内
CATEGORIES:弘前ラーメン閉店,弘前市閉店,青森県ラーメン閉店
END:VEVENT
BEGIN:VEVENT
DTSTART;TZID=Asia/Tokyo:20240929T000000
DTEND;TZID=Asia/Tokyo:20240929T235959
DTSTAMP:20260422T022212
CREATED:20240928T004251Z
LAST-MODIFIED:20241003T011843Z
UID:9164-1727568000-1727654399@aomori-daibouken.com
SUMMARY:イトーヨーカドー 弘前店閉店
DESCRIPTION:弘前イトーヨーカドー閉店後とロフト テナントとセール ポッポ弘前イトーヨーカドーの閉店いつ？2024年9月29日（日）で閉店します。JR弘前駅から徒歩9分、地下1階と地上8階建ての大きな総合スーパーであるイトーヨーカドー弘前店は、子供から年配者までたくさんの人...aomori-daibouken.com2025.02.06
URL:https://aomori-daibouken.com/event/9164
LOCATION:イトーヨーカドー 弘前店\, 〒036-8002 青森県弘前市駅前３丁目2−１
CATEGORIES:★青森県メインイベント,弘前市閉店
END:VEVENT
BEGIN:VEVENT
DTSTART;TZID=Asia/Tokyo:20240929T000000
DTEND;TZID=Asia/Tokyo:20240929T235959
DTSTAMP:20260422T022212
CREATED:20240908T000800Z
LAST-MODIFIED:20250108T001110Z
UID:16603-1727568000-1727654399@aomori-daibouken.com
SUMMARY:弘前市イトーヨーカドー ロフト弘前店 閉店
DESCRIPTION:
URL:https://aomori-daibouken.com/event/16603
LOCATION:イトーヨーカドー 弘前店\, 〒036-8002 青森県弘前市駅前３丁目2−１
CATEGORIES:弘前市イベント 今日 明日 土手町 2025,弘前市閉店
END:VEVENT
BEGIN:VEVENT
DTSTART;TZID=Asia/Tokyo:20240829T000000
DTEND;TZID=Asia/Tokyo:20240829T235959
DTSTAMP:20260422T022212
CREATED:20241007T062643Z
LAST-MODIFIED:20250123T122558Z
UID:10174-1724889600-1724975999@aomori-daibouken.com
SUMMARY:弘前市 中三弘前店 閉店
DESCRIPTION:中三弘前店は、長らく弘前市民に親しまれてきた百貨店でしたが、残念ながら閉店いたしました。 \n\n\n\n閉店に至った主な理由は、人口減少、運営会社の経営状況の悪化や、新型コロナウイルス感染症の影響などが複合的に重なったためと言われています。 \n\n\n\n中三弘前店の閉店は、弘前市中心部の商業に大きな影響を与え、地域住民からは惜しむ声が多く聞かれました。閉店後、建物は解体され、跡地の活用については様々な議論がなされましたが、2024年現在、具体的な活用方法はまだ決定していないようです。 \n\n\n\n中三弘前店の閉店は、弘前市の土手町において大きな出来事であり、多くの人々の記憶に残るものとなりました。
URL:https://aomori-daibouken.com/event/10174
LOCATION:中三 弘前店\, 〒036-8182 青森県弘前市土手町４９−１
CATEGORIES:弘前市イベント 今日 明日 土手町 2025,弘前市閉店
END:VEVENT
BEGIN:VEVENT
DTSTART;TZID=Asia/Tokyo:20240606T000000
DTEND;TZID=Asia/Tokyo:20240606T235959
DTSTAMP:20260422T022212
CREATED:20240606T003732Z
LAST-MODIFIED:20250108T003926Z
UID:16613-1717632000-1717718399@aomori-daibouken.com
SUMMARY:弘前市 ファミリーマート 弘前松原東店 閉店
DESCRIPTION:
URL:https://aomori-daibouken.com/event/16613
LOCATION:ファミリーマート 弘前松原東店\, 〒036-8141 青森県弘前市松原東４丁目６番地２９
CATEGORIES:弘前市イベント 今日 明日 土手町 2025,弘前市閉店
END:VEVENT
BEGIN:VEVENT
DTSTART;TZID=Asia/Tokyo:20240531T000000
DTEND;TZID=Asia/Tokyo:20240531T235959
DTSTAMP:20260422T022212
CREATED:20250123T125255Z
LAST-MODIFIED:20250123T125257Z
UID:17565-1717113600-1717199999@aomori-daibouken.com
SUMMARY:弘前市土手町 開雲堂 閉店
DESCRIPTION:弘前の土手町にある開雲堂は、明治12年（1879年）創業145年という大変歴史のあるお店で、弘前市民に長年親しまれてきましたが、5月31日をもって閉店します。 \n\n\n\n特に有名なのは、「卍最中（まんじもなか）」というお菓子です。地元の方々はもちろん、観光客にも人気のお土産として知られていました。 \n\n\n\n閉店の発表は5月上旬にSNSや店頭の張り紙で行われ、閉店までの期間は多くのお客様が訪れ、連日行列ができたり、営業時間内に商品が完売したりするほどだったそうです。最終営業日も朝早くから行列ができていたとのことです。 \n\n\n\n閉店の理由は体調不良と後継者がいない事のようです。 \n\n\n\n開雲堂の閉店は、弘前の街にとって大きな出来事であり、多くの方々から惜しむ声が上がりました。
URL:https://aomori-daibouken.com/event/17565
LOCATION:開雲堂\, 〒036-8182 青森県弘前市土手町８３
CATEGORIES:弘前市イベント 今日 明日 土手町 2025,弘前市閉店
END:VEVENT
BEGIN:VEVENT
DTSTART;TZID=Asia/Tokyo:20240510T000000
DTEND;TZID=Asia/Tokyo:20240510T235959
DTSTAMP:20260422T022212
CREATED:20250123T130325Z
LAST-MODIFIED:20250123T130326Z
UID:17570-1715299200-1715385599@aomori-daibouken.com
SUMMARY:弘前市新鍛冶町 カラオケ ラフェスタ 閉店
DESCRIPTION:弘前市新鍛冶町にあったカラオケスポット「La Festa (ラフェスタ)」は、2024年5月10日(金)をもって閉店します。 \n\n\n\n昔はディスコだったようで、クラブにする話もあったそうです。 \n\n\n\n以前は、コロナ禍で一時休業していた時期もあったようですが、その後営業を再開していました。しかし、残念ながら2024年5月に閉店という形になったようです。
URL:https://aomori-daibouken.com/event/17570
LOCATION:カラオケ ラフェスタ\, 〒036-8193 青森県弘前市新鍛冶町46
CATEGORIES:弘前市イベント 今日 明日 土手町 2025,弘前市閉店
END:VEVENT
BEGIN:VEVENT
DTSTART;TZID=Asia/Tokyo:20240430T000000
DTEND;TZID=Asia/Tokyo:20240430T235959
DTSTAMP:20260422T022212
CREATED:20241219T050057Z
LAST-MODIFIED:20241219T050058Z
UID:14863-1714435200-1714521599@aomori-daibouken.com
SUMMARY:弘前市 ジュンク堂書店 弘前中三店 閉店
DESCRIPTION:
URL:https://aomori-daibouken.com/event/14863
LOCATION:中三 弘前店\, 〒036-8182 青森県弘前市土手町４９−１
CATEGORIES:弘前市イベント 今日 明日 土手町 2025,弘前市閉店
END:VEVENT
BEGIN:VEVENT
DTSTART;TZID=Asia/Tokyo:20240331T000000
DTEND;TZID=Asia/Tokyo:20240331T235959
DTSTAMP:20260422T022212
CREATED:20250123T133741Z
LAST-MODIFIED:20250123T133742Z
UID:17593-1711843200-1711929599@aomori-daibouken.com
SUMMARY:弘前市 焼肉みなみ亭 閉店
DESCRIPTION:
URL:https://aomori-daibouken.com/event/17593
LOCATION:焼肉みなみ亭\, 〒036-8026 青森県弘前市南横町３０
CATEGORIES:弘前市イベント 今日 明日 土手町 2025,弘前市閉店
END:VEVENT
BEGIN:VEVENT
DTSTART;TZID=Asia/Tokyo:20240214T000000
DTEND;TZID=Asia/Tokyo:20240214T235959
DTSTAMP:20260422T022212
CREATED:20250123T130656Z
LAST-MODIFIED:20250123T130657Z
UID:17574-1707868800-1707955199@aomori-daibouken.com
SUMMARY:弘前市 寿司 龍三郎 閉店
DESCRIPTION:
URL:https://aomori-daibouken.com/event/17574
LOCATION:回転寿司 龍三郎\, 〒036-8071 青森県弘前市大久保西田１２４−１
CATEGORIES:弘前市イベント 今日 明日 土手町 2025,弘前市閉店
END:VEVENT
BEGIN:VEVENT
DTSTART;TZID=Asia/Tokyo:20231230T000000
DTEND;TZID=Asia/Tokyo:20231230T235959
DTSTAMP:20260422T022212
CREATED:20250123T132559Z
LAST-MODIFIED:20250123T132600Z
UID:17582-1703894400-1703980799@aomori-daibouken.com
SUMMARY:弘前市土手町 肉の富田 閉店
DESCRIPTION:「お知らせ　令和5年12月30日で閉店致しました 長い間ありがとうございました　肉の富田」との張り紙がありました。 \n\n\n\n「肉の富田」は、土手町通りに店を構えていた老舗のお店で、特に「かつサンド」が名物として地元の方々に親しまれていたお店でしたが、残念ながら2023年12月30日をもって閉店いたしました。
URL:https://aomori-daibouken.com/event/17582
LOCATION:富田牛肉店（肉の富田）\, 〒036-8182 青森県弘前市土手町１２１
CATEGORIES:弘前市イベント 今日 明日 土手町 2025,弘前市閉店
END:VEVENT
BEGIN:VEVENT
DTSTART;TZID=Asia/Tokyo:20231215T000000
DTEND;TZID=Asia/Tokyo:20231215T235959
DTSTAMP:20260422T022212
CREATED:20250123T131405Z
LAST-MODIFIED:20250123T131406Z
UID:17578-1702598400-1702684799@aomori-daibouken.com
SUMMARY:弘前市 八十八夜(はっぱち)閉店
DESCRIPTION:学生の味方　西弘の「八十八夜」閉店／弘前 | 陸奥新報弘前市の学生街・西弘の一角にあり、学生を中心に“はっぱち”の愛称で親しまれた居酒屋「八十八夜」が、店主の飯村千代春さん（行年７８）の急逝により、４０年以上掲げてきたのれんを下ろした。お金のない若者のた...mutsushimpo.com
URL:https://aomori-daibouken.com/event/17578
LOCATION:食事処 八十八夜\, 〒036-8224 青森県弘前市文京町６−１８
CATEGORIES:弘前市イベント 今日 明日 土手町 2025,弘前市閉店
END:VEVENT
END:VCALENDAR