BEGIN:VCALENDAR
VERSION:2.0
PRODID:-//青森大冒険-イベントカレンダー情報とブログ- - ECPv6.15.20//NONSGML v1.0//EN
CALSCALE:GREGORIAN
METHOD:PUBLISH
X-WR-CALNAME:青森大冒険-イベントカレンダー情報とブログ-
X-ORIGINAL-URL:https://aomori-daibouken.com
X-WR-CALDESC:青森大冒険-イベントカレンダー情報とブログ- のイベント
REFRESH-INTERVAL;VALUE=DURATION:PT1H
X-Robots-Tag:noindex
X-PUBLISHED-TTL:PT1H
BEGIN:VTIMEZONE
TZID:Asia/Tokyo
BEGIN:STANDARD
TZOFFSETFROM:+0900
TZOFFSETTO:+0900
TZNAME:JST
DTSTART:20240101T000000
END:STANDARD
END:VTIMEZONE
BEGIN:VEVENT
DTSTART;TZID=Asia/Tokyo:20250506T000000
DTEND;TZID=Asia/Tokyo:20250506T235959
DTSTAMP:20260426T014307
CREATED:20250311T234411Z
LAST-MODIFIED:20250331T012036Z
UID:20905-1746489600-1746575999@aomori-daibouken.com
SUMMARY:五所川原市 サンデー 五所川原店 閉店
DESCRIPTION:青森県五所川原市のエルムの隣の「サンデー 五所川原店」がゴールデンウイーク最後の5/6で閉店になります。 \n\n\n\n\n\n403 Forbiddentokubai.co.jp
URL:https://aomori-daibouken.com/event/20905
LOCATION:サンデー 五所川原店\, 〒037-0004 青森県五所川原市唐笠柳藤巻５０９−１
CATEGORIES:2025青森ゴールデンウィークイベント GW,五所川原市イベント,五所川原閉店
ATTACH;FMTTYPE=image/png:https://aomori-daibouken.com/wp-content/uploads/2025/03/X青森イベント情報のコピー-20.png
END:VEVENT
BEGIN:VEVENT
DTSTART;TZID=Asia/Tokyo:20250331T090000
DTEND;TZID=Asia/Tokyo:20250404T090000
DTSTAMP:20260426T014307
CREATED:20250330T002916Z
LAST-MODIFIED:20250330T002917Z
UID:21447-1743411600-1743757200@aomori-daibouken.com
SUMMARY:すき屋 一時閉店
DESCRIPTION:異物混入に関するお詫びと全店一時閉店に関するお知らせ \n\n\n\nお知らせ2025年03月29日 \n\n\n\n昨日3月28日（金）、すき家 昭島駅南店でお客様に提供した商品に異物（害虫）が混入していたことが判明しました。お申し出をいただいたお客様には、多大なる苦痛とご迷惑をおかけしましたことを深くお詫び申し上げます。また、日頃よりすき家をご利用いただいているお客様および関係者の皆様に多大なるご迷惑とご心配をおかけしておりますことを重ねてお詫び申し上げます。 \n\n\n\n当該店舗を3月28日（金）にご利用されたお客様より、商品に異物（害虫）が混入していた旨のお電話をいただきました。当該お客様には店舗責任者より直接謝罪を行い、商品代金のご返金および商品現物の回収を行いました。この事態を受け、当該店舗は同日午後5時頃から自主的に営業を停止しています。3月31日（月）には、専門の害虫駆除会社様による駆除施工の実施を予定しています。 \n\n\n\n現在、当該店舗における現地調査や回収を行った異物の検査を行い、混入が発生した原因の迅速な特定に努めています。 \n\n\n\n当社では2025年1月に別の店舗においても異物混入が発生していたにも関わらず、このような事態を招いてしまったことを大変重く受け止めております。 \n\n\n\nこの状況を真摯に受け止め、すき家はショッピングセンター内などの一部店舗を除く全店を、3月31日（月）午前9時から4月4日（金）午前9時までの間、害虫・害獣の外部侵入、および内部生息発生撲滅のための対策を行わせていただくため、一時閉店することを決定しました。お客様および関係者の皆様に、多大なるご迷惑とご心配をおかけいたしますこと、深くお詫び申し上げます。 \n\n\n\n以上 \nhttps://www.sukiya.jp/news/2025/03/20250329.html
URL:https://aomori-daibouken.com/event/21447
LOCATION:すき屋\, すき屋
CATEGORIES:三沢市閉店,上十三三八閉店,五所川原閉店,八戸市閉店,十和田市閉店,弘前市閉店,青森市閉店,青森県閉店
ATTACH;FMTTYPE=image/png:https://aomori-daibouken.com/wp-content/uploads/2025/03/X青森イベント情報のコピー-51.png
END:VEVENT
BEGIN:VEVENT
DTSTART;TZID=Asia/Tokyo:20250224T000000
DTEND;TZID=Asia/Tokyo:20250224T235959
DTSTAMP:20260426T014307
CREATED:20250203T010958Z
LAST-MODIFIED:20251203T051837Z
UID:18477-1740355200-1740441599@aomori-daibouken.com
SUMMARY:五所川原市エルム津軽ラーメン街道 一部店舗卒業
DESCRIPTION:青森県五所川原市エルム「津軽ラーメン街道」の一部店舗卒業閉店となります。3月に違うラーメン屋さんがオープンします。 \n\n\n\n\n\n\n			\n				\n			\n		\n\n\n\n\n			\n				\n			\n		\n\n\n\n\n			\n				\n			\n		\n\nhttps://elm-no-machi.jp/info/#3585\n\n\n\n\n\n\n\n\n\n\n\n\n\n\n\n五所川原市エルム津軽ラーメン街道 吟家 しろがね 竜葵 オープン2月24日(日)で現在のラーメン街道の一部が終了し、3月1日(土)にオープンします。〒037-0004 青森県五所川原市唐笠柳藤巻５１７−１aomori-daibouken.com
URL:https://aomori-daibouken.com/event/18477
LOCATION:ELM（エルム）\, 〒037-0004 青森県五所川原市唐笠柳藤巻５１７−１
CATEGORIES:2月青森イベント,五所川原市イベント,五所川原閉店,青森お得情報,青森県グルメイベント
ATTACH;FMTTYPE=image/jpeg:https://aomori-daibouken.com/wp-content/uploads/2025/02/スクリーンショット-2025-02-17-061158.jpg
END:VEVENT
BEGIN:VEVENT
DTSTART;TZID=Asia/Tokyo:20250131T000000
DTEND;TZID=Asia/Tokyo:20250131T235959
DTSTAMP:20260426T014307
CREATED:20241220T052403Z
LAST-MODIFIED:20250106T005206Z
UID:15100-1738281600-1738367999@aomori-daibouken.com
SUMMARY:五所川原市 ごはんや そあん食堂 閉店予定
DESCRIPTION:#そあん食堂 pic.twitter.com/P2b5P1qcMg — ごはんや そあん食堂 (@soan_syokudo) December 19\, 2024 \n\n\n\n『そあん食堂メニュー紹介』※日替り、お酒のおとも、は定期的に変わります。#そあん食堂 #そあん食堂メニュー pic.twitter.com/eeNChfdY8D — ごはんや そあん食堂 (@soan_syokudo) May 14\, 2020
URL:https://aomori-daibouken.com/event/15100
LOCATION:ごはんや そあん食堂\, 〒037-0033 青森県五所川原市鎌谷町１６２
CATEGORIES:1月青森イベント,五所川原市イベント,五所川原閉店
END:VEVENT
BEGIN:VEVENT
DTSTART;TZID=Asia/Tokyo:20250126T000000
DTEND;TZID=Asia/Tokyo:20250126T235959
DTSTAMP:20260426T014307
CREATED:20250109T005800Z
LAST-MODIFIED:20250124T051000Z
UID:16700-1737849600-1737935999@aomori-daibouken.com
SUMMARY:五所川原市 スーパードラッグアサヒ エルム店 閉店
DESCRIPTION:https://elm-no-machi.jp/shop/asahi/
URL:https://aomori-daibouken.com/event/16700
LOCATION:ELM（エルム）\, 〒037-0004 青森県五所川原市唐笠柳藤巻５１７−１
CATEGORIES:五所川原市イベント,五所川原閉店
END:VEVENT
BEGIN:VEVENT
DTSTART;TZID=Asia/Tokyo:20250126T000000
DTEND;TZID=Asia/Tokyo:20250126T235959
DTSTAMP:20260426T014307
CREATED:20241211T021050Z
LAST-MODIFIED:20250108T013557Z
UID:13912-1737849600-1737935999@aomori-daibouken.com
SUMMARY:五所川原市エルム OUT SKIRT五所川原店 閉店
DESCRIPTION:この投稿をInstagramで見る            OUTSKIRT 五所川原エルム店(@os_goshogawara)がシェアした投稿
URL:https://aomori-daibouken.com/event/13912
LOCATION:ELM（エルム）\, 〒037-0004 青森県五所川原市唐笠柳藤巻５１７−１
CATEGORIES:五所川原市イベント,五所川原閉店,青森お得情報
ATTACH;FMTTYPE=image/jpeg:https://aomori-daibouken.com/wp-content/uploads/2024/12/スクリーンショット-2024-12-15-160251.jpg
END:VEVENT
END:VCALENDAR