BEGIN:VCALENDAR
VERSION:2.0
PRODID:-//青森大冒険-イベントカレンダー情報とブログ- - ECPv6.15.20//NONSGML v1.0//EN
CALSCALE:GREGORIAN
METHOD:PUBLISH
X-ORIGINAL-URL:https://aomori-daibouken.com
X-WR-CALDESC:青森大冒険-イベントカレンダー情報とブログ- のイベント
REFRESH-INTERVAL;VALUE=DURATION:PT1H
X-Robots-Tag:noindex
X-PUBLISHED-TTL:PT1H
BEGIN:VTIMEZONE
TZID:Asia/Tokyo
BEGIN:STANDARD
TZOFFSETFROM:+0900
TZOFFSETTO:+0900
TZNAME:JST
DTSTART:20240101T000000
END:STANDARD
END:VTIMEZONE
BEGIN:VEVENT
DTSTART;TZID=Asia/Tokyo:20250531T000000
DTEND;TZID=Asia/Tokyo:20250531T235959
DTSTAMP:20260426T031325
CREATED:20250517T022707Z
LAST-MODIFIED:20250517T022709Z
UID:22845-1748649600-1748735999@aomori-daibouken.com
SUMMARY:つがる市 麺屋 独虎 無期限休業
DESCRIPTION:この投稿をInstagramで見る            麺屋 独虎(@menya_dokko)がシェアした投稿
URL:https://aomori-daibouken.com/event/22845
LOCATION:麺屋 独虎\, 〒038-3102 青森県つがる市柏下古川絹森１−４
CATEGORIES:つがる市イベント,青森県ラーメン閉店,青森県閉店
ATTACH;FMTTYPE=image/jpeg:https://aomori-daibouken.com/wp-content/uploads/2025/05/496822528_17947951127976362_6487511382289887086_n.jpg
END:VEVENT
BEGIN:VEVENT
DTSTART;TZID=Asia/Tokyo:20250512T000000
DTEND;TZID=Asia/Tokyo:20250512T235959
DTSTAMP:20260426T031325
CREATED:20250511T220403Z
LAST-MODIFIED:20250511T220405Z
UID:22653-1747008000-1747094399@aomori-daibouken.com
SUMMARY:青森市「海鮮処 潮彩亭 サンロード店」移転の為閉店
DESCRIPTION:サンロード青森店は、移転のため閉店致します。移転先が決まり次第SNS等にてお知らせします。 pic.twitter.com/HelPzkr2ej — 海鮮処　潮彩亭　サンロード店 (@siosaitei) May 9\, 2025
URL:https://aomori-daibouken.com/event/22653
LOCATION:サンロード青森\, 〒030-0845 青森県青森市緑３丁目９−２
CATEGORIES:サンロードイベント,青森市イベント 今日 明日 今週末 2025,青森市ラーメン閉店,青森市閉店
ATTACH;FMTTYPE=image/jpeg:https://aomori-daibouken.com/wp-content/uploads/2025/05/GqgYVGNbcAI3IHU.jpg
END:VEVENT
BEGIN:VEVENT
DTSTART;TZID=Asia/Tokyo:20250511T000000
DTEND;TZID=Asia/Tokyo:20250511T235959
DTSTAMP:20260426T031325
CREATED:20250320T225739Z
LAST-MODIFIED:20251208T040836Z
UID:21219-1746921600-1747007999@aomori-daibouken.com
SUMMARY:青森市新町 いきなり！ステーキ青森駅前店 閉店
DESCRIPTION:いきなり！ステーキ青森駅前店は、2025年5月11日をもって閉店することが決定しています。この店舗は2018年12月にオープンし、青森県内では唯一のいきなり！ステーキの店舗でしたが、全国的な閉店の流れに伴い、青森からも撤退することになりました。 \n\n\n\n店舗の所在地は青森県青森市新町1丁目9-18で、営業時間は11時00分から21時00分までです。閉店前の最後の営業日には、特別なメニューやイベントが行われる可能性がありますが、詳細は公式サイトや地元の情報を確認することをお勧めします。 \n\n\n\nこの店舗は、広めの店内にカウンター席とテーブル席があり、落ち着いて食事ができる環境が整っていました。ランチタイムには、ワイルドステーキやワイルドハンバーグのセットが人気でした。閉店に伴い、地元のファンや常連客にとっては寂しいニュースとなっています。 \n\n\n\n2025年9月10日にいきなり！ステーキ青森駅前店跡地に「鮨と地酒地雷也青森店 \n\n\n\n」移転オープン予定 \n\n\n\n\n\n青森市新町「鮨と地酒地雷也」移転オープン いきなりステーキ青森駅前店の跡地地雷也2号店、鮨と地酒地雷也青森店は、2025年9月10日に新町に移転オープンする予定です。この新しい店舗は、以前のいきなりステーキ青森駅前店の跡地に位置し、全室個室の設計となっています。宴会用の個室...aomori-daibouken.com2025.12.08\n\n\n\n\n【CLOSE】いきなり！ステーキ青森駅前店2025年5月11日(日)をもって閉店します。同店は、2018年12月にオープン。エルム五所川原店、八戸ラピア店、弘前ヒロロ店の閉店により、現在県内唯一の店舗となっています。閉店後の最寄りの店舗は、イオンモール盛岡店となります。#青森市 #新町… pic.twitter.com/XQEYWpDFFP — しょ－ (@shouno1) March 20\, 2025
URL:https://aomori-daibouken.com/event/21219
LOCATION:いきなり！ステーキ青森駅前店\, 〒030-0801 青森県青森市新町１丁目９−１８
CATEGORIES:青森市イベント 今日 明日 今週末 2025,青森市閉店
ATTACH;FMTTYPE=image/png:https://aomori-daibouken.com/wp-content/uploads/2025/03/X青森イベント情報のコピー-36.png
END:VEVENT
BEGIN:VEVENT
DTSTART;TZID=Asia/Tokyo:20250511T000000
DTEND;TZID=Asia/Tokyo:20250511T235959
DTSTAMP:20260426T031325
CREATED:20250310T124716Z
LAST-MODIFIED:20250517T235332Z
UID:20716-1746921600-1747007999@aomori-daibouken.com
SUMMARY:青森市 セボン 閉店
DESCRIPTION:この投稿をInstagramで見る            セボン(@cestbon911)がシェアした投稿
URL:https://aomori-daibouken.com/event/20716
LOCATION:セボン\, 青森市荒川松尾38-1
CATEGORIES:青森市イベント 今日 明日 今週末 2025,青森市閉店
END:VEVENT
BEGIN:VEVENT
DTSTART;TZID=Asia/Tokyo:20250506T000000
DTEND;TZID=Asia/Tokyo:20250506T235959
DTSTAMP:20260426T031325
CREATED:20250311T234411Z
LAST-MODIFIED:20250331T012036Z
UID:20905-1746489600-1746575999@aomori-daibouken.com
SUMMARY:五所川原市 サンデー 五所川原店 閉店
DESCRIPTION:青森県五所川原市のエルムの隣の「サンデー 五所川原店」がゴールデンウイーク最後の5/6で閉店になります。 \n\n\n\n\n\n403 Forbiddentokubai.co.jp
URL:https://aomori-daibouken.com/event/20905
LOCATION:サンデー 五所川原店\, 〒037-0004 青森県五所川原市唐笠柳藤巻５０９−１
CATEGORIES:2025青森ゴールデンウィークイベント GW,五所川原市イベント,五所川原閉店
ATTACH;FMTTYPE=image/png:https://aomori-daibouken.com/wp-content/uploads/2025/03/X青森イベント情報のコピー-20.png
END:VEVENT
BEGIN:VEVENT
DTSTART;TZID=Asia/Tokyo:20250425T000000
DTEND;TZID=Asia/Tokyo:20250425T235959
DTSTAMP:20260426T031325
CREATED:20250427T124713Z
LAST-MODIFIED:20250429T131155Z
UID:22316-1745539200-1745625599@aomori-daibouken.com
SUMMARY:青森市 若竹 閉店
DESCRIPTION:詳細は不明ですが、大盛メニューで有名な若竹さんが閉店との情報がありました。 \nhttps://www.facebook.com/groups/493856554089417/posts/3342164379258606
URL:https://aomori-daibouken.com/event/22316
LOCATION:お食事処 若竹\, 〒030-0843 青森県青森市浜田玉川２４６−１９
CATEGORIES:青森市イベント 今日 明日 今週末 2025,青森市ラーメン閉店,青森市閉店
ATTACH;FMTTYPE=image/png:https://aomori-daibouken.com/wp-content/uploads/2025/04/アイキャッチ-2025-04-27T214158.041.png
END:VEVENT
BEGIN:VEVENT
DTSTART;TZID=Asia/Tokyo:20250424T000000
DTEND;TZID=Asia/Tokyo:20250424T235959
DTSTAMP:20260426T031325
CREATED:20250420T024737Z
LAST-MODIFIED:20250420T024738Z
UID:22215-1745452800-1745539199@aomori-daibouken.com
SUMMARY:八戸市 うまいラーメンショップ 長苗代店 閉店
DESCRIPTION:私！人生初そして最後の朝ラーメンに挑戦です✨青森県八戸市長苗代ラーメンショップラーメン大800円ネギ丼小300円私が小とは…朝だからこれで許してやろうこのラーメン屋さんは朝から鉄火場です熱量がハンパ無い！そして色々な意味で自由🗽オーナー様40年以上の営業お疲れ様でした🙇‍♂️😭 pic.twitter.com/ZxZjD1aDuK — あおぞら洗車場パーキング (@aozorasennsha) April 15\, 2025
URL:https://aomori-daibouken.com/event/22215
LOCATION:うまいラーメンショップ 長苗代店\, 〒039-1103 青森県八戸市長苗代中坪７３−１
CATEGORIES:八戸市イベント 今日 明日 今週末 2025,八戸市閉店
ATTACH;FMTTYPE=image/png:https://aomori-daibouken.com/wp-content/uploads/2025/04/アイキャッチ-2025-04-20T114700.651.png
END:VEVENT
BEGIN:VEVENT
DTSTART;TZID=Asia/Tokyo:20250420T000000
DTEND;TZID=Asia/Tokyo:20250420T235959
DTSTAMP:20260426T031325
CREATED:20250427T233838Z
LAST-MODIFIED:20250428T030343Z
UID:22342-1745107200-1745193599@aomori-daibouken.com
SUMMARY:むつ市「ケンタッキーフライドチキンむつ店」閉店
DESCRIPTION:
URL:https://aomori-daibouken.com/event/22342
LOCATION:ケンタッキーフライドチキンむつ店\, ケンタッキーフライドチキンむつ店
CATEGORIES:むつ市イベント,むつ市閉店,青森県閉店
ATTACH;FMTTYPE=image/png:https://aomori-daibouken.com/wp-content/uploads/2025/04/アイキャッチ-2025-04-28T083705.878.png
END:VEVENT
BEGIN:VEVENT
DTSTART;TZID=Asia/Tokyo:20250419T000000
DTEND;TZID=Asia/Tokyo:20250419T235959
DTSTAMP:20260426T031325
CREATED:20250420T024043Z
LAST-MODIFIED:20250420T024044Z
UID:22209-1745020800-1745107199@aomori-daibouken.com
SUMMARY:八戸市 中華 達 閉店
DESCRIPTION:八戸駅前の中華 達が閉店してしまった pic.twitter.com/B0XKEmrkqY — かそせ (@Maple703) April 19\, 2025
URL:https://aomori-daibouken.com/event/22209
LOCATION:中華 達\, 青森県八戸市一番町1-3-15
CATEGORIES:八戸市イベント 今日 明日 今週末 2025,八戸市閉店
ATTACH;FMTTYPE=image/jpeg:https://aomori-daibouken.com/wp-content/uploads/2025/04/Go3iwO4b0AAvcLw.jpg
END:VEVENT
BEGIN:VEVENT
DTSTART;TZID=Asia/Tokyo:20250403T000000
DTEND;TZID=Asia/Tokyo:20250403T235959
DTSTAMP:20260426T031325
CREATED:20250403T045113Z
LAST-MODIFIED:20250428T030343Z
UID:21611-1743638400-1743724799@aomori-daibouken.com
SUMMARY:むつ市海老川町 ファミリーマートさとう 閉店
DESCRIPTION:むつ市海老川町のローカルスーパー「ファミリーマートさとう」が閉店しました。大間店は去年の2月に閉店していました。 \n\n\n\n\n\n【速報】「ファミリーマートさとう（むつ市）」が“突然”事業停止…自己破産申請へ　負債総額は8億8千万円か（2025年4月3日掲載）｜青森放送NEWS NNN日本テレビのニュースサイト「日テレNEWS NNN」は政治、経済、国際、社会、スポーツ、カルチャー・エンタメ・芸能、ライフなど、ニュース速報のほか天気、地震、津波、台風など防災・気象情報を配信していま...news.ntv.co.jp
URL:https://aomori-daibouken.com/event/21611
LOCATION:ファミリーマートさとう\, ファミリーマートさとう
CATEGORIES:むつ市閉店,青森県閉店
ATTACH;FMTTYPE=image/png:https://aomori-daibouken.com/wp-content/uploads/2025/04/アイキャッチ-2025-04-03T135031.843.png
END:VEVENT
BEGIN:VEVENT
DTSTART;TZID=Asia/Tokyo:20250401T000000
DTEND;TZID=Asia/Tokyo:20250401T235959
DTSTAMP:20260426T031325
CREATED:20250108T075612Z
LAST-MODIFIED:20250227T135203Z
UID:16657-1743465600-1743551999@aomori-daibouken.com
SUMMARY:十和田市 みちのく温泉 4月から無期限休業
DESCRIPTION:みちのく温泉♨️無くなるかもですって。何という事だ。うちから1番近い温泉♨️誰か引き継がないものか pic.twitter.com/V3vVKBi4cl — yamashita issei (@euph2010ya) January 4\, 2025 \n\n\n\n〒034-0031 青森県十和田市東三番町２１−５ \n\n\n\n\n\n\n\n\n\n\n\n\n\n今後の イベント はありません。
URL:https://aomori-daibouken.com/event/16657
LOCATION:みちのく温泉\, 〒034-0031 青森県十和田市東三番町２１−５
CATEGORIES:十和田市イベント,十和田市閉店
END:VEVENT
BEGIN:VEVENT
DTSTART;TZID=Asia/Tokyo:20250331T090000
DTEND;TZID=Asia/Tokyo:20250404T090000
DTSTAMP:20260426T031325
CREATED:20250330T002916Z
LAST-MODIFIED:20250330T002917Z
UID:21447-1743411600-1743757200@aomori-daibouken.com
SUMMARY:すき屋 一時閉店
DESCRIPTION:異物混入に関するお詫びと全店一時閉店に関するお知らせ \n\n\n\nお知らせ2025年03月29日 \n\n\n\n昨日3月28日（金）、すき家 昭島駅南店でお客様に提供した商品に異物（害虫）が混入していたことが判明しました。お申し出をいただいたお客様には、多大なる苦痛とご迷惑をおかけしましたことを深くお詫び申し上げます。また、日頃よりすき家をご利用いただいているお客様および関係者の皆様に多大なるご迷惑とご心配をおかけしておりますことを重ねてお詫び申し上げます。 \n\n\n\n当該店舗を3月28日（金）にご利用されたお客様より、商品に異物（害虫）が混入していた旨のお電話をいただきました。当該お客様には店舗責任者より直接謝罪を行い、商品代金のご返金および商品現物の回収を行いました。この事態を受け、当該店舗は同日午後5時頃から自主的に営業を停止しています。3月31日（月）には、専門の害虫駆除会社様による駆除施工の実施を予定しています。 \n\n\n\n現在、当該店舗における現地調査や回収を行った異物の検査を行い、混入が発生した原因の迅速な特定に努めています。 \n\n\n\n当社では2025年1月に別の店舗においても異物混入が発生していたにも関わらず、このような事態を招いてしまったことを大変重く受け止めております。 \n\n\n\nこの状況を真摯に受け止め、すき家はショッピングセンター内などの一部店舗を除く全店を、3月31日（月）午前9時から4月4日（金）午前9時までの間、害虫・害獣の外部侵入、および内部生息発生撲滅のための対策を行わせていただくため、一時閉店することを決定しました。お客様および関係者の皆様に、多大なるご迷惑とご心配をおかけいたしますこと、深くお詫び申し上げます。 \n\n\n\n以上 \nhttps://www.sukiya.jp/news/2025/03/20250329.html
URL:https://aomori-daibouken.com/event/21447
LOCATION:すき屋\, すき屋
CATEGORIES:三沢市閉店,上十三三八閉店,五所川原閉店,八戸市閉店,十和田市閉店,弘前市閉店,青森市閉店,青森県閉店
ATTACH;FMTTYPE=image/png:https://aomori-daibouken.com/wp-content/uploads/2025/03/X青森イベント情報のコピー-51.png
END:VEVENT
BEGIN:VEVENT
DTSTART;TZID=Asia/Tokyo:20250331T000000
DTEND;TZID=Asia/Tokyo:20250331T235959
DTSTAMP:20260426T031325
CREATED:20250401T085440Z
LAST-MODIFIED:20250401T085945Z
UID:21536-1743379200-1743465599@aomori-daibouken.com
SUMMARY:アルパジョン 自己破産
DESCRIPTION:アルパジョンが事業を停止し自己破産の準備をしているようです。4店舗は3月31日閉店しましたが、南類家店は別会社が経営を引き継いで運営するようです。「朝の八甲田」のチーズケーキやサンタ号のファンが多く、とてもショックなニュースでした。経営が厳しい中、サンタ号で各地を周って頂きありがとうございました。 \n\n\n\n\n\nYahoo!ニュースYahoo!ニュースは、新聞・通信社が配信するニュースのほか、映像、雑誌や個人の書き手が執筆する記事など多種多様なニュースを掲載しています。news.yahoo.co.jp
URL:https://aomori-daibouken.com/event/21536
LOCATION:ケーキハウスアルパジョン 下長店\, 〒039-1164 青森県八戸市下長２丁目１−２５
CATEGORIES:八戸市閉店,青森県閉店
ATTACH;FMTTYPE=image/png:https://aomori-daibouken.com/wp-content/uploads/2025/04/アイキャッチ-2025-04-01T174600.150.png
END:VEVENT
BEGIN:VEVENT
DTSTART;TZID=Asia/Tokyo:20250331T000000
DTEND;TZID=Asia/Tokyo:20250331T235959
DTSTAMP:20260426T031325
CREATED:20250331T051306Z
LAST-MODIFIED:20250331T051308Z
UID:21494-1743379200-1743465599@aomori-daibouken.com
SUMMARY:青森市新青森駅 アルパジョン あおもり旬味館 閉店
DESCRIPTION:この投稿をInstagramで見る            新青森駅ビル あおもり旬味館（しゅんみかん）(@abc_aomori.syunmikan)がシェアした投稿
URL:https://aomori-daibouken.com/event/21494
LOCATION:新青森駅\, 〒038-0003 青森県青森市石江高間140−２
CATEGORIES:青森市イベント 今日 明日 今週末 2025,青森市閉店
ATTACH;FMTTYPE=image/jpeg:https://aomori-daibouken.com/wp-content/uploads/2025/03/486961619_1209104497631133_3539163189944732967_n.jpg
END:VEVENT
BEGIN:VEVENT
DTSTART;TZID=Asia/Tokyo:20250331T000000
DTEND;TZID=Asia/Tokyo:20250331T235959
DTSTAMP:20260426T031325
CREATED:20250328T003121Z
LAST-MODIFIED:20250331T011029Z
UID:21396-1743379200-1743465599@aomori-daibouken.com
SUMMARY:青森市シーナシーナ青森 キッズパーク営業終了
DESCRIPTION:
URL:https://aomori-daibouken.com/event/21396
LOCATION:CiiNA CiiNA (シーナシーナ) 青森\, 〒030-0843 青森県青森市浜田１丁目１４−１
CATEGORIES:青森市イベント子供,青森市閉店
ATTACH;FMTTYPE=image/jpeg:https://aomori-daibouken.com/wp-content/uploads/2025/03/bbd5214e1b0a68040555f1eb753c052c26943712.jpg
END:VEVENT
BEGIN:VEVENT
DTSTART;TZID=Asia/Tokyo:20250331T000000
DTEND;TZID=Asia/Tokyo:20250331T235959
DTSTAMP:20260426T031325
CREATED:20250316T062944Z
LAST-MODIFIED:20250331T010929Z
UID:21018-1743379200-1743465599@aomori-daibouken.com
SUMMARY:つがる市 光風温泉 閉業
DESCRIPTION:つがる市光風温泉熱湯の極上湯へラスト訪湯🥲奥側（湯口側）49℃🤣手前側45℃残念ながら3月末で廃業。津軽道の延伸に伴うものだそうで、施設には影響ないのだそうだけど、延伸部分に源泉があり廃止、やむなく廃業となるそう🥲高速道路＞＞地域の宝（源泉）なのか…やるせないなぁ…🥲🥲 pic.twitter.com/Bhqkjndo3T — indigo♨️ (@indigompr54) February 9\, 2025
URL:https://aomori-daibouken.com/event/21018
LOCATION:光風温泉\, 〒038-2812 青森県つがる市森田町下相野野田７３−３
CATEGORIES:つがる市イベント,青森県閉店
ATTACH;FMTTYPE=image/png:https://aomori-daibouken.com/wp-content/uploads/2025/03/X青森イベント情報のコピー-28.png
END:VEVENT
BEGIN:VEVENT
DTSTART;TZID=Asia/Tokyo:20250330T000000
DTEND;TZID=Asia/Tokyo:20250330T235959
DTSTAMP:20260426T031325
CREATED:20250223T080313Z
LAST-MODIFIED:20250227T135123Z
UID:19927-1743292800-1743379199@aomori-daibouken.com
SUMMARY:つがる市 ベストプライス つがる柏店 契約期間満了につき閉店
DESCRIPTION:平素は格別のお引き立てを賜り、厚く御礼を申し上げます。突然ではございますが、契約期間満了につき2025年3月30日をもちまして閉店する運びとなりました。 \n\n\n\n短い期間ではございましたが、これまで賜りました皆様のご支援とご愛顧に心より感謝申し上げます。 \n\n\n\n閉店後（2025年3月31日以降）のお問い合わせにつきましては、以下までお願いいたします。 \n\n\n\n株式会社かさい090-4632-7812ご対応時間 10:00 〜 18:00 （火曜水曜定休） \n\n\n\n短い期間ではありますが、多くのご愛顧に感謝しまして閉店セールを開催いたします。店内展示品最大70%offとなります。また、お取り寄せ商品も特別価格でご提供いたします。 \n\n\n\n閉店セールにつきましては公式Instagramにて随時配信しております。公式Instagramはこちらから \n\n\n\n皆様のご来店、心よりお待ちしております。 \nhttps://www.bprice.jp/516/\n\n\n\n〒038-3107 青森県つがる市柏稲盛幾世４１ \n\n\n\n\n\n\n\n\n\n\n\n\n\n今後の イベント はありません。
URL:https://aomori-daibouken.com/event/19927
LOCATION:イオンモールつがる柏\, 〒038-3107 青森県つがる市柏稲盛幾世４１
CATEGORIES:3月青森イベント,つがる市イベント,青森お得情報,青森県閉店
ATTACH;FMTTYPE=image/jpeg:https://aomori-daibouken.com/wp-content/uploads/2025/02/20250330_02.jpg
END:VEVENT
BEGIN:VEVENT
DTSTART;TZID=Asia/Tokyo:20250330T000000
DTEND;TZID=Asia/Tokyo:20250330T235959
DTSTAMP:20260426T031325
CREATED:20250203T235619Z
LAST-MODIFIED:20250227T135047Z
UID:18619-1743292800-1743379199@aomori-daibouken.com
SUMMARY:弘前市「ホリデイスポーツクラブ弘前」閉店
DESCRIPTION:2025 年2⽉1⽇ \n\n\n\n会員の皆様へ  \n\n\n\n 株式会社東祥 ホリデイスポーツクラブ本部 執⾏役員 佐藤 央 \n\n\n\n 「ホリデイスポーツクラブ弘前」閉店のお知らせ  \n\n\n\n　拝啓 晩冬の候、会員の皆様におかれましては益々ご健勝のこととお慶び申し上げます。　平素はホリデイスポーツクラブ弘前をご利⽤いただき誠にありがとうございます。  \n\n\n\n　さて、当施設は2009 年に開業して以来、会員の皆様、地域の皆様に⽀えられ16 年間営業を 続けて参りました。2020年に拡⼤した新型コロナウイルス感染症に加え、電気ガス等エネルギー価格⾼騰の影響を受けながらも、会員皆様のご理解・ご協⼒のもと様々な努⼒を重ね、また機械設備等の修繕等にも⼤きな費⽤を掛けながら営業を続けてきました。そのような中で、今後の事業継続につきまして慎重に検討しました結果、2025年3⽉30⽇（⽇）をもちまして営業を終了することといたしました。  \n\n\n\n　皆様の⻑年にわたるご愛顧に⼼から感謝申し上げますとともに、営業終了を迎えるまでの間、会員の皆様に楽しく運動していただけるよう、従業員⼀同、誠⼼誠意努めて参ります。 何卒、ご理解のほど宜しくお願い申し上げます。  \n\n\n\n敬具 \n\n\n\n記  \n\n\n\n\n最終営業⽇ 2025 年3⽉30⽇（⽇） 19：00終了 ※3⽉28⽇（金）は特別営業いたします。 ※プログラムスケジュール等、詳細は後⽇お知らせいたします。 \n\n\n\n⽉会費のご請求について 2025 年3⽉分が最終のお引落としとなります。 引落⽇：2025年3⽉27⽇（木） \n\n\n\nレンタルロッカーについて レンタルロッカーは2025年3⽉30⽇（⽇）をもちまして終了となりますので、それまでの間にお荷物は必ずお持ち帰りください。 \n\n\n\n閉店に伴うお問い合わせ先ホリデイスポーツクラブ弘前ＴＥＬ：0172-31-2552 \n\n\n\n\n以上 \nhttps://www.holiday-sc.jp/?shop=035-hirosaki\n\n\n\n〒036-8057 青森県弘前市八幡町３丁目２−１ \n\n\n\n\n\n\n\n\n\n\n\n\n\n今後の イベント はありません。
URL:https://aomori-daibouken.com/event/18619
LOCATION:ホリデイスポーツクラブ弘前\, 〒036-8057 青森県弘前市八幡町３丁目２−１
CATEGORIES:弘前市イベント 今日 明日 土手町 2025,弘前市閉店
END:VEVENT
BEGIN:VEVENT
DTSTART;TZID=Asia/Tokyo:20250328T000000
DTEND;TZID=Asia/Tokyo:20250328T235959
DTSTAMP:20260426T031325
CREATED:20250328T002825Z
LAST-MODIFIED:20250328T002827Z
UID:21390-1743120000-1743206399@aomori-daibouken.com
SUMMARY:青森市古川 ドラッグミナミ 閉店
DESCRIPTION:仕事帰りに気づいた💦青森市ニコニコ通り、THREEの向かい、フクシスポーツ1階のドラッグミナミが閉店するそうで、あれこれセールしてました pic.twitter.com/o4WNYm0cHm — ｶｵﾘｺ (@k1004k_kaori) March 26\, 2025
URL:https://aomori-daibouken.com/event/21390
LOCATION:ドラッグミナミ\, 〒030-0862 青森県青森市古川１丁目１４−５ フクシスポーツビル 1F
CATEGORIES:3月青森イベント,青森市イベント 今日 明日 今週末 2025,青森市閉店
ATTACH;FMTTYPE=image/png:https://aomori-daibouken.com/wp-content/uploads/2025/03/X青森イベント情報のコピー-44.png
END:VEVENT
BEGIN:VEVENT
DTSTART;TZID=Asia/Tokyo:20250324T000000
DTEND;TZID=Asia/Tokyo:20250324T235959
DTSTAMP:20260426T031325
CREATED:20250306T071700Z
LAST-MODIFIED:20250315T034446Z
UID:20571-1742774400-1742860799@aomori-daibouken.com
SUMMARY:八戸市ラピア イタリアン・トマトカフェジュニア 閉店
DESCRIPTION:
URL:https://aomori-daibouken.com/event/20571
LOCATION:八戸ショッピングセンターラピア\, 〒031-0801 青森県八戸市江陽２丁目１４−１
CATEGORIES:3月青森イベント,八戸市イベント 今日 明日 今週末 2025,八戸市閉店
ATTACH;FMTTYPE=image/jpeg:https://aomori-daibouken.com/wp-content/uploads/2025/03/141e4c2b9165c2cbc15c640ae11785b8.jpg
END:VEVENT
BEGIN:VEVENT
DTSTART;TZID=Asia/Tokyo:20250315T000000
DTEND;TZID=Asia/Tokyo:20250315T235959
DTSTAMP:20260426T031325
CREATED:20250311T015058Z
LAST-MODIFIED:20250311T015100Z
UID:20777-1741996800-1742083199@aomori-daibouken.com
SUMMARY:青森市 小さなトマト 移転の為3/15で現店舗での営業を終了
DESCRIPTION:この投稿をInstagramで見る            小さなトマト(@chiisana_tomato)がシェアした投稿
URL:https://aomori-daibouken.com/event/20777
LOCATION:小さなトマト\, 〒030-0843 青森県青森市浜田豊田１１８−１
CATEGORIES:青森市イベント 今日 明日 今週末 2025,青森市閉店
ATTACH;FMTTYPE=image/jpeg:https://aomori-daibouken.com/wp-content/uploads/2025/03/スクリーンショット-2025-03-11-104916.jpg
END:VEVENT
BEGIN:VEVENT
DTSTART;TZID=Asia/Tokyo:20250309T000000
DTEND;TZID=Asia/Tokyo:20250309T235959
DTSTAMP:20260426T031325
CREATED:20250307T043406Z
LAST-MODIFIED:20250307T065048Z
UID:20632-1741478400-1741564799@aomori-daibouken.com
SUMMARY:青森市 アメリカ屋サンロード青森店 閉店
DESCRIPTION:青森市 アメリカ屋サンロード青森店 閉店になります。 \n\n\n\n小学校時代は八戸湊高台店でお年玉で福袋を購入して全身コーデ。高校生の時はEDWINやLEVI’Sのジーパンを購入させて頂き、青春時代に大変お世話になりました。ちなみにジーパンはウェストが入らなくなったので、ショルダーバッグや座布団カバーにリメイクされ今でも活用されています。 \n\n\n\nありがとうございました。 \n\n\n\n        この投稿をInstagramで見る            アメリカ屋サンロード青森店(@amerikaya_sunroad)がシェアした投稿
URL:https://aomori-daibouken.com/event/20632
LOCATION:サンロード青森\, 〒030-0845 青森県青森市緑３丁目９−２
CATEGORIES:3月青森イベント,サンロードイベント,青森市イベント 今日 明日 今週末 2025,青森市閉店
ATTACH;FMTTYPE=image/jpeg:https://aomori-daibouken.com/wp-content/uploads/2025/03/スクリーンショット-2025-03-07-131505.jpg
END:VEVENT
BEGIN:VEVENT
DTSTART;TZID=Asia/Tokyo:20250303T000000
DTEND;TZID=Asia/Tokyo:20250303T235959
DTSTAMP:20260426T031325
CREATED:20250306T123659Z
LAST-MODIFIED:20250306T123700Z
UID:20599-1740960000-1741046399@aomori-daibouken.com
SUMMARY:弘前市 アメリカ屋 弘前城東店 閉店
DESCRIPTION:この投稿をInstagramで見る            アメリカ屋 弘前城東店🇺🇸(@amerikaya_hirosakijoto)がシェアした投稿
URL:https://aomori-daibouken.com/event/20599
LOCATION:アメリカ屋 弘前城東店\, 〒036-8084 青森県弘前市高田２丁目１−５
CATEGORIES:3月青森イベント,弘前市イベント 今日 明日 土手町 2025,弘前市閉店
ATTACH;FMTTYPE=image/jpeg:https://aomori-daibouken.com/wp-content/uploads/2025/03/スクリーンショット-2025-03-06-213630.jpg
END:VEVENT
BEGIN:VEVENT
DTSTART;TZID=Asia/Tokyo:20250301T000000
DTEND;TZID=Asia/Tokyo:20250315T235959
DTSTAMP:20260426T031325
CREATED:20250318T064832Z
LAST-MODIFIED:20250318T064834Z
UID:21160-1740787200-1742083199@aomori-daibouken.com
SUMMARY:青森市大野 キッチンカフェなか 閉店
DESCRIPTION:閉店情報です青森市大野にあるキッチンカフェなかが閉店していました昨日の夜知って今日実際見に行ったところ閉店の張り紙が貼ってありました昨日時点でGoogleも閉業となってました長い間あった店で実際私も行ったことあり、特にオムライスがすごく美味しかったです#キッチンカフェなか　#青森県 pic.twitter.com/kIZpX4ABlu — イブさん (@0NA1w8hZYWY8Fh8) March 18\, 2025
URL:https://aomori-daibouken.com/event/21160
LOCATION:キッチンカフェなか\, 〒030-0852 青森県青森市大野若宮１２０−１
CATEGORIES:3月青森イベント,青森市イベント 今日 明日 今週末 2025,青森市閉店
ATTACH;FMTTYPE=image/png:https://aomori-daibouken.com/wp-content/uploads/2025/03/X青森イベント情報のコピー-33.png
END:VEVENT
BEGIN:VEVENT
DTSTART;TZID=Asia/Tokyo:20250228T000000
DTEND;TZID=Asia/Tokyo:20250228T235959
DTSTAMP:20260426T031325
CREATED:20250428T042230Z
LAST-MODIFIED:20250428T042232Z
UID:22392-1740700800-1740787199@aomori-daibouken.com
SUMMARY:むつ市「季節料理 酒菜屋」閉店
DESCRIPTION:
URL:https://aomori-daibouken.com/event/22392
LOCATION:季節料理 酒菜屋\, 〒035-0084 青森県むつ市大湊新町１６−９
CATEGORIES:むつ市イベント,むつ市閉店
ATTACH;FMTTYPE=image/png:https://aomori-daibouken.com/wp-content/uploads/2025/04/アイキャッチ-2025-04-28T132203.944.png
END:VEVENT
BEGIN:VEVENT
DTSTART;TZID=Asia/Tokyo:20250228T000000
DTEND;TZID=Asia/Tokyo:20250228T235959
DTSTAMP:20260426T031325
CREATED:20250221T033504Z
LAST-MODIFIED:20250227T134900Z
UID:19863-1740700800-1740787199@aomori-daibouken.com
SUMMARY:弘前市 総合家具館かさいイオンタウン弘前樋の口店 契約期間満了につき閉店
DESCRIPTION:総合家具館かさいイオンタウン弘前樋の口店とかさい家具 フランスベッドギャラリー弘前が閉店します。 \n\n\n\n\n\n\n\n\n\n\n\n\n平素は格別のお引き立てを賜り、厚く御礼を申し上げます。突然ではございますが、契約期間満了につき2025年2月28日をもちまして閉店する運びとなりました。 \n\n\n\n短い期間ではございましたが、これまで賜りました皆様のご支援とご愛顧に心より感謝申し上げます。 \n\n\n\n閉店後（2025年3月1日以降）のお問い合わせにつきましては、以下までお願いいたします。 \n\n\n\n株式会社かさい090-4632-7812ご対応時間 10:00 〜 18:00 （火曜水曜定休） \n\n\n\n短い期間ではありますが、多くのご愛顧に感謝しまして閉店セールを開催いたします。店内展示品最大70%offとなります。また、お取り寄せ商品も特別価格でご提供いたします。 \n\n\n\n閉店セールにつきましては公式Instagramにて随時配信しております。公式Instagramはこちらから \n\n\n\n皆様のご来店、心よりお待ちしております。 \nhttp://kasaikagu.co.jp/4464.html\n\n\n\n〒036-8278 青森県弘前市樋の口２丁目９−６ \n\n\n\n\n\n\n\n\n\n\n\n\n\n今後の イベント はありません。
URL:https://aomori-daibouken.com/event/19863
LOCATION:イオンタウン弘前樋の口\, 〒036-8278 青森県弘前市樋の口２丁目９−６
CATEGORIES:2月青森イベント,弘前市クーポン,弘前市閉店
ATTACH;FMTTYPE=image/jpeg:https://aomori-daibouken.com/wp-content/uploads/2025/02/20250228_02.jpg
END:VEVENT
BEGIN:VEVENT
DTSTART;TZID=Asia/Tokyo:20250228T000000
DTEND;TZID=Asia/Tokyo:20250228T235959
DTSTAMP:20260426T031325
CREATED:20250220T061508Z
LAST-MODIFIED:20250227T134943Z
UID:19829-1740700800-1740787199@aomori-daibouken.com
SUMMARY:八戸市 PALMUN(パルムン) 閉店
DESCRIPTION:✨ 閉店のお知らせ & 感謝の気持ち ✨ \n\n\n\nいつもご愛顧いただき、誠にありがとうございます！ \n\n\n\nこのたび、2月28日をもって閉店することとなりました。これまで来店頂き心より感謝申し上げます💐 \n\n\n\n💡 2月21日～2月28日まで✨ 閉店セール開催！ ✨（一部対象外商品あり） \n\n\n\n最後まで皆さまに楽しんでいただけるよう、感謝を込めてお届けします！ぜひ、お立ち寄りください💛 \n\n\n\nまた皆さまとお会いできる日を楽しみにしています😊本当にありがとうございました！ \nhttps://www.instagram.com/palmun.hachinohe_kshop/\n\n\n\n〒031-0011 青森県八戸市田向１丁目８−９ \n\n\n\n\n\n\n\n\n\n\n\n\n\n今後の イベント はありません。
URL:https://aomori-daibouken.com/event/19829
LOCATION:PALMUN(パルムン)\, 〒031-0011 青森県八戸市田向１丁目８−９
CATEGORIES:2月青森イベント,八戸市イベント 今日 明日 今週末 2025,八戸市クーポン,八戸市閉店
ATTACH;FMTTYPE=image/jpeg:https://aomori-daibouken.com/wp-content/uploads/2025/02/480841375_569519452911632_7929993320461842924_n.jpg
END:VEVENT
BEGIN:VEVENT
DTSTART;TZID=Asia/Tokyo:20250228T000000
DTEND;TZID=Asia/Tokyo:20250228T235959
DTSTAMP:20260426T031325
CREATED:20250210T222508Z
LAST-MODIFIED:20250227T134639Z
UID:19119-1740700800-1740787199@aomori-daibouken.com
SUMMARY:弘前市 田さ恋いむらヒロロ店 閉店
DESCRIPTION:おはようございます☺︎・いきなりですが！田さ恋いむらヒロロ店2月末日をもちまして閉店いたします！！・やっとご報告できて、さっぱり🤣🤣🤣・田さ恋いむらを支えてくださっている皆さまには早くお伝えしたかったのですが、年明け早々しっかり決まった閉店日。大人の事情があったりで、お客様とヒロロ店の話しをしたりすることが心苦しい状態でした🫣ごめんなさい！・何もわからないままワクワクでスタートさせた2店舗目。でもいつからかワクワクしなくてこれは違うなと…ずっと違和感を感じていました何事も挑戦してみないとわからないだから、とても学んだ約3年間でした♡・こんないきなり閉店をするときっと悪い噂が流れたりするかもですが、田さ恋いむら的にはそんな事は全くなく、とても前向きな閉店となります🤪スタッフに閉店ポップを作ってもらったら、まるで開店かってくらい華やかな閉店ポップで仕上げてきました🤣イメージは次に向けての卒業🎓・ヒロロ店はこれで終わりになりますが、これからも田さ恋いむららしくやりたい事に集中して楽しんでまいりたいと思いますので、どうぞよろしくお願いいたします🙇‍♂️・ヒロロ店をご利用いただいた全てのお客様、ヒロロ店をやらなければ出逢わなかったたくさんの方々、ありがとうございました🙇‍♂️・田舎館本店と武道館店に今は集中します！もしかしたらまた新しいやりたい事がでてきたらどうしようー社長に怒られちゃうー🤪🤪🤪・・田さ恋いむら青森県南津軽郡田舎館村大字田舎館字東田160-1 \nhttps://www.instagram.com/tasakoimura/\n\n\n\n\n\n\n\n\n\n\n\n\n\n今後の イベント はありません。
URL:https://aomori-daibouken.com/event/19119
LOCATION:ヒロロ(HIRORO)\, 〒036-8003 青森県弘前市駅前町９−２０
CATEGORIES:2月青森イベント,弘前市イベント 今日 明日 土手町 2025,弘前市閉店
ATTACH;FMTTYPE=image/jpeg:https://aomori-daibouken.com/wp-content/uploads/2025/02/image-16.jpg
END:VEVENT
BEGIN:VEVENT
DTSTART;TZID=Asia/Tokyo:20250228T000000
DTEND;TZID=Asia/Tokyo:20250228T235959
DTSTAMP:20260426T031325
CREATED:20250208T023406Z
LAST-MODIFIED:20250227T134540Z
UID:18897-1740700800-1740787199@aomori-daibouken.com
SUMMARY:弘前市 蜜芋屋 閉店
DESCRIPTION:閉店情報です弘前市城東にある蜜芋屋が2月28日で閉店します情報提供により判明無人販売は引き続き営業するとのことです#弘前市閉店情報 pic.twitter.com/2Gs0UA6eLi — イブさん (@0NA1w8hZYWY8Fh8) February 6\, 2025 \n\n\n\n〒036-8095 青森県弘前市城東５丁目１３−１ \n\n\n\n\n\n\n\n\n\n\n\n\n\n今後の イベント はありません。
URL:https://aomori-daibouken.com/event/18897
LOCATION:蜜芋屋\, 〒036-8095 青森県弘前市城東５丁目１３−１
CATEGORIES:2月青森イベント,弘前市イベント 今日 明日 土手町 2025,弘前市閉店
ATTACH;FMTTYPE=image/png:https://aomori-daibouken.com/wp-content/uploads/2025/02/インスタイベントのコピー.png
END:VEVENT
BEGIN:VEVENT
DTSTART;TZID=Asia/Tokyo:20250228T000000
DTEND;TZID=Asia/Tokyo:20250228T235959
DTSTAMP:20260426T031325
CREATED:20250131T021953Z
LAST-MODIFIED:20250227T134441Z
UID:18257-1740700800-1740787199@aomori-daibouken.com
SUMMARY:藤崎町 平安堂薬局イオン藤崎店 閉店
DESCRIPTION:閉店情報ですイオン藤崎1階にある平安堂薬局イオン藤崎店が2月28日に閉店します私に情報提供があり判明しました36年間イオン藤崎で営業2月15日〜16日のファイナルセールに向けて準備をしてるとのことです pic.twitter.com/7cOjkzWXqk — イブさん (@0NA1w8hZYWY8Fh8) January 30\, 2025 \n\n\n\n〒038-3803 青森県南津軽郡藤崎町西豊田１丁目7−１ \n\n\n\n\n\n\n\n\n\n\n\n\n\n今後の イベント はありません。
URL:https://aomori-daibouken.com/event/18257
LOCATION:イオン 藤崎店\, 〒038-3803 青森県南津軽郡藤崎町西豊田１丁目7−１
CATEGORIES:藤崎町イベント今日2025,青森県閉店
END:VEVENT
END:VCALENDAR