BEGIN:VCALENDAR
VERSION:2.0
PRODID:-//青森大冒険-イベントカレンダー情報とブログ- - ECPv6.15.20//NONSGML v1.0//EN
CALSCALE:GREGORIAN
METHOD:PUBLISH
X-ORIGINAL-URL:https://aomori-daibouken.com
X-WR-CALDESC:青森大冒険-イベントカレンダー情報とブログ- のイベント
REFRESH-INTERVAL;VALUE=DURATION:PT1H
X-Robots-Tag:noindex
X-PUBLISHED-TTL:PT1H
BEGIN:VTIMEZONE
TZID:Asia/Tokyo
BEGIN:STANDARD
TZOFFSETFROM:+0900
TZOFFSETTO:+0900
TZNAME:JST
DTSTART:20230101T000000
END:STANDARD
END:VTIMEZONE
BEGIN:VEVENT
DTSTART;TZID=Asia/Tokyo:20250705T000000
DTEND;TZID=Asia/Tokyo:20250706T235959
DTSTAMP:20260425T105246
CREATED:20250316T055234Z
LAST-MODIFIED:20250531T120543Z
UID:21010-1751673600-1751846399@aomori-daibouken.com
SUMMARY:青森市モヤヒルズ A-line2025(夏)クラフトイベント
DESCRIPTION:■■　A-line2025（夏）　出店者募集開始しました！■■ - 青森クラフトフェアA-line（エーライン）■■　A-line2025（夏）　出店者募集開始しました！■■ - 青森最大級のクラフトフェア　エーラインaomori-line.com
URL:https://aomori-daibouken.com/event/21010
LOCATION:モヤヒルズ\, 〒030-0133 青森県青森市雲谷梨野木６３
CATEGORIES:モヤヒルズイベント,青森市クラフトイベント2025 ハンドメイド
ATTACH;FMTTYPE=image/png:https://aomori-daibouken.com/wp-content/uploads/2025/03/X青森イベント情報のコピー-27.png
END:VEVENT
BEGIN:VEVENT
DTSTART;TZID=Asia/Tokyo:20250302T000000
DTEND;TZID=Asia/Tokyo:20250302T235959
DTSTAMP:20260425T105246
CREATED:20250301T083932Z
LAST-MODIFIED:20250301T083959Z
UID:20299-1740873600-1740959999@aomori-daibouken.com
SUMMARY:青森市モヤヒルズ ウインターフェスティバル
DESCRIPTION:３月２日（日）は、今シーズン、スキー場を利用頂いたお客様に感謝するために、ウインターフェスティバルを開催致します。 \n\n\n\n10：00～雪玉宝探しゲーム \n\n\n\n対象：小学生以下200名様限定 \n\n\n\nケビン宿泊券・浅虫水族館入場券 \n\n\n\n映画無料券・お菓子セットなど \n\n\n\n11：00～雪上綱引き大会 \n\n\n\n対象：園児・小学生低・中・高学年 \n\n\n\n中学生以上の５部門で対戦 \n\n\n\n13：30～じゃんけん選手権 \n\n\n\n対象：来場者全員 \n\n\n\n賞品：ゲームソフト・食事券・など \n\n\n\n14:30～サイコロ予想ゲーム \n\n\n\n対象：来場者全員 \n\n\n\n賞品：ゲームソフト・食事券など \n\n\n\n15：30～大抽選会 \n\n\n\n対象：ウインターフェスティバルチケット及びシーズン券【有料】お持ちのお客様 \n\n\n\n景品：電化製品・食事券・ゲーム機・ボード・スポーツ商品券・お米等・・・・ぜひＷＦチケット買って参加しよう。 \n\n\n\n市長杯スキー大会参加者募集中！！３月１日（土）17時迄！
URL:https://aomori-daibouken.com/event/20299
LOCATION:モヤヒルズ\, 〒030-0133 青森県青森市雲谷梨野木６３
CATEGORIES:2025青森冬雪まつりイベント,3月青森イベント,モヤヒルズイベント,青森市イベント子供,青森市祭り
ATTACH;FMTTYPE=image/jpeg:https://aomori-daibouken.com/wp-content/uploads/2025/03/1f1fbd9c.jpg
END:VEVENT
BEGIN:VEVENT
DTSTART;TZID=Asia/Tokyo:20250209T000000
DTEND;TZID=Asia/Tokyo:20250209T235959
DTSTAMP:20260425T105246
CREATED:20250126T034534Z
LAST-MODIFIED:20250126T034535Z
UID:17818-1739059200-1739145599@aomori-daibouken.com
SUMMARY:青森市モヤヒルズ 地面出し競争
DESCRIPTION:日　時：令和7年2月9日(日)　内　容：4～6人1チームで決められた場所をスコップ、スノーダンプを使い、地面を出し、土を審査員に見せて着順を競う。対　象：中学生以上参加料：1チーム4\,000円 \nhttps://moyahills.jp/winter/pg184.html
URL:https://aomori-daibouken.com/event/17818
LOCATION:モヤヒルズ\, 〒030-0133 青森県青森市雲谷梨野木６３
CATEGORIES:2025青森冬雪まつりイベント,2月青森イベント,モヤヒルズイベント
ATTACH;FMTTYPE=image/jpeg:https://aomori-daibouken.com/wp-content/uploads/2025/01/20250110125541-0001-scaled.jpg
END:VEVENT
BEGIN:VEVENT
DTSTART;TZID=Asia/Tokyo:20241221T000000
DTEND;TZID=Asia/Tokyo:20241221T235959
DTSTAMP:20260425T105246
CREATED:20241106T072908Z
LAST-MODIFIED:20241221T134030Z
UID:12397-1734739200-1734825599@aomori-daibouken.com
SUMMARY:青森市モヤヒルズ スキー場オープン予定
DESCRIPTION:今年の夏期シーズンの営業は、10月31日をもちまして終了いたしました。ご来場いただきました皆様に心より御礼申し上げます。　モヤヒルズでは、11月1日から12月20日迄の間、スキー場の準備とリフトを含む全施設の点検、整備の為、ヒルズクラブを含む全施設を休業とさせていただきますので、予めご了承下さいますよう、お願い申し上げます。今年のスキー場のオープンは12月21日(土)を予定しております。ウインターシーズンも変わらぬご愛顧を賜りますよう、お願い申し上げます。休館日中のご予約・お問合せについては、9：00～17：00の対応とさせていただきます。※11/8(金)は電気系統年次検査の為、停電となり全ての対応ができなくなります。予めご了承ください。 \nhttps://moyahills.jp/index.html
URL:https://aomori-daibouken.com/event/12397
LOCATION:モヤヒルズ\, 〒030-0133 青森県青森市雲谷梨野木６３
CATEGORIES:モヤヒルズイベント
END:VEVENT
BEGIN:VEVENT
DTSTART;TZID=Asia/Tokyo:20241026T000000
DTEND;TZID=Asia/Tokyo:20241027T235959
DTSTAMP:20260425T105246
CREATED:20241008T013427Z
LAST-MODIFIED:20241021T020054Z
UID:10273-1729900800-1730073599@aomori-daibouken.com
SUMMARY:青森市モヤヒルズイベント そば打ち体験会
DESCRIPTION:https://moyahills.jp/winter/pg82.html
URL:https://aomori-daibouken.com/event/10273
LOCATION:モヤヒルズ\, 〒030-0133 青森県青森市雲谷梨野木６３
CATEGORIES:モヤヒルズイベント,青森市イベント 今日 明日 今週末 2025,青森県グルメイベント
ATTACH;FMTTYPE=image/jpeg:https://aomori-daibouken.com/wp-content/uploads/2024/10/img20240924132211891184.jpg
END:VEVENT
BEGIN:VEVENT
DTSTART;TZID=Asia/Tokyo:20241012T100000
DTEND;TZID=Asia/Tokyo:20241014T160000
DTSTAMP:20260425T105246
CREATED:20241008T013013Z
LAST-MODIFIED:20241021T020710Z
UID:10260-1728727200-1728921600@aomori-daibouken.com
SUMMARY:青森市モヤヒルズイベント 新そばフェア
DESCRIPTION:
URL:https://aomori-daibouken.com/event/10260
LOCATION:モヤヒルズ\, 〒030-0133 青森県青森市雲谷梨野木６３
CATEGORIES:モヤヒルズイベント,青森市イベント 今日 明日 今週末 2025,青森県グルメイベント
ATTACH;FMTTYPE=image/jpeg:https://aomori-daibouken.com/wp-content/uploads/2024/10/img20240924131548425802.jpg
END:VEVENT
END:VCALENDAR