BEGIN:VCALENDAR
VERSION:2.0
PRODID:-//青森大冒険-イベントカレンダー情報とブログ- - ECPv6.15.20//NONSGML v1.0//EN
CALSCALE:GREGORIAN
METHOD:PUBLISH
X-WR-CALNAME:青森大冒険-イベントカレンダー情報とブログ-
X-ORIGINAL-URL:https://aomori-daibouken.com
X-WR-CALDESC:青森大冒険-イベントカレンダー情報とブログ- のイベント
REFRESH-INTERVAL;VALUE=DURATION:PT1H
X-Robots-Tag:noindex
X-PUBLISHED-TTL:PT1H
BEGIN:VTIMEZONE
TZID:Asia/Tokyo
BEGIN:STANDARD
TZOFFSETFROM:+0900
TZOFFSETTO:+0900
TZNAME:JST
DTSTART:20230101T000000
END:STANDARD
END:VTIMEZONE
BEGIN:VEVENT
DTSTART;TZID=Asia/Tokyo:20250617T000000
DTEND;TZID=Asia/Tokyo:20250623T235959
DTSTAMP:20260424T005106
CREATED:20250616T230109Z
LAST-MODIFIED:20250616T230541Z
UID:23932-1750118400-1750723199@aomori-daibouken.com
SUMMARY:青森市 ロピア チラシ 2025/6/17～6/23
DESCRIPTION:
URL:https://aomori-daibouken.com/event/23932
LOCATION:CiiNA CiiNA (シーナシーナ) 青森\, 〒030-0843 青森県青森市浜田１丁目１４−１
CATEGORIES:青森市ロピアチラシ
ATTACH;FMTTYPE=image/jpeg:https://aomori-daibouken.com/wp-content/uploads/2025/06/image-22.jpg
END:VEVENT
BEGIN:VEVENT
DTSTART;TZID=Asia/Tokyo:20250610T000000
DTEND;TZID=Asia/Tokyo:20250616T235959
DTSTAMP:20260424T005106
CREATED:20250609T230445Z
LAST-MODIFIED:20250609T230446Z
UID:23729-1749513600-1750118399@aomori-daibouken.com
SUMMARY:青森市 ロピア チラシ 2025/6/10～6/16
DESCRIPTION:
URL:https://aomori-daibouken.com/event/23729
LOCATION:CiiNA CiiNA (シーナシーナ) 青森\, 〒030-0843 青森県青森市浜田１丁目１４−１
CATEGORIES:青森市ロピアチラシ
ATTACH;FMTTYPE=image/jpeg:https://aomori-daibouken.com/wp-content/uploads/2025/06/image-10.jpg
END:VEVENT
BEGIN:VEVENT
DTSTART;TZID=Asia/Tokyo:20250603T000000
DTEND;TZID=Asia/Tokyo:20250609T235959
DTSTAMP:20260424T005106
CREATED:20250602T230140Z
LAST-MODIFIED:20250602T230739Z
UID:23499-1748908800-1749513599@aomori-daibouken.com
SUMMARY:青森市 ロピア チラシ 2025/6/3～6/9
DESCRIPTION:
URL:https://aomori-daibouken.com/event/23499
LOCATION:CiiNA CiiNA (シーナシーナ) 青森\, 〒030-0843 青森県青森市浜田１丁目１４−１
CATEGORIES:青森市ロピアチラシ
ATTACH;FMTTYPE=image/jpeg:https://aomori-daibouken.com/wp-content/uploads/2025/06/image-6.jpg
END:VEVENT
BEGIN:VEVENT
DTSTART;TZID=Asia/Tokyo:20250527T000000
DTEND;TZID=Asia/Tokyo:20250602T235959
DTSTAMP:20260424T005106
CREATED:20250526T230155Z
LAST-MODIFIED:20250526T230156Z
UID:23246-1748304000-1748908799@aomori-daibouken.com
SUMMARY:青森市 ロピア チラシ 2025/5/27～6/2
DESCRIPTION:
URL:https://aomori-daibouken.com/event/23246
LOCATION:CiiNA CiiNA (シーナシーナ) 青森\, 〒030-0843 青森県青森市浜田１丁目１４−１
CATEGORIES:青森市ロピアチラシ
ATTACH;FMTTYPE=image/jpeg:https://aomori-daibouken.com/wp-content/uploads/2025/05/image-20.jpg
END:VEVENT
BEGIN:VEVENT
DTSTART;TZID=Asia/Tokyo:20250520T000000
DTEND;TZID=Asia/Tokyo:20250526T235959
DTSTAMP:20260424T005106
CREATED:20250519T230207Z
LAST-MODIFIED:20250519T230209Z
UID:22954-1747699200-1748303999@aomori-daibouken.com
SUMMARY:青森市 ロピア チラシ 2025/5/20～5/26
DESCRIPTION:
URL:https://aomori-daibouken.com/event/22954
LOCATION:CiiNA CiiNA (シーナシーナ) 青森\, 〒030-0843 青森県青森市浜田１丁目１４−１
CATEGORIES:青森市ロピアチラシ
ATTACH;FMTTYPE=image/jpeg:https://aomori-daibouken.com/wp-content/uploads/2025/05/image-13.jpg
END:VEVENT
BEGIN:VEVENT
DTSTART;TZID=Asia/Tokyo:20250513T000000
DTEND;TZID=Asia/Tokyo:20250519T235959
DTSTAMP:20260424T005106
CREATED:20250512T230334Z
LAST-MODIFIED:20250512T230726Z
UID:22674-1747094400-1747699199@aomori-daibouken.com
SUMMARY:青森市 ロピア チラシ 2025/5/13～5/19
DESCRIPTION:
URL:https://aomori-daibouken.com/event/22674
LOCATION:CiiNA CiiNA (シーナシーナ) 青森\, 〒030-0843 青森県青森市浜田１丁目１４−１
CATEGORIES:青森市ロピアチラシ
ATTACH;FMTTYPE=image/jpeg:https://aomori-daibouken.com/wp-content/uploads/2025/05/image.jpg
END:VEVENT
BEGIN:VEVENT
DTSTART;TZID=Asia/Tokyo:20250506T000000
DTEND;TZID=Asia/Tokyo:20250512T235959
DTSTAMP:20260424T005106
CREATED:20250505T230238Z
LAST-MODIFIED:20250505T230240Z
UID:22528-1746489600-1747094399@aomori-daibouken.com
SUMMARY:青森市 ロピア チラシ 2025/5/6～5/12
DESCRIPTION:
URL:https://aomori-daibouken.com/event/22528
LOCATION:CiiNA CiiNA (シーナシーナ) 青森\, 〒030-0843 青森県青森市浜田１丁目１４−１
CATEGORIES:青森市ロピアチラシ
ATTACH;FMTTYPE=image/jpeg:https://aomori-daibouken.com/wp-content/uploads/2025/05/Point-Blur_20250506_080049.jpg
END:VEVENT
BEGIN:VEVENT
DTSTART;TZID=Asia/Tokyo:20250429T000000
DTEND;TZID=Asia/Tokyo:20250505T235959
DTSTAMP:20260424T005106
CREATED:20250428T230420Z
LAST-MODIFIED:20250505T171916Z
UID:22329-1745884800-1746489599@aomori-daibouken.com
SUMMARY:青森市 ロピア チラシ 2025/4/29～5/5
DESCRIPTION:
URL:https://aomori-daibouken.com/event/22329
LOCATION:CiiNA CiiNA (シーナシーナ) 青森\, 〒030-0843 青森県青森市浜田１丁目１４−１
CATEGORIES:青森市ロピアチラシ
ATTACH;FMTTYPE=image/jpeg:https://aomori-daibouken.com/wp-content/uploads/2025/04/Point-Blur_20250429_080132.jpg
END:VEVENT
BEGIN:VEVENT
DTSTART;TZID=Asia/Tokyo:20250422T000000
DTEND;TZID=Asia/Tokyo:20250428T235959
DTSTAMP:20260424T005106
CREATED:20250421T230057Z
LAST-MODIFIED:20250421T230224Z
UID:22223-1745280000-1745884799@aomori-daibouken.com
SUMMARY:青森市 ロピア チラシ 2025/4/22～4/28
DESCRIPTION:
URL:https://aomori-daibouken.com/event/22223
LOCATION:CiiNA CiiNA (シーナシーナ) 青森\, 〒030-0843 青森県青森市浜田１丁目１４−１
CATEGORIES:青森市ロピアチラシ
ATTACH;FMTTYPE=image/jpeg:https://aomori-daibouken.com/wp-content/uploads/2025/04/image-27.jpg
END:VEVENT
BEGIN:VEVENT
DTSTART;TZID=Asia/Tokyo:20250415T000000
DTEND;TZID=Asia/Tokyo:20250421T235959
DTSTAMP:20260424T005106
CREATED:20250414T230437Z
LAST-MODIFIED:20250414T230438Z
UID:21858-1744675200-1745279999@aomori-daibouken.com
SUMMARY:青森市 ロピア チラシ 2025/4/15～4/21
DESCRIPTION:
URL:https://aomori-daibouken.com/event/21858
LOCATION:CiiNA CiiNA (シーナシーナ) 青森\, 〒030-0843 青森県青森市浜田１丁目１４−１
CATEGORIES:青森市ロピアチラシ
ATTACH;FMTTYPE=image/jpeg:https://aomori-daibouken.com/wp-content/uploads/2025/04/image-19.jpg
END:VEVENT
BEGIN:VEVENT
DTSTART;TZID=Asia/Tokyo:20250408T000000
DTEND;TZID=Asia/Tokyo:20250414T235959
DTSTAMP:20260424T005106
CREATED:20250407T230846Z
LAST-MODIFIED:20250407T230847Z
UID:21716-1744070400-1744675199@aomori-daibouken.com
SUMMARY:青森市 ロピア チラシ 2025/4/8～4/14
DESCRIPTION:
URL:https://aomori-daibouken.com/event/21716
LOCATION:CiiNA CiiNA (シーナシーナ) 青森\, 〒030-0843 青森県青森市浜田１丁目１４−１
CATEGORIES:青森市ロピアチラシ
ATTACH;FMTTYPE=image/jpeg:https://aomori-daibouken.com/wp-content/uploads/2025/04/image-10.jpg
END:VEVENT
BEGIN:VEVENT
DTSTART;TZID=Asia/Tokyo:20250401T000000
DTEND;TZID=Asia/Tokyo:20250407T235959
DTSTAMP:20260424T005106
CREATED:20250331T231420Z
LAST-MODIFIED:20250331T231422Z
UID:21520-1743465600-1744070399@aomori-daibouken.com
SUMMARY:青森市 ロピア チラシ 2025/4/1～4/7
DESCRIPTION:
URL:https://aomori-daibouken.com/event/21520
LOCATION:CiiNA CiiNA (シーナシーナ) 青森\, 〒030-0843 青森県青森市浜田１丁目１４−１
CATEGORIES:青森市ロピアチラシ
ATTACH;FMTTYPE=image/jpeg:https://aomori-daibouken.com/wp-content/uploads/2025/04/image-3.jpg
END:VEVENT
BEGIN:VEVENT
DTSTART;TZID=Asia/Tokyo:20250327T090000
DTEND;TZID=Asia/Tokyo:20250327T090000
DTSTAMP:20260424T005106
CREATED:20250325T041601Z
LAST-MODIFIED:20250326T012001Z
UID:21303-1743066000-1743066000@aomori-daibouken.com
SUMMARY:青森市 ロピア お得イベント 保冷バッグロピア券付き販売
DESCRIPTION:この投稿をInstagramで見る            シーナシーナ青森(@ciina_ciina_aomori_official)がシェアした投稿
URL:https://aomori-daibouken.com/event/21303
LOCATION:CiiNA CiiNA (シーナシーナ) 青森\, 〒030-0843 青森県青森市浜田１丁目１４−１
CATEGORIES:3月青森イベント,青森市イベント 今日 明日 今週末 2025,青森市クーポン・お得情報,青森市ロピアチラシ
ATTACH;FMTTYPE=image/jpeg:https://aomori-daibouken.com/wp-content/uploads/2025/03/486047484_17878507005270804_6162725708925195713_n.jpg
END:VEVENT
BEGIN:VEVENT
DTSTART;TZID=Asia/Tokyo:20250325T000000
DTEND;TZID=Asia/Tokyo:20250331T235959
DTSTAMP:20260424T005106
CREATED:20250325T040852Z
LAST-MODIFIED:20250325T040853Z
UID:21295-1742860800-1743465599@aomori-daibouken.com
SUMMARY:青森市 ロピア チラシ 2025/3/25～3/31
DESCRIPTION:
URL:https://aomori-daibouken.com/event/21295
LOCATION:CiiNA CiiNA (シーナシーナ) 青森\, 〒030-0843 青森県青森市浜田１丁目１４−１
CATEGORIES:青森市ロピアチラシ
ATTACH;FMTTYPE=image/jpeg:https://aomori-daibouken.com/wp-content/uploads/2025/03/image-4-14.jpg
END:VEVENT
BEGIN:VEVENT
DTSTART;TZID=Asia/Tokyo:20250318T000000
DTEND;TZID=Asia/Tokyo:20250324T235959
DTSTAMP:20260424T005106
CREATED:20250317T232055Z
LAST-MODIFIED:20250317T232056Z
UID:21094-1742256000-1742860799@aomori-daibouken.com
SUMMARY:青森市 ロピア チラシ 2025/3/18～3/24
DESCRIPTION:
URL:https://aomori-daibouken.com/event/21094
LOCATION:CiiNA CiiNA (シーナシーナ) 青森\, 〒030-0843 青森県青森市浜田１丁目１４−１
CATEGORIES:青森市ロピアチラシ
ATTACH;FMTTYPE=image/jpeg:https://aomori-daibouken.com/wp-content/uploads/2025/03/image-4-3.jpg
END:VEVENT
BEGIN:VEVENT
DTSTART;TZID=Asia/Tokyo:20250311T000000
DTEND;TZID=Asia/Tokyo:20250317T235959
DTSTAMP:20260424T005106
CREATED:20250310T231354Z
LAST-MODIFIED:20250310T231355Z
UID:20721-1741651200-1742255999@aomori-daibouken.com
SUMMARY:青森市 ロピア チラシ 2025/3/11～3/17
DESCRIPTION:
URL:https://aomori-daibouken.com/event/20721
LOCATION:CiiNA CiiNA (シーナシーナ) 青森\, 〒030-0843 青森県青森市浜田１丁目１４−１
CATEGORIES:青森市ロピアチラシ
ATTACH;FMTTYPE=image/jpeg:https://aomori-daibouken.com/wp-content/uploads/2025/03/image-15.jpg
END:VEVENT
BEGIN:VEVENT
DTSTART;TZID=Asia/Tokyo:20250304T000000
DTEND;TZID=Asia/Tokyo:20250310T235959
DTSTAMP:20260424T005106
CREATED:20250303T232003Z
LAST-MODIFIED:20250303T232322Z
UID:20407-1741046400-1741651199@aomori-daibouken.com
SUMMARY:青森市 ロピア チラシ 青森 2025/3/4～3/10
DESCRIPTION:
URL:https://aomori-daibouken.com/event/20407
LOCATION:CiiNA CiiNA (シーナシーナ) 青森\, 〒030-0843 青森県青森市浜田１丁目１４−１
CATEGORIES:青森市ロピアチラシ
ATTACH;FMTTYPE=image/jpeg:https://aomori-daibouken.com/wp-content/uploads/2025/03/image-3.jpg
END:VEVENT
BEGIN:VEVENT
DTSTART;TZID=Asia/Tokyo:20250225T000000
DTEND;TZID=Asia/Tokyo:20250303T235959
DTSTAMP:20260424T005106
CREATED:20250224T231837Z
LAST-MODIFIED:20250224T231838Z
UID:19979-1740441600-1741046399@aomori-daibouken.com
SUMMARY:青森市 ロピア 青森 チラシ 2025/2/25～3/3
DESCRIPTION:
URL:https://aomori-daibouken.com/event/19979
LOCATION:CiiNA CiiNA (シーナシーナ) 青森\, 〒030-0843 青森県青森市浜田１丁目１４−１
CATEGORIES:青森市ロピアチラシ
ATTACH;FMTTYPE=image/jpeg:https://aomori-daibouken.com/wp-content/uploads/2025/02/image-38.jpg
END:VEVENT
BEGIN:VEVENT
DTSTART;TZID=Asia/Tokyo:20250218T000000
DTEND;TZID=Asia/Tokyo:20250224T235959
DTSTAMP:20260424T005106
CREATED:20250217T235318Z
LAST-MODIFIED:20250217T235320Z
UID:19637-1739836800-1740441599@aomori-daibouken.com
SUMMARY:青森市 ロピア 青森 チラシ 2025/2/18～2/24
DESCRIPTION:
URL:https://aomori-daibouken.com/event/19637
LOCATION:CiiNA CiiNA (シーナシーナ) 青森\, 〒030-0843 青森県青森市浜田１丁目１４−１
CATEGORIES:青森市ロピアチラシ
ATTACH;FMTTYPE=image/jpeg:https://aomori-daibouken.com/wp-content/uploads/2025/02/image-33-scaled.jpg
END:VEVENT
BEGIN:VEVENT
DTSTART;TZID=Asia/Tokyo:20250211T000000
DTEND;TZID=Asia/Tokyo:20250217T235959
DTSTAMP:20260424T005106
CREATED:20250210T232340Z
LAST-MODIFIED:20250210T232340Z
UID:19137-1739232000-1739836799@aomori-daibouken.com
SUMMARY:青森市 ロピア 青森 チラシ 2025/2/11～2/17
DESCRIPTION:
URL:https://aomori-daibouken.com/event/19137
LOCATION:CiiNA CiiNA (シーナシーナ) 青森\, 〒030-0843 青森県青森市浜田１丁目１４−１
CATEGORIES:青森市ロピアチラシ
ATTACH;FMTTYPE=image/jpeg:https://aomori-daibouken.com/wp-content/uploads/2025/02/Screenshot_2025.02.11_08.20.49.108-scaled.jpg
END:VEVENT
BEGIN:VEVENT
DTSTART;TZID=Asia/Tokyo:20250204T000000
DTEND;TZID=Asia/Tokyo:20250210T235959
DTSTAMP:20260424T005106
CREATED:20250204T000831Z
LAST-MODIFIED:20250204T000832Z
UID:18628-1738627200-1739231999@aomori-daibouken.com
SUMMARY:青森市 ロピア 青森 チラシ 2025/2/4～2/10
DESCRIPTION:
URL:https://aomori-daibouken.com/event/18628
LOCATION:CiiNA CiiNA (シーナシーナ) 青森\, 〒030-0843 青森県青森市浜田１丁目１４−１
CATEGORIES:青森市ロピアチラシ
ATTACH;FMTTYPE=image/jpeg:https://aomori-daibouken.com/wp-content/uploads/2025/02/Screenshot_2025.02.04_09.04.27.794.jpg
END:VEVENT
BEGIN:VEVENT
DTSTART;TZID=Asia/Tokyo:20250128T000000
DTEND;TZID=Asia/Tokyo:20250203T235959
DTSTAMP:20260424T005106
CREATED:20250128T223521Z
LAST-MODIFIED:20250131T121613Z
UID:18136-1738022400-1738627199@aomori-daibouken.com
SUMMARY:青森市 ロピア 青森 チラシ 2025/1/28～2/3
DESCRIPTION:
URL:https://aomori-daibouken.com/event/18136
LOCATION:ロピア青森店\, 〒030-0843 青森県青森市浜田１丁目14−１ シーナシーナ青森 1F
CATEGORIES:青森市ロピアチラシ
ATTACH;FMTTYPE=image/jpeg:https://aomori-daibouken.com/wp-content/uploads/2025/01/batch_Screenshot_2025.01.29_07.29.30.257.jpg
END:VEVENT
BEGIN:VEVENT
DTSTART;TZID=Asia/Tokyo:20250121T000000
DTEND;TZID=Asia/Tokyo:20250127T235959
DTSTAMP:20260424T005106
CREATED:20250121T001634Z
LAST-MODIFIED:20250121T001635Z
UID:17241-1737417600-1738022399@aomori-daibouken.com
SUMMARY:青森市 ロピア 青森 チラシ 2025/1/21～1/27
DESCRIPTION:
URL:https://aomori-daibouken.com/event/17241
LOCATION:ロピア青森店\, 〒030-0843 青森県青森市浜田１丁目14−１ シーナシーナ青森 1F
CATEGORIES:青森市ロピアチラシ
ATTACH;FMTTYPE=image/jpeg:https://aomori-daibouken.com/wp-content/uploads/2025/01/Screenshot_2025.01.21_09.11.24.812.jpg
END:VEVENT
BEGIN:VEVENT
DTSTART;TZID=Asia/Tokyo:20250114T000000
DTEND;TZID=Asia/Tokyo:20250120T235959
DTSTAMP:20260424T005106
CREATED:20250114T004927Z
LAST-MODIFIED:20250114T004928Z
UID:16995-1736812800-1737417599@aomori-daibouken.com
SUMMARY:青森市 ロピア 青森 チラシ 2025/1/14～1/20
DESCRIPTION:鮮魚コーナー \n\n\n\n1月25日(土)まで、鮮魚コーナーでは恵方巻の予約を受け付け中!! \n\n\n\n3種類の恵方巻をご用意しました♪ \n\n\n\n受け取りは2月2日(日)! ご予約はサービスカウンターまで!!
URL:https://aomori-daibouken.com/event/16995
LOCATION:ロピア青森店\, 〒030-0843 青森県青森市浜田１丁目14−１ シーナシーナ青森 1F
CATEGORIES:青森市ロピアチラシ
ATTACH;FMTTYPE=image/jpeg:https://aomori-daibouken.com/wp-content/uploads/2025/01/Screenshot_2025-01-14-09-38-10-929_app.lopia_.lopita.jpg
END:VEVENT
BEGIN:VEVENT
DTSTART;TZID=Asia/Tokyo:20250107T000000
DTEND;TZID=Asia/Tokyo:20250113T235959
DTSTAMP:20260424T005106
CREATED:20250107T005231Z
LAST-MODIFIED:20250112T003235Z
UID:16516-1736208000-1736812799@aomori-daibouken.com
SUMMARY:青森市 ロピア 青森 チラシ 2025/1/7～1/13
DESCRIPTION:ロピア青森店お買い得情報 2025.01.12 日曜日 \n\n\n\n\n鮮魚コーナー: 1/25(土)まで恵方巻の予約を受付中。3種類の恵方巻を用意。受け取りは2/2(日)。予約はサービスカウンターまで。\n\n\n\n惣菜コーナー: オープン1ヵ月セール ランチビザ【1枚500円(税抜)】の販売最終日。\n\n\n\n\n各コーナーのお買い得商品 \n\n\n\n\n野菜コーナー:栃木県産他 大玉トマト(2L)3個ザル盛 200円(税別) (税込216.00円)福岡県他 長ナスザル盛3本 222円(税別) (税込239.76円)熊本県他 ミニトマト バック盛 約300g 250円(税別) (税込270.00円)※ 各野菜コーナーで「ザル盛り」「トレー盛り」の数量限定販売あり。\n\n\n\n精肉コーナー:\n\n国内産黒毛和牛プルコギ用味付 100gあたり 350円(税別) (税込378.00円)\n\n\n\n\n\n惣菜コーナー:\n\nランチビザ 1枚 500円(税別) (税込540.00円) ※オープン1ヵ月セール、数量限定。\n\n\n\n\n\n\n全体的に、食料品がお得に購入できる情報が満載です。特に恵方巻を予約したい方、ランチビザをお得に購入したい方は、この日を逃さないようにしましょう。 \n\n\n\n\n\n青森ロピアチラシ2025最新2025最新青森ロピアチラシを見ることができます。ロピアのチラシを見る方法ロピアのチラシは、ロピア公式アプリ「ロピタ」をダウンロードすることで見られます。公式アプリ「ロピタ」は、普段行く店舗を登録する...aomori-daibouken.com
URL:https://aomori-daibouken.com/event/16516
LOCATION:ロピア青森店\, 〒030-0843 青森県青森市浜田１丁目14−１ シーナシーナ青森 1F
CATEGORIES:青森チラシ,青森市クーポン・お得情報,青森市スーパーチラシ,青森市ロピアチラシ
ATTACH;FMTTYPE=image/jpeg:https://aomori-daibouken.com/wp-content/uploads/2025/01/Screenshot_2025-01-07-09-44-46-501_app.lopia_.lopita.jpg
END:VEVENT
BEGIN:VEVENT
DTSTART;TZID=Asia/Tokyo:20250101T000000
DTEND;TZID=Asia/Tokyo:20250106T235959
DTSTAMP:20260424T005106
CREATED:20250101T010206Z
LAST-MODIFIED:20250107T005449Z
UID:16145-1735689600-1736207999@aomori-daibouken.com
SUMMARY:青森市 ロピア 青森 初売りチラシ 2025/1/1～1/6
DESCRIPTION:青森ロピアチラシ2025最新2025最新青森ロピアチラシを見ることができます。ロピアのチラシを見る方法ロピアのチラシは、ロピア公式アプリ「ロピタ」をダウンロードすることで見られます。公式アプリ「ロピタ」は、普段行く店舗を登録する...aomori-daibouken.com
URL:https://aomori-daibouken.com/event/16145
LOCATION:ロピア青森店\, 〒030-0843 青森県青森市浜田１丁目14−１ シーナシーナ青森 1F
CATEGORIES:青森チラシ,青森市クーポン・お得情報,青森市スーパーチラシ,青森市ロピアチラシ,青森市初売りチラシ2025
ATTACH;FMTTYPE=image/jpeg:https://aomori-daibouken.com/wp-content/uploads/2025/01/Screenshot_2025-01-01-08-50-11-938_app.lopia_.lopita.jpg
END:VEVENT
BEGIN:VEVENT
DTSTART;TZID=Asia/Tokyo:20250101T000000
DTEND;TZID=Asia/Tokyo:20250101T235959
DTSTAMP:20260424T005106
CREATED:20241227T123847Z
LAST-MODIFIED:20241227T124053Z
UID:15845-1735689600-1735775999@aomori-daibouken.com
SUMMARY:青森市 ロピア青森限定 福袋2025
DESCRIPTION:1/1（水） 500点限定新春福袋を販売いたします！ \n\n\n\nロピア4way保冷バッグ(1500円) 内 にロピア商品 9点3\,000円相当を詰め合わせして、2\,000円で販売いたします \n\n\n\nぜひお買い求めください。 \nhttps://ciina-ciina.com/aomori/events/2025-01-01-%E3%82%B7%E3%83%BC%E3%83%8A%E3%82%B7%E3%83%BC%E3%83%8A%E9%9D%92%E6%A3%AE-%E6%96%B0%E6%98%A5%E7%A6%8F%E8%A2%8B%E8%B2%A9%E5%A3%B2
URL:https://aomori-daibouken.com/event/15845
LOCATION:ロピア青森店\, 〒030-0843 青森県青森市浜田１丁目14−１ シーナシーナ青森 1F
CATEGORIES:青森市イベント 今日 明日 今週末 2025,青森市クーポン・お得情報,青森市ロピアチラシ,青森市初売りチラシ2025
ATTACH;FMTTYPE=image/avif:https://aomori-daibouken.com/wp-content/uploads/2024/12/2025-01-01-シーナシーナ青森-新春福袋販売-Cee-XStP.avif
END:VEVENT
BEGIN:VEVENT
DTSTART;TZID=Asia/Tokyo:20241229T000000
DTEND;TZID=Asia/Tokyo:20241231T235959
DTSTAMP:20260424T005106
CREATED:20241229T005138Z
LAST-MODIFIED:20241229T051043Z
UID:15917-1735430400-1735689599@aomori-daibouken.com
SUMMARY:青森市 ロピア 青森 チラシ 12/29～12/31
DESCRIPTION:
URL:https://aomori-daibouken.com/event/15917
LOCATION:CiiNA CiiNA (シーナシーナ) 青森\, 〒030-0843 青森県青森市浜田１丁目１４−１
CATEGORIES:青森市スーパーチラシ,青森市ロピアチラシ
ATTACH;FMTTYPE=image/jpeg:https://aomori-daibouken.com/wp-content/uploads/2024/12/Screenshot_2024-12-29-09-32-57-937_app.lopia_.lopita.jpg
END:VEVENT
BEGIN:VEVENT
DTSTART;TZID=Asia/Tokyo:20241226T000000
DTEND;TZID=Asia/Tokyo:20241228T235959
DTSTAMP:20260424T005106
CREATED:20241226T002552Z
LAST-MODIFIED:20241229T051044Z
UID:15578-1735171200-1735430399@aomori-daibouken.com
SUMMARY:青森市 ロピア 青森 チラシ 12/26～12/28
DESCRIPTION:
URL:https://aomori-daibouken.com/event/15578
LOCATION:CiiNA CiiNA (シーナシーナ) 青森\, 〒030-0843 青森県青森市浜田１丁目１４−１
CATEGORIES:青森市スーパーチラシ,青森市ロピアチラシ
ATTACH;FMTTYPE=image/jpeg:https://aomori-daibouken.com/wp-content/uploads/2024/12/Screenshot_2024-12-26-09-20-53-421_app.lopia_.lopita.jpg
END:VEVENT
BEGIN:VEVENT
DTSTART;TZID=Asia/Tokyo:20241220T000000
DTEND;TZID=Asia/Tokyo:20241225T235959
DTSTAMP:20260424T005106
CREATED:20241220T004104Z
LAST-MODIFIED:20241229T051044Z
UID:15587-1734652800-1735171199@aomori-daibouken.com
SUMMARY:青森市 ロピア 青森 チラシ 12/20~12/25
DESCRIPTION:
URL:https://aomori-daibouken.com/event/15587
LOCATION:CiiNA CiiNA (シーナシーナ) 青森\, 〒030-0843 青森県青森市浜田１丁目１４−１
CATEGORIES:青森市スーパーチラシ,青森市ロピアチラシ
ATTACH;FMTTYPE=image/jpeg:https://aomori-daibouken.com/wp-content/uploads/2024/12/Screenshot_2024-12-20-09-26-19-417_app.lopia_.lopita.jpg
END:VEVENT
END:VCALENDAR