BEGIN:VCALENDAR
VERSION:2.0
PRODID:-//青森大冒険-イベントカレンダー情報とブログ- - ECPv6.15.20//NONSGML v1.0//EN
CALSCALE:GREGORIAN
METHOD:PUBLISH
X-ORIGINAL-URL:https://aomori-daibouken.com
X-WR-CALDESC:青森大冒険-イベントカレンダー情報とブログ- のイベント
REFRESH-INTERVAL;VALUE=DURATION:PT1H
X-Robots-Tag:noindex
X-PUBLISHED-TTL:PT1H
BEGIN:VTIMEZONE
TZID:Asia/Tokyo
BEGIN:STANDARD
TZOFFSETFROM:+0900
TZOFFSETTO:+0900
TZNAME:JST
DTSTART:20240101T000000
END:STANDARD
END:VTIMEZONE
BEGIN:VEVENT
DTSTART;TZID=Asia/Tokyo:20250617T000000
DTEND;TZID=Asia/Tokyo:20250623T235959
DTSTAMP:20260423T180039
CREATED:20250616T230359Z
LAST-MODIFIED:20250616T230503Z
UID:23935-1750118400-1750723199@aomori-daibouken.com
SUMMARY:弘前 ロピア チラシ 青森 2025 6/17～6/23
DESCRIPTION:
URL:https://aomori-daibouken.com/event/23935
LOCATION:CiiNA CiiNA(シーナシーナ) 弘前\, 〒036-8002 青森県弘前市駅前３丁目2−１
CATEGORIES:弘前ロピアチラシ
ATTACH;FMTTYPE=image/jpeg:https://aomori-daibouken.com/wp-content/uploads/2025/06/image-26.jpg
END:VEVENT
BEGIN:VEVENT
DTSTART;TZID=Asia/Tokyo:20250617T000000
DTEND;TZID=Asia/Tokyo:20250623T235959
DTSTAMP:20260423T180039
CREATED:20250616T230241Z
LAST-MODIFIED:20250616T230522Z
UID:23938-1750118400-1750723199@aomori-daibouken.com
SUMMARY:五所川原 ロピア チラシ 青森 2025/6/17～6/23
DESCRIPTION:
URL:https://aomori-daibouken.com/event/23938
LOCATION:ELM（エルム）\, 〒037-0004 青森県五所川原市唐笠柳藤巻５１７−１
CATEGORIES:五所川原ロピアチラシ
ATTACH;FMTTYPE=image/jpeg:https://aomori-daibouken.com/wp-content/uploads/2025/06/image-24.jpg
END:VEVENT
BEGIN:VEVENT
DTSTART;TZID=Asia/Tokyo:20250617T000000
DTEND;TZID=Asia/Tokyo:20250623T235959
DTSTAMP:20260423T180039
CREATED:20250616T230109Z
LAST-MODIFIED:20250616T230541Z
UID:23932-1750118400-1750723199@aomori-daibouken.com
SUMMARY:青森市 ロピア チラシ 2025/6/17～6/23
DESCRIPTION:
URL:https://aomori-daibouken.com/event/23932
LOCATION:CiiNA CiiNA (シーナシーナ) 青森\, 〒030-0843 青森県青森市浜田１丁目１４−１
CATEGORIES:青森市ロピアチラシ
ATTACH;FMTTYPE=image/jpeg:https://aomori-daibouken.com/wp-content/uploads/2025/06/image-22.jpg
END:VEVENT
BEGIN:VEVENT
DTSTART;TZID=Asia/Tokyo:20250610T000000
DTEND;TZID=Asia/Tokyo:20250616T235959
DTSTAMP:20260423T180039
CREATED:20250609T231507Z
LAST-MODIFIED:20250610T021057Z
UID:23738-1749513600-1750118399@aomori-daibouken.com
SUMMARY:五所川原 ロピア チラシ 青森 2025 6/10～6/16
DESCRIPTION:6/10 8:00に公式アプリで確認しましたが、掲載されていませんでした。
URL:https://aomori-daibouken.com/event/23738
LOCATION:ELM（エルム）\, 〒037-0004 青森県五所川原市唐笠柳藤巻５１７−１
CATEGORIES:五所川原ロピアチラシ
END:VEVENT
BEGIN:VEVENT
DTSTART;TZID=Asia/Tokyo:20250610T000000
DTEND;TZID=Asia/Tokyo:20250616T235959
DTSTAMP:20260423T180039
CREATED:20250609T231006Z
LAST-MODIFIED:20250609T231008Z
UID:23734-1749513600-1750118399@aomori-daibouken.com
SUMMARY:弘前 ロピア チラシ 青森 2025 6/10～6/16
DESCRIPTION:
URL:https://aomori-daibouken.com/event/23734
LOCATION:CiiNA CiiNA(シーナシーナ) 弘前\, 〒036-8002 青森県弘前市駅前３丁目2−１
CATEGORIES:弘前ロピアチラシ
ATTACH;FMTTYPE=image/jpeg:https://aomori-daibouken.com/wp-content/uploads/2025/06/image-12.jpg
END:VEVENT
BEGIN:VEVENT
DTSTART;TZID=Asia/Tokyo:20250610T000000
DTEND;TZID=Asia/Tokyo:20250616T235959
DTSTAMP:20260423T180039
CREATED:20250609T230445Z
LAST-MODIFIED:20250609T230446Z
UID:23729-1749513600-1750118399@aomori-daibouken.com
SUMMARY:青森市 ロピア チラシ 2025/6/10～6/16
DESCRIPTION:
URL:https://aomori-daibouken.com/event/23729
LOCATION:CiiNA CiiNA (シーナシーナ) 青森\, 〒030-0843 青森県青森市浜田１丁目１４−１
CATEGORIES:青森市ロピアチラシ
ATTACH;FMTTYPE=image/jpeg:https://aomori-daibouken.com/wp-content/uploads/2025/06/image-10.jpg
END:VEVENT
BEGIN:VEVENT
DTSTART;TZID=Asia/Tokyo:20250603T000000
DTEND;TZID=Asia/Tokyo:20250609T235959
DTSTAMP:20260423T180039
CREATED:20250602T230436Z
LAST-MODIFIED:20250602T230437Z
UID:23505-1748908800-1749513599@aomori-daibouken.com
SUMMARY:五所川原 ロピア チラシ 青森 2025 6/3～6/9
DESCRIPTION:
URL:https://aomori-daibouken.com/event/23505
LOCATION:ELM（エルム）\, 〒037-0004 青森県五所川原市唐笠柳藤巻５１７−１
CATEGORIES:五所川原ロピアチラシ
ATTACH;FMTTYPE=image/jpeg:https://aomori-daibouken.com/wp-content/uploads/2025/06/image-4.jpg
END:VEVENT
BEGIN:VEVENT
DTSTART;TZID=Asia/Tokyo:20250603T000000
DTEND;TZID=Asia/Tokyo:20250609T235959
DTSTAMP:20260423T180039
CREATED:20250602T230320Z
LAST-MODIFIED:20250602T230321Z
UID:23502-1748908800-1749513599@aomori-daibouken.com
SUMMARY:弘前 ロピア チラシ 青森 2025 6/3～6/9
DESCRIPTION:
URL:https://aomori-daibouken.com/event/23502
LOCATION:CiiNA CiiNA(シーナシーナ) 弘前\, 〒036-8002 青森県弘前市駅前３丁目2−１
CATEGORIES:弘前ロピアチラシ
ATTACH;FMTTYPE=image/jpeg:https://aomori-daibouken.com/wp-content/uploads/2025/06/image-2.jpg
END:VEVENT
BEGIN:VEVENT
DTSTART;TZID=Asia/Tokyo:20250603T000000
DTEND;TZID=Asia/Tokyo:20250609T235959
DTSTAMP:20260423T180039
CREATED:20250602T230140Z
LAST-MODIFIED:20250602T230739Z
UID:23499-1748908800-1749513599@aomori-daibouken.com
SUMMARY:青森市 ロピア チラシ 2025/6/3～6/9
DESCRIPTION:
URL:https://aomori-daibouken.com/event/23499
LOCATION:CiiNA CiiNA (シーナシーナ) 青森\, 〒030-0843 青森県青森市浜田１丁目１４−１
CATEGORIES:青森市ロピアチラシ
ATTACH;FMTTYPE=image/jpeg:https://aomori-daibouken.com/wp-content/uploads/2025/06/image-6.jpg
END:VEVENT
BEGIN:VEVENT
DTSTART;TZID=Asia/Tokyo:20250527T000000
DTEND;TZID=Asia/Tokyo:20250602T235959
DTSTAMP:20260423T180039
CREATED:20250526T230405Z
LAST-MODIFIED:20250526T230407Z
UID:23248-1748304000-1748908799@aomori-daibouken.com
SUMMARY:五所川原 ロピア チラシ 青森 2025/5/27～6/2
DESCRIPTION:
URL:https://aomori-daibouken.com/event/23248
LOCATION:ELM（エルム）\, 〒037-0004 青森県五所川原市唐笠柳藤巻５１７−１
CATEGORIES:五所川原ロピアチラシ
ATTACH;FMTTYPE=image/jpeg:https://aomori-daibouken.com/wp-content/uploads/2025/05/image-24.jpg
END:VEVENT
BEGIN:VEVENT
DTSTART;TZID=Asia/Tokyo:20250527T000000
DTEND;TZID=Asia/Tokyo:20250602T235959
DTSTAMP:20260423T180039
CREATED:20250526T230256Z
LAST-MODIFIED:20250602T225649Z
UID:23250-1748304000-1748908799@aomori-daibouken.com
SUMMARY:弘前 ロピア チラシ 青森 2025 5/27～6/2
DESCRIPTION:
URL:https://aomori-daibouken.com/event/23250
LOCATION:CiiNA CiiNA(シーナシーナ) 弘前\, 〒036-8002 青森県弘前市駅前３丁目2−１
CATEGORIES:弘前ロピアチラシ
ATTACH;FMTTYPE=image/jpeg:https://aomori-daibouken.com/wp-content/uploads/2025/05/image-22.jpg
END:VEVENT
BEGIN:VEVENT
DTSTART;TZID=Asia/Tokyo:20250527T000000
DTEND;TZID=Asia/Tokyo:20250602T235959
DTSTAMP:20260423T180039
CREATED:20250526T230155Z
LAST-MODIFIED:20250526T230156Z
UID:23246-1748304000-1748908799@aomori-daibouken.com
SUMMARY:青森市 ロピア チラシ 2025/5/27～6/2
DESCRIPTION:
URL:https://aomori-daibouken.com/event/23246
LOCATION:CiiNA CiiNA (シーナシーナ) 青森\, 〒030-0843 青森県青森市浜田１丁目１４−１
CATEGORIES:青森市ロピアチラシ
ATTACH;FMTTYPE=image/jpeg:https://aomori-daibouken.com/wp-content/uploads/2025/05/image-20.jpg
END:VEVENT
BEGIN:VEVENT
DTSTART;TZID=Asia/Tokyo:20250520T000000
DTEND;TZID=Asia/Tokyo:20250526T235959
DTSTAMP:20260423T180039
CREATED:20250519T230730Z
LAST-MODIFIED:20250519T230731Z
UID:22964-1747699200-1748303999@aomori-daibouken.com
SUMMARY:弘前 ロピア チラシ 青森 2025/5/20～5/26
DESCRIPTION:
URL:https://aomori-daibouken.com/event/22964
LOCATION:CiiNA CiiNA(シーナシーナ) 弘前\, 〒036-8002 青森県弘前市駅前３丁目2−１
CATEGORIES:弘前ロピアチラシ
ATTACH;FMTTYPE=image/jpeg:https://aomori-daibouken.com/wp-content/uploads/2025/05/image-17.jpg
END:VEVENT
BEGIN:VEVENT
DTSTART;TZID=Asia/Tokyo:20250520T000000
DTEND;TZID=Asia/Tokyo:20250526T235959
DTSTAMP:20260423T180039
CREATED:20250519T230421Z
LAST-MODIFIED:20250519T230422Z
UID:22959-1747699200-1748303999@aomori-daibouken.com
SUMMARY:五所川原 ロピア チラシ 青森 2025/5/20～5/26
DESCRIPTION:
URL:https://aomori-daibouken.com/event/22959
LOCATION:ELM（エルム）\, 〒037-0004 青森県五所川原市唐笠柳藤巻５１７−１
CATEGORIES:五所川原ロピアチラシ
ATTACH;FMTTYPE=image/jpeg:https://aomori-daibouken.com/wp-content/uploads/2025/05/image-15.jpg
END:VEVENT
BEGIN:VEVENT
DTSTART;TZID=Asia/Tokyo:20250520T000000
DTEND;TZID=Asia/Tokyo:20250526T235959
DTSTAMP:20260423T180039
CREATED:20250519T230207Z
LAST-MODIFIED:20250519T230209Z
UID:22954-1747699200-1748303999@aomori-daibouken.com
SUMMARY:青森市 ロピア チラシ 2025/5/20～5/26
DESCRIPTION:
URL:https://aomori-daibouken.com/event/22954
LOCATION:CiiNA CiiNA (シーナシーナ) 青森\, 〒030-0843 青森県青森市浜田１丁目１４−１
CATEGORIES:青森市ロピアチラシ
ATTACH;FMTTYPE=image/jpeg:https://aomori-daibouken.com/wp-content/uploads/2025/05/image-13.jpg
END:VEVENT
BEGIN:VEVENT
DTSTART;TZID=Asia/Tokyo:20250513T000000
DTEND;TZID=Asia/Tokyo:20250519T235959
DTSTAMP:20260423T180039
CREATED:20250512T230653Z
LAST-MODIFIED:20250512T230654Z
UID:22672-1747094400-1747699199@aomori-daibouken.com
SUMMARY:五所川原 ロピア チラシ 青森 2025/5/13～5/19
DESCRIPTION:
URL:https://aomori-daibouken.com/event/22672
LOCATION:ELM（エルム）\, 〒037-0004 青森県五所川原市唐笠柳藤巻５１７−１
CATEGORIES:五所川原ロピアチラシ
ATTACH;FMTTYPE=image/jpeg:https://aomori-daibouken.com/wp-content/uploads/2025/05/image-4.jpg
END:VEVENT
BEGIN:VEVENT
DTSTART;TZID=Asia/Tokyo:20250513T000000
DTEND;TZID=Asia/Tokyo:20250519T235959
DTSTAMP:20260423T180039
CREATED:20250512T230558Z
LAST-MODIFIED:20250512T230559Z
UID:22670-1747094400-1747699199@aomori-daibouken.com
SUMMARY:弘前 ロピア チラシ 青森 2025/5/13～5/19
DESCRIPTION:
URL:https://aomori-daibouken.com/event/22670
LOCATION:CiiNA CiiNA(シーナシーナ) 弘前\, 〒036-8002 青森県弘前市駅前３丁目2−１
CATEGORIES:弘前ロピアチラシ
ATTACH;FMTTYPE=image/jpeg:https://aomori-daibouken.com/wp-content/uploads/2025/05/image-2.jpg
END:VEVENT
BEGIN:VEVENT
DTSTART;TZID=Asia/Tokyo:20250513T000000
DTEND;TZID=Asia/Tokyo:20250519T235959
DTSTAMP:20260423T180039
CREATED:20250512T230334Z
LAST-MODIFIED:20250512T230726Z
UID:22674-1747094400-1747699199@aomori-daibouken.com
SUMMARY:青森市 ロピア チラシ 2025/5/13～5/19
DESCRIPTION:
URL:https://aomori-daibouken.com/event/22674
LOCATION:CiiNA CiiNA (シーナシーナ) 青森\, 〒030-0843 青森県青森市浜田１丁目１４−１
CATEGORIES:青森市ロピアチラシ
ATTACH;FMTTYPE=image/jpeg:https://aomori-daibouken.com/wp-content/uploads/2025/05/image.jpg
END:VEVENT
BEGIN:VEVENT
DTSTART;TZID=Asia/Tokyo:20250506T000000
DTEND;TZID=Asia/Tokyo:20250512T235959
DTSTAMP:20260423T180039
CREATED:20250505T230758Z
LAST-MODIFIED:20250505T230800Z
UID:22524-1746489600-1747094399@aomori-daibouken.com
SUMMARY:弘前 ロピア チラシ 青森 2025/5/6～5/12
DESCRIPTION:
URL:https://aomori-daibouken.com/event/22524
LOCATION:CiiNA CiiNA(シーナシーナ) 弘前\, 〒036-8002 青森県弘前市駅前３丁目2−１
CATEGORIES:弘前ロピアチラシ
ATTACH;FMTTYPE=image/jpeg:https://aomori-daibouken.com/wp-content/uploads/2025/05/Point-Blur_20250506_080600.jpg
END:VEVENT
BEGIN:VEVENT
DTSTART;TZID=Asia/Tokyo:20250506T000000
DTEND;TZID=Asia/Tokyo:20250512T235959
DTSTAMP:20260423T180039
CREATED:20250505T230511Z
LAST-MODIFIED:20250505T230513Z
UID:22521-1746489600-1747094399@aomori-daibouken.com
SUMMARY:五所川原 ロピア チラシ 青森 2025/5/6～5/12
DESCRIPTION:
URL:https://aomori-daibouken.com/event/22521
LOCATION:ELM（エルム）\, 〒037-0004 青森県五所川原市唐笠柳藤巻５１７−１
CATEGORIES:五所川原ロピアチラシ
ATTACH;FMTTYPE=image/jpeg:https://aomori-daibouken.com/wp-content/uploads/2025/05/Point-Blur_20250506_080329.jpg
END:VEVENT
BEGIN:VEVENT
DTSTART;TZID=Asia/Tokyo:20250506T000000
DTEND;TZID=Asia/Tokyo:20250512T235959
DTSTAMP:20260423T180039
CREATED:20250505T230238Z
LAST-MODIFIED:20250505T230240Z
UID:22528-1746489600-1747094399@aomori-daibouken.com
SUMMARY:青森市 ロピア チラシ 2025/5/6～5/12
DESCRIPTION:
URL:https://aomori-daibouken.com/event/22528
LOCATION:CiiNA CiiNA (シーナシーナ) 青森\, 〒030-0843 青森県青森市浜田１丁目１４−１
CATEGORIES:青森市ロピアチラシ
ATTACH;FMTTYPE=image/jpeg:https://aomori-daibouken.com/wp-content/uploads/2025/05/Point-Blur_20250506_080049.jpg
END:VEVENT
BEGIN:VEVENT
DTSTART;TZID=Asia/Tokyo:20250429T000000
DTEND;TZID=Asia/Tokyo:20250505T235959
DTSTAMP:20260423T180039
CREATED:20250428T230812Z
LAST-MODIFIED:20250505T171647Z
UID:22332-1745884800-1746489599@aomori-daibouken.com
SUMMARY:五所川原 ロピア チラシ 青森 2025/4/29～5/5
DESCRIPTION:
URL:https://aomori-daibouken.com/event/22332
LOCATION:ELM（エルム）\, 〒037-0004 青森県五所川原市唐笠柳藤巻５１７−１
CATEGORIES:五所川原ロピアチラシ
ATTACH;FMTTYPE=image/jpeg:https://aomori-daibouken.com/wp-content/uploads/2025/04/Point-Blur_20250429_080708.jpg
END:VEVENT
BEGIN:VEVENT
DTSTART;TZID=Asia/Tokyo:20250429T000000
DTEND;TZID=Asia/Tokyo:20250505T235959
DTSTAMP:20260423T180039
CREATED:20250428T230627Z
LAST-MODIFIED:20250505T171818Z
UID:22335-1745884800-1746489599@aomori-daibouken.com
SUMMARY:弘前 ロピア チラシ 青森 2025/4/29～5/5
DESCRIPTION:
URL:https://aomori-daibouken.com/event/22335
LOCATION:CiiNA CiiNA(シーナシーナ) 弘前\, 〒036-8002 青森県弘前市駅前３丁目2−１
CATEGORIES:弘前ロピアチラシ
ATTACH;FMTTYPE=image/jpeg:https://aomori-daibouken.com/wp-content/uploads/2025/04/Point-Blur_20250429_080508.jpg
END:VEVENT
BEGIN:VEVENT
DTSTART;TZID=Asia/Tokyo:20250429T000000
DTEND;TZID=Asia/Tokyo:20250505T235959
DTSTAMP:20260423T180039
CREATED:20250428T230420Z
LAST-MODIFIED:20250505T171916Z
UID:22329-1745884800-1746489599@aomori-daibouken.com
SUMMARY:青森市 ロピア チラシ 2025/4/29～5/5
DESCRIPTION:
URL:https://aomori-daibouken.com/event/22329
LOCATION:CiiNA CiiNA (シーナシーナ) 青森\, 〒030-0843 青森県青森市浜田１丁目１４−１
CATEGORIES:青森市ロピアチラシ
ATTACH;FMTTYPE=image/jpeg:https://aomori-daibouken.com/wp-content/uploads/2025/04/Point-Blur_20250429_080132.jpg
END:VEVENT
BEGIN:VEVENT
DTSTART;TZID=Asia/Tokyo:20250428T000000
DTEND;TZID=Asia/Tokyo:20250428T235959
DTSTAMP:20260423T180039
CREATED:20250417T235926Z
LAST-MODIFIED:20250417T235927Z
UID:22118-1745798400-1745884799@aomori-daibouken.com
SUMMARY:弘前ロピア 4/28大試食会
DESCRIPTION:この投稿をInstagramで見る            シーナシーナ弘前(@ciina_ciina_hirosaki_official)がシェアした投稿
URL:https://aomori-daibouken.com/event/22118
LOCATION:CiiNA CiiNA(シーナシーナ) 弘前\, 〒036-8002 青森県弘前市駅前３丁目2−１
CATEGORIES:弘前ロピアチラシ
ATTACH;FMTTYPE=image/jpeg:https://aomori-daibouken.com/wp-content/uploads/2025/04/491465180_1117726410111071_6160568438555026494_n.jpg
END:VEVENT
BEGIN:VEVENT
DTSTART;TZID=Asia/Tokyo:20250422T000000
DTEND;TZID=Asia/Tokyo:20250428T235959
DTSTAMP:20260423T180039
CREATED:20250421T230314Z
LAST-MODIFIED:20250421T230325Z
UID:22226-1745280000-1745884799@aomori-daibouken.com
SUMMARY:弘前 ロピア チラシ 青森 2025/4/22～4/28
DESCRIPTION:
URL:https://aomori-daibouken.com/event/22226
LOCATION:CiiNA CiiNA(シーナシーナ) 弘前\, 〒036-8002 青森県弘前市駅前３丁目2−１
CATEGORIES:弘前ロピアチラシ
ATTACH;FMTTYPE=image/jpeg:https://aomori-daibouken.com/wp-content/uploads/2025/04/image-31.jpg
END:VEVENT
BEGIN:VEVENT
DTSTART;TZID=Asia/Tokyo:20250422T000000
DTEND;TZID=Asia/Tokyo:20250428T235959
DTSTAMP:20260423T180039
CREATED:20250421T230204Z
LAST-MODIFIED:20250421T230205Z
UID:22228-1745280000-1745884799@aomori-daibouken.com
SUMMARY:五所川原 ロピア チラシ 青森 2025/4/22～4/28
DESCRIPTION:
URL:https://aomori-daibouken.com/event/22228
LOCATION:ELM（エルム）\, 〒037-0004 青森県五所川原市唐笠柳藤巻５１７−１
CATEGORIES:五所川原ロピアチラシ
ATTACH;FMTTYPE=image/jpeg:https://aomori-daibouken.com/wp-content/uploads/2025/04/image-29.jpg
END:VEVENT
BEGIN:VEVENT
DTSTART;TZID=Asia/Tokyo:20250422T000000
DTEND;TZID=Asia/Tokyo:20250428T235959
DTSTAMP:20260423T180039
CREATED:20250421T230057Z
LAST-MODIFIED:20250421T230224Z
UID:22223-1745280000-1745884799@aomori-daibouken.com
SUMMARY:青森市 ロピア チラシ 2025/4/22～4/28
DESCRIPTION:
URL:https://aomori-daibouken.com/event/22223
LOCATION:CiiNA CiiNA (シーナシーナ) 青森\, 〒030-0843 青森県青森市浜田１丁目１４−１
CATEGORIES:青森市ロピアチラシ
ATTACH;FMTTYPE=image/jpeg:https://aomori-daibouken.com/wp-content/uploads/2025/04/image-27.jpg
END:VEVENT
BEGIN:VEVENT
DTSTART;TZID=Asia/Tokyo:20250415T000000
DTEND;TZID=Asia/Tokyo:20250421T235959
DTSTAMP:20260423T180039
CREATED:20250414T230835Z
LAST-MODIFIED:20250414T230836Z
UID:21868-1744675200-1745279999@aomori-daibouken.com
SUMMARY:五所川原 ロピア チラシ 青森 2025/4/15～4/21
DESCRIPTION:
URL:https://aomori-daibouken.com/event/21868
LOCATION:ELM（エルム）\, 〒037-0004 青森県五所川原市唐笠柳藤巻５１７−１
CATEGORIES:五所川原ロピアチラシ
ATTACH;FMTTYPE=image/jpeg:https://aomori-daibouken.com/wp-content/uploads/2025/04/image-23.jpg
END:VEVENT
BEGIN:VEVENT
DTSTART;TZID=Asia/Tokyo:20250415T000000
DTEND;TZID=Asia/Tokyo:20250421T235959
DTSTAMP:20260423T180039
CREATED:20250414T230622Z
LAST-MODIFIED:20250414T230624Z
UID:21863-1744675200-1745279999@aomori-daibouken.com
SUMMARY:弘前 ロピア チラシ 青森 2025/4/15～4/21
DESCRIPTION:
URL:https://aomori-daibouken.com/event/21863
LOCATION:CiiNA CiiNA(シーナシーナ) 弘前\, 〒036-8002 青森県弘前市駅前３丁目2−１
CATEGORIES:弘前ロピアチラシ
ATTACH;FMTTYPE=image/jpeg:https://aomori-daibouken.com/wp-content/uploads/2025/04/image-21.jpg
END:VEVENT
END:VCALENDAR