BEGIN:VCALENDAR
VERSION:2.0
PRODID:-//青森大冒険-イベントカレンダー情報とブログ- - ECPv6.15.20//NONSGML v1.0//EN
CALSCALE:GREGORIAN
METHOD:PUBLISH
X-ORIGINAL-URL:https://aomori-daibouken.com
X-WR-CALDESC:青森大冒険-イベントカレンダー情報とブログ- のイベント
REFRESH-INTERVAL;VALUE=DURATION:PT1H
X-Robots-Tag:noindex
X-PUBLISHED-TTL:PT1H
BEGIN:VTIMEZONE
TZID:Asia/Tokyo
BEGIN:STANDARD
TZOFFSETFROM:+0900
TZOFFSETTO:+0900
TZNAME:JST
DTSTART:20240101T000000
END:STANDARD
END:VTIMEZONE
BEGIN:VEVENT
DTSTART;TZID=Asia/Tokyo:20250104T000000
DTEND;TZID=Asia/Tokyo:20250131T235959
DTSTAMP:20260424T085041
CREATED:20250104T054155Z
LAST-MODIFIED:20250105T130042Z
UID:16282-1735948800-1738367999@aomori-daibouken.com
SUMMARY:青森 イオン 5%OFFクーポン
DESCRIPTION:概要 \n\n\n\niAEONアプリのダウンロード、会員登録と対象店舗のお気に入り登録でiAEONアプリ上でクーポンを配信いたします。 \n\n\n\n対象店舗\n\n\n\n東北地区のイオン／イオンスタイル／イオンエクスプレス／マックスバリュ／マックスバリュエクスプレス※ザ・ビッグ、イオンモール・専門店は対象外となります。 \n\n\n\n期間\n\n\n\n2025年1月4日（土）～31日（金）　※クーポンはiAEONアプリ上で配信されます。　※既に会員登録済みの方も対象となります。　 \n\n\n\nクーポンの内容\n\n\n\n食料品・衣料品・暮らしの品のお買物でご利用いただける5％OFFクーポンクーポンは期間中、お好きな日1日限りご利用いただけます。 \n\n\n\n■お支払い方法イオンカードのクレジット払い・AEONPay・電子マネーWAONでのお支払い限り利用可能 \n\n\n\n■対象店舗東北地区のイオン／イオンスタイル／イオンエクスプレス／マックスバリュ／マックスバリュエクスプレス※ザ・ビッグ、イオンモール・専門店は対象外となります。 \n\n\n\n■割引対象外商品ビール・発泡酒・第3のビール/酒ギフトなどの酒類/お酒売場の飲料、おつまみ等/たばこ/切手/印紙/商品券/ イオンギフトカード/ギフト券/WAON発行手数料/うれしーど/書籍、雑誌/ゲーム機本体/一部ブランド商品/調剤薬品/ カウンセリング化粧品/キャンドゥ商品/マイバッグ・マイバスケット/早期予約商品/リフォームコーナー/ 携帯電話サービス料金/工事費・配達代金等サービス料金/一部銘店品/その他、特定の商品は除きます。 \n\n\n\n※他の割引企画との併用はできません。※イオン東北ネットスーパー、イオン東北オンラインなどオンラインショップは利用対象外となります。 \n\n\n\nクーポンの利用方法\n\n\n\n【STEP1】お気に入り店舗のホーム画面にクーポンが付与されます。　　　　　東北地区のイオン・イオンスタイル・イオンエクスプレス・マックスバリュ・マックスバリュエクスプレス店舗の中から設定ください。　　　　　【STEP2】対象のクーポンを『選択中』にします。【STEP3】レジにて会員コードをご提示・またはスキャン(セルフレジの場合)してください。 \n\n\n\n\n\n\n\nご利用上の注意\n\n\n\n・クーポンの配布は1アカウントあたり1回のみとなります。・複数の店舗をお気に入り店舗登録してもクーポンの配布は1回のみとなります。・クーポンのスクリーンショットではクーポンの適用が出来ません。必ずアプリ内でクーポン登録後会員コードをご提示ください。・期間前にiAEONダウンロード・会員登録・お気に入り登録したお客さまも対象となります。・イオンモールは対象外となります。・iAEONのご利用が可能なスマートフォンをお持ちのお客さまが対象となります。　（iPhoneをお持ちの方：iOS13.0以上、Android端末をお持ちの方：Android7.0以上、タブレットは推奨環境外です。一部の端末に関しては対応OSバージョン以上でもインストールできない場合や動作しない場合がございます。）・iAEONアプリご利用のためSMSを受信可能な携帯電話番号が必要です。・本キャンペーン内容は予告なく変更・中止・延長となる場合がございます。 \nhttps://aeontohoku.co.jp/pages/202501otoshidama_app
URL:https://aomori-daibouken.com/event/16282
LOCATION:イオン\, イオン
CATEGORIES:五所川原初売りチラシ2025,八戸初売りチラシ2025,八戸市クーポン,弘前初売りチラシ2025,弘前市クーポン,青森お得情報,青森チラシ,青森市クーポン・お得情報,青森市スーパーチラシ,青森市初売りチラシ2025,青森県初売り・福袋チラシ2025
ATTACH;FMTTYPE=image/jpeg:https://aomori-daibouken.com/wp-content/uploads/2025/01/2025iAEONotoshidama.jpg
END:VEVENT
BEGIN:VEVENT
DTSTART;TZID=Asia/Tokyo:20250104T000000
DTEND;TZID=Asia/Tokyo:20250113T235959
DTSTAMP:20260424T085041
CREATED:20241225T003415Z
LAST-MODIFIED:20241225T003416Z
UID:15482-1735948800-1736812799@aomori-daibouken.com
SUMMARY:株式会社スズキ自販青森 初売り2025
DESCRIPTION:開催期間限定ワンプライス車 \n\n\n\n\n\n\n\nスタッドレスタイヤ付きの \n\n\n\nお得なワンプライス車 \n\n\n\n是非この機会に \n\n\n\nご検討ください!!! \n\n\n\n【新車ご成約特典】 \n\n\n\n\n\n\n\n【ご成約プレゼント】 \n\n\n\n\n\n\n\nさらに!!! \n\n\n\n新車をご成約の方から \n\n\n\n抽選で50名様に \n\n\n\n豪華商品をプレゼント!! \n\n\n\n\n\n\n\n\n\n\n\nA～Jは各１名様 \n\n\n\nK　ハンガリー　高級紅白ワインセット　5名様 \n\n\n\nL　スズキオリジナル　湯のみ　10枚様 \n\n\n\nM　スズキオリジナル　キャリイトートバッグ　25名様 \n\n\n\n【ご商談プレゼント】 \n\n\n\n\n\n\n\n【ご来場プレゼント】 \n\n\n\n\n\n\n\n※ 来場プレゼントは数に限りがございます \n\n\n\n※ 品切れの際はご容赦ください \n\n\n\nスズキ自販青森各拠店のブログも \n\n\n\nチェック \n\n\n\n【スズキアリーナ　　　　青森西】 \n\n\n\n【スズキアリーナ　　　青森三内】 \n\n\n\n【スズキアリーナ　青森観光通り】 \n\n\n\n【スズキアリーナ　　　弘前神田】 \n\n\n\n【スズキアリーナ　　五所川原東】 \n\n\n\n【スズキアリーナ　　　　　類家】 \n\n\n\n【スズキアリーナ　　　　長苗代】 \n\n\n\n【スズキアリーナ　　十和田中央】 \n\n\n\n【スズキアリーナ　　　　　下北】 \n\n\n\n皆さまのご来店を \n\n\n\n社員一同心より \n\n\n\nお待ちしております \nhttps://www.suzuki.co.jp/dealer/suzuki-j-aomori/news/detail/?id=38222
URL:https://aomori-daibouken.com/event/15482
LOCATION:株式会社スズキ自販青森\, 株式会社スズキ自販青森
CATEGORIES:五所川原初売りチラシ2025,八戸初売りチラシ2025,弘前初売りチラシ2025,青森市初売りチラシ2025
ATTACH;FMTTYPE=image/jpeg:https://aomori-daibouken.com/wp-content/uploads/2024/12/【HPトップ用】_初売り_1217_90ae153c-bcdf-11ef-aff4-fa163e794ba5.jpg
END:VEVENT
BEGIN:VEVENT
DTSTART;TZID=Asia/Tokyo:20250101T000000
DTEND;TZID=Asia/Tokyo:20250114T235959
DTSTAMP:20260424T085041
CREATED:20250101T002950Z
LAST-MODIFIED:20250105T072422Z
UID:16132-1735689600-1736899199@aomori-daibouken.com
SUMMARY:青森 西松屋 初売りチラシ2025
DESCRIPTION:https://sale.24028.jp/digital-chirashi/period-0101-0114/
URL:https://aomori-daibouken.com/event/16132
LOCATION:西松屋\, 西松屋
CATEGORIES:五所川原初売りチラシ2025,八戸初売りチラシ2025,八戸市クーポン,弘前初売りチラシ2025,弘前市クーポン,青森チラシ,青森市クーポン・お得情報,青森市初売りチラシ2025,青森県初売り・福袋チラシ2025
ATTACH;FMTTYPE=image/jpeg:https://aomori-daibouken.com/wp-content/uploads/2025/01/image-4.jpg
END:VEVENT
BEGIN:VEVENT
DTSTART;TZID=Asia/Tokyo:20250101T000000
DTEND;TZID=Asia/Tokyo:20250106T235959
DTSTAMP:20260424T085041
CREATED:20250101T010614Z
LAST-MODIFIED:20250227T140245Z
UID:16149-1735689600-1736207999@aomori-daibouken.com
SUMMARY:青森五所川原市 ロピア 初売りチラシ 2025/1/1～1/6
DESCRIPTION:青森ロピアチラシ2025最新2025最新青森ロピアチラシを見ることができます。ロピアのチラシを見る方法ロピアのチラシは、ロピア公式アプリ「ロピタ」をダウンロードすることで見られます。公式アプリ「ロピタ」は、普段行く店舗を登録する...aomori-daibouken.com
URL:https://aomori-daibouken.com/event/16149
LOCATION:ELM（エルム）\, 〒037-0004 青森県五所川原市唐笠柳藤巻５１７−１
CATEGORIES:五所川原ロピアチラシ,五所川原初売りチラシ2025,青森チラシ
ATTACH;FMTTYPE=image/jpeg:https://aomori-daibouken.com/wp-content/uploads/2025/01/Screenshot_2025-01-01-08-50-20-642_app.lopia_.lopita.jpg
END:VEVENT
BEGIN:VEVENT
DTSTART;TZID=Asia/Tokyo:20250101T000000
DTEND;TZID=Asia/Tokyo:20250105T235959
DTSTAMP:20260424T085041
CREATED:20241231T234605Z
LAST-MODIFIED:20250101T012112Z
UID:16122-1735689600-1736121599@aomori-daibouken.com
SUMMARY:アベイル 初売り福袋2025 青森市 弘前市 十和田市 むつ市 五所川原市
DESCRIPTION:※各店の初売日・年始の営業時間は〝店舗検索ページ〟をご確認ください。 \nhttps://www.shimamura.gr.jp/avail/flier/
URL:https://aomori-daibouken.com/event/16122
LOCATION:アベイル\, アベイル
CATEGORIES:五所川原初売りチラシ2025,八戸初売りチラシ2025,八戸市クーポン,弘前初売りチラシ2025,弘前市クーポン,青森お得情報,青森チラシ,青森市クーポン・お得情報,青森市初売りチラシ2025,青森県初売り・福袋チラシ2025
ATTACH;FMTTYPE=image/jpeg:https://aomori-daibouken.com/wp-content/uploads/2025/01/image-2.jpg
END:VEVENT
BEGIN:VEVENT
DTSTART;TZID=Asia/Tokyo:20250101T000000
DTEND;TZID=Asia/Tokyo:20250105T235959
DTSTAMP:20260424T085041
CREATED:20241231T233717Z
LAST-MODIFIED:20250106T005516Z
UID:16115-1735689600-1736121599@aomori-daibouken.com
SUMMARY:しまむら 初売り福袋チラシ2025 青森市 八戸市 弘前市 五所川原市ほか
DESCRIPTION:★店舗により初売り日が異なります。詳しくは〝店舗検索ページ〟よりご確認ください。★また一部店舗では、休業もしくは営業時間の変更をしております。チラシ対象外の店舗もございます。 \nhttps://www.shimamura.gr.jp/shimamura/flier/
URL:https://aomori-daibouken.com/event/16115
LOCATION:しまむら\, しまむら
CATEGORIES:1月青森イベント,五所川原初売りチラシ2025,八戸初売りチラシ2025,八戸市クーポン,弘前初売りチラシ2025,弘前市クーポン,青森お得情報,青森チラシ,青森市クーポン・お得情報,青森市初売りチラシ2025,青森県初売り・福袋チラシ2025
ATTACH;FMTTYPE=image/jpeg:https://aomori-daibouken.com/wp-content/uploads/2025/01/image.jpg
END:VEVENT
BEGIN:VEVENT
DTSTART;TZID=Asia/Tokyo:20250101T000000
DTEND;TZID=Asia/Tokyo:20250105T235959
DTSTAMP:20260424T085041
CREATED:20241231T004442Z
LAST-MODIFIED:20250106T005516Z
UID:16059-1735689600-1736121599@aomori-daibouken.com
SUMMARY:サンデー 初売り福袋2025 青森市 八戸市 弘前市 五所川原市 十和田市 三沢市 むつ市
DESCRIPTION:403 Forbiddentokubai.co.jp
URL:https://aomori-daibouken.com/event/16059
LOCATION:サンデー\, サンデー
CATEGORIES:1月青森イベント,五所川原初売りチラシ2025,八戸市クーポン,青森チラシ,青森市初売りチラシ2025
END:VEVENT
BEGIN:VEVENT
DTSTART;TZID=Asia/Tokyo:20250101T000000
DTEND;TZID=Asia/Tokyo:20250105T235959
DTSTAMP:20260424T085041
CREATED:20241229T020700Z
LAST-MODIFIED:20250106T005517Z
UID:15939-1735689600-1736121599@aomori-daibouken.com
SUMMARY:ドン・キホーテ 初売り福袋2025 青森市 弘前市 五所川原市 むつ市
DESCRIPTION:https://asp.shufoo.net/c/2024/12/24/c/3750855865504/index.html?shopId=850498&chirashiId=3750855865504&widgetId=hpasp.shufoo.net
URL:https://aomori-daibouken.com/event/15939
LOCATION:ドン・キホーテ\, ドン・キホーテ
CATEGORIES:1月青森イベント,むつ市イベント,五所川原初売りチラシ2025,五所川原市イベント,弘前初売りチラシ2025,弘前市イベント 今日 明日 土手町 2025,弘前市クーポン,青森市イベント 今日 明日 今週末 2025,青森市クーポン・お得情報,青森市初売りチラシ2025
END:VEVENT
BEGIN:VEVENT
DTSTART;TZID=Asia/Tokyo:20250101T000000
DTEND;TZID=Asia/Tokyo:20250102T235959
DTSTAMP:20260424T085041
CREATED:20241224T235119Z
LAST-MODIFIED:20250106T005522Z
UID:15455-1735689600-1735862399@aomori-daibouken.com
SUMMARY:五所川原市 エルム お年玉商品券 福袋2025
DESCRIPTION:https://elm-no-machi.jp/info/
URL:https://aomori-daibouken.com/event/15455
LOCATION:ELM（エルム）\, 〒037-0004 青森県五所川原市唐笠柳藤巻５１７−１
CATEGORIES:1月青森イベント,★青森県メインイベント,五所川原初売りチラシ2025,五所川原市イベント,青森お得情報
ATTACH;FMTTYPE=image/jpeg:https://aomori-daibouken.com/wp-content/uploads/2024/12/master-2.jpg
END:VEVENT
BEGIN:VEVENT
DTSTART;TZID=Asia/Tokyo:20250101T000000
DTEND;TZID=Asia/Tokyo:20250101T235959
DTSTAMP:20260424T085041
CREATED:20241229T054329Z
LAST-MODIFIED:20250106T005523Z
UID:15996-1735689600-1735775999@aomori-daibouken.com
SUMMARY:青森 ハッピードラッグ 初売り福袋2025
DESCRIPTION:http://pc4.pc3-unet.ocn.ne.jp/WebData/01656453_img/TileGroup0/4-0-0.jpg
URL:https://aomori-daibouken.com/event/15996
LOCATION:ハッピードラッグ\, ハッピードラッグ
CATEGORIES:1月青森イベント,五所川原初売りチラシ2025,八戸初売りチラシ2025,八戸市クーポン,弘前初売りチラシ2025,弘前市クーポン,青森お得情報,青森チラシ,青森市クーポン・お得情報,青森市スーパーチラシ,青森市初売りチラシ2025,青森県初売り・福袋チラシ2025
ATTACH;FMTTYPE=image/jpeg:https://aomori-daibouken.com/wp-content/uploads/2024/12/image-13-14.jpg
END:VEVENT
END:VCALENDAR